Workbook

Sheet TOP3 quantification
J1: 2017-062-01 Ihbe | K1: 2017-062-03 Ihbe | L1: 2017-062-11 Ihbe | M1: 2017-062-15 Ihbe | N1: 2017-062-21 Ihbe | O1: 2017-062-23 Ihbe | P1: 2017-062-25 Ihbe Pool 1 | Q1: 2017-062-25 Ihbe Pool 1 | R1: 2017-062-25 Ihbe Pool 1 | S1: 2017-062-02 Ihbe | T1: 2017-062-04 Ihbe | U1: 2017-062-12 Ihbe | V1: 2017-062-16 Ihbe | W1: 2017-062-22 Ihbe | X1: 2017-062-24 Ihbe | Y1: 2017-062-26 Ihbe Pool 2 | Z1: 2017-062-26 Ihbe Pool 2 | AA1: 2017-062-26 Ihbe Pool 2 | AB1: 2017-062-05 Ihbe | AC1: 2017-062-07 Ihbe | AD1: 2017-062-09 Ihbe | AE1: 2017-062-13 Ihbe | AF1: 2017-062-17 Ihbe | AG1: 2017-062-19 Ihbe | AH1: 2017-062-27 Ihbe Pool 3 | AI1: 2017-062-27 Ihbe Pool 3 | AJ1: 2017-062-27 Ihbe Pool 3 | AK1: 2017-062-06 Ihbe | AL1: 2017-062-08 Ihbe | AM1: 2017-062-10 Ihbe | AN1: 2017-062-14 Ihbe | AO1: 2017-062-18 Ihbe | AP1: 2017-062-20 Ihbe | AQ1: 2017-062-28 Ihbe Pool 4 | AR1: 2017-062-28 Ihbe Pool 4 | AS1: 2017-062-28 Ihbe Pool 4 | AT1: 2017-062-23 Ihbe | AU1: 2017-062-25 Ihbe Pool 1 | AV1: 2017-062-24 Ihbe | AW1: 2017-062-26 Ihbe Pool 2 | AX1: 2017-062-19 Ihbe | AY1: 2017-062-27 Ihbe Pool 3 | AZ1: 2017-062-20 Ihbe | BA1: 2017-062-28 Ihbe Pool 4
A2: description | B2: IEP | C2: mw | D2: max score | E2: accession | F2: reported peptides | G2: sequence coverage | H2: FDR level | I2: entry | J2: 01 Sham-GFP- 1 | K2: 01 Sham-GFP- 2 | L2: 01 Sham-GFP- 3 | M2: 01 Sham-GFP- 4 | N2: 01 Sham-GFP- 5 | O2: 01 Sham-GFP- 6 | P2: 05 Pool Sham-GFP- 1 | Q2: 05 Pool Sham-GFP- 2 | R2: 05 Pool Sham-GFP- 3 | S2: 02 Sham-GFP+ 1 | T2: 02 Sham-GFP+ 2 | U2: 02 Sham-GFP+ 3 | V2: 02 Sham-GFP+ 4 | W2: 02 Sham-GFP+ 5 | X2: 02 Sham-GFP+ 6 | Y2: 06 Pool Sham-GFP+ 1 | Z2: 06 Pool Sham-GFP+ 2 | AA2: 06 Pool Sham-GFP+ 3 | AB2: 03 Lesion-GFP- 1 | AC2: 03 Lesion-GFP- 2 | AD2: 03 Lesion-GFP- 3 | AE2: 03 Lesion-GFP- 4 | AF2: 03 Lesion-GFP- 5 | AG2: 03 Lesion-GFP- 6 | AH2: 07 Pool Lesion-GFP- 1 | AI2: 07 Pool Lesion-GFP- 2 | AJ2: 07 Pool Lesion-GFP- 3 | AK2: 04 Lesion-GFP+ 1 | AL2: 04 Lesion-GFP+ 2 | AM2: 04 Lesion-GFP+ 3 | AN2: 04 Lesion-GFP+ 4 | AO2: 04 Lesion-GFP+ 5 | AP2: 04 Lesion-GFP+ 6 | AQ2: 08 Pool Lesion-GFP+ 1 | AR2: 08 Pool Lesion-GFP+ 2 | AS2: 08 Pool Lesion-GFP+ 3 | AT2: AVERAGE 01 Sham-GFP- | AU2: AVERAGE 05 Pool Sham-GFP- | AV2: AVERAGE 02 Sham-GFP+ | AW2: AVERAGE 06 Pool Sham-GFP+ | AX2: AVERAGE 03 Lesion-GFP- | AY2: AVERAGE 07 Pool Lesion-GFP- | AZ2: AVERAGE 04 Lesion-GFP+ | BA2: AVERAGE 08 Pool Lesion-GFP+
A3: Cofilin-1 OS=Mus musculus GN=Cfl1 PE=1 SV=3 | B3: 8.22 | C3: 18787.686 | D3: 62902.09 | E3: P18760 | F3: 17 | G3: 81.33 | H3: 0 | I3: COF1_MOUSE | J3: 157185.91 | K3: 184260.82 | L3: 241121.99 | M3: 220975.29 | N3: 187788.37 | O3: 178261.99 | P3: 225481.56 | Q3: 204885.16 | R3: 217448.21 | S3: 179047.67 | T3: 182854.24 | U3: 290436.36 | V3: 257421.1 | W3: 277260.58 | X3: 249797.7 | Y3: 247206.87 | Z3: 260192.17 | AA3: 261306.01 | AB3: 201424.3 | AC3: 287040.73 | AD3: 276160.23 | AE3: 223714.28 | AF3: 177457.49 | AG3: 185132.44 | AH3: 240256.58 | AI3: 234276.21 | AJ3: 236990.36 | AK3: 223893.29 | AL3: 198789.69 | AM3: 179127.15 | AN3: 222694.72 | AO3: 237187.76 | AP3: 142969.06 | AQ3: 227232.59 | AR3: 208013.57 | AS3: 198792.74 | AT3: =IFERROR(SUM(J3:O3)/COUNTIF(J3:O3,">0"),) | AU3: =IFERROR(SUM(P3:R3)/COUNTIF(P3:R3,">0"),) | AV3: =IFERROR(SUM(S3:X3)/COUNTIF(S3:X3,">0"),) | AW3: =IFERROR(SUM(Y3:AA3)/COUNTIF(Y3:AA3,">0"),) | AX3: =IFERROR(SUM(AB3:AG3)/COUNTIF(AB3:AG3,">0"),) | AY3: =IFERROR(SUM(AH3:AJ3)/COUNTIF(AH3:AJ3,">0"),) | AZ3: =IFERROR(SUM(AK3:AP3)/COUNTIF(AK3:AP3,">0"),) | BA3: =IFERROR(SUM(AQ3:AS3)/COUNTIF(AQ3:AS3,">0"),)
A4: 14-3-3 protein zeta/delta OS=Mus musculus GN=Ywhaz PE=1 SV=1 | B4: 4.53 | C4: 27942.277 | D4: 61266.6 | E4: P63101 | F4: 18 | G4: 64.49 | H4: 0 | I4: 1433Z_MOUSE | J4: 84247.333 | K4: 255963 | L4: 224661.33 | M4: 194622 | N4: 250772.67 | O4: 229789.33 | P4: 246886.33 | Q4: 253558.33 | R4: 260662 | S4: 111963 | T4: 115076.33 | U4: 272392.67 | V4: 237473.67 | W4: 249649 | X4: 218627.67 | Y4: 199459.67 | Z4: 186516.67 | AA4: 160500 | AB4: 220284.33 | AC4: 282711 | AD4: 246574 | AE4: 282359 | AF4: 184431.67 | AG4: 244148 | AH4: 258572.33 | AI4: 269336 | AJ4: 233569.67 | AK4: 178995.33 | AL4: 167315.33 | AM4: 105527.33 | AN4: 194268.33 | AO4: 227323.33 | AP4: 103060 | AQ4: 149929 | AR4: 151600 | AS4: 141591 | AT4: =IFERROR(SUM(J4:O4)/COUNTIF(J4:O4,">0"),) | AU4: =IFERROR(SUM(P4:R4)/COUNTIF(P4:R4,">0"),) | AV4: =IFERROR(SUM(S4:X4)/COUNTIF(S4:X4,">0"),) | AW4: =IFERROR(SUM(Y4:AA4)/COUNTIF(Y4:AA4,">0"),) | AX4: =IFERROR(SUM(AB4:AG4)/COUNTIF(AB4:AG4,">0"),) | AY4: =IFERROR(SUM(AH4:AJ4)/COUNTIF(AH4:AJ4,">0"),) | AZ4: =IFERROR(SUM(AK4:AP4)/COUNTIF(AK4:AP4,">0"),) | BA4: =IFERROR(SUM(AQ4:AS4)/COUNTIF(AQ4:AS4,">0"),)
A5: Hemoglobin subunit beta-1 OS=Mus musculus GN=Hbb-b1 PE=1 SV=2 | B5: 7.5 | C5: 15954.26 | D5: 53548.35 | E5: P02088 | F5: 8 | G5: 67.35 | H5: 0 | I5: HBB1_MOUSE | J5: 203765.06 | K5: 209445.11 | L5: 154515.45 | M5: 253974.31 | N5: 185616.11 | O5: 76148 | P5: 229521.45 | Q5: 228005.21 | R5: 253559.12 | S5: 25043.338 | T5: 41038.602 | U5: 25162.905 | V5: 26669 | W5: 35087.746 | X5: 28202.325 | Y5: 24205.224 | Z5: 28199.163 | AA5: 30239.122 | AB5: 228284.3 | AC5: 224980.88 | AD5: 288876.17 | AE5: 113957.99 | AF5: 306690.86 | AG5: 181463.67 | AH5: 231269.46 | AI5: 260101.93 | AJ5: 276796.84 | AK5: 52688.937 | AL5: 44730.421 | AM5: 17389.478 | AN5: 30080.977 | AO5: 38431.143 | AP5: 20911.249 | AQ5: 30719.905 | AR5: 35246.536 | AS5: 34451.906 | AT5: =IFERROR(SUM(J5:O5)/COUNTIF(J5:O5,">0"),) | AU5: =IFERROR(SUM(P5:R5)/COUNTIF(P5:R5,">0"),) | AV5: =IFERROR(SUM(S5:X5)/COUNTIF(S5:X5,">0"),) | AW5: =IFERROR(SUM(Y5:AA5)/COUNTIF(Y5:AA5,">0"),) | AX5: =IFERROR(SUM(AB5:AG5)/COUNTIF(AB5:AG5,">0"),) | AY5: =IFERROR(SUM(AH5:AJ5)/COUNTIF(AH5:AJ5,">0"),) | AZ5: =IFERROR(SUM(AK5:AP5)/COUNTIF(AK5:AP5,">0"),) | BA5: =IFERROR(SUM(AQ5:AS5)/COUNTIF(AQ5:AS5,">0"),)
A6: 14-3-3 protein epsilon OS=Mus musculus GN=Ywhae PE=1 SV=1 | B6: 4.44 | C6: 29345.049 | D6: 51386.41 | E6: P62259 | F6: 22 | G6: 72.94 | H6: 0 | I6: 1433E_MOUSE | J6: 82379 | K6: 200405.67 | L6: 197468 | M6: 163393.67 | N6: 226988.33 | O6: 200031 | P6: 217745 | Q6: 210027.67 | R6: 212877.33 | S6: 132120.33 | T6: 112841.67 | U6: 250968 | V6: 205809.67 | W6: 261330.67 | X6: 212005 | Y6: 184479 | Z6: 197560.33 | AA6: 144784.33 | AB6: 168456.67 | AC6: 204908.33 | AD6: 210801.33 | AE6: 211156.33 | AF6: 145602.67 | AG6: 195478.67 | AH6: 186342 | AI6: 182085 | AJ6: 190436 | AK6: 173863.33 | AL6: 141517 | AM6: 141618 | AN6: 160001.33 | AO6: 208922 | AP6: 139095.67 | AQ6: 158328.67 | AR6: 173591 | AS6: 142731.33 | AT6: =IFERROR(SUM(J6:O6)/COUNTIF(J6:O6,">0"),) | AU6: =IFERROR(SUM(P6:R6)/COUNTIF(P6:R6,">0"),) | AV6: =IFERROR(SUM(S6:X6)/COUNTIF(S6:X6,">0"),) | AW6: =IFERROR(SUM(Y6:AA6)/COUNTIF(Y6:AA6,">0"),) | AX6: =IFERROR(SUM(AB6:AG6)/COUNTIF(AB6:AG6,">0"),) | AY6: =IFERROR(SUM(AH6:AJ6)/COUNTIF(AH6:AJ6,">0"),) | AZ6: =IFERROR(SUM(AK6:AP6)/COUNTIF(AK6:AP6,">0"),) | BA6: =IFERROR(SUM(AQ6:AS6)/COUNTIF(AQ6:AS6,">0"),)
A7: Keratin, type I cytoskeletal 9 (Cytokeratin-9) (CK-9) (Keratin-9) (K9) | B7: 5.01 | C7: 62357.655 | D7: 50132.37 | E7: P35527 | F7: 36 | G7: 64.85 | H7: 0 | I7: K1C9_HUMAN | J7: 134979 | K7: 152802.67 | L7: 509940 | M7: 227204.33 | N7: 237367.67 | O7: 393585.67 | P7: 301400 | Q7: 307772 | R7: 317738 | S7: 229830.33 | T7: 301834.67 | U7: 192505.33 | V7: 254340 | W7: 329439.33 | X7: 273850 | Y7: 287708.33 | Z7: 282742 | AA7: 271892 | AB7: 220773.33 | AC7: 373444.67 | AD7: 229352.33 | AE7: 169629 | AF7: 94546.667 | AG7: 64696 | AH7: 200017 | AI7: 202567.33 | AJ7: 206980 | AK7: 266191.33 | AL7: 286266.33 | AM7: 308157.33 | AN7: 337076 | AO7: 188660.67 | AP7: 261920 | AQ7: 284879.33 | AR7: 288863 | AS7: 357806.67 | AT7: =IFERROR(SUM(J7:O7)/COUNTIF(J7:O7,">0"),) | AU7: =IFERROR(SUM(P7:R7)/COUNTIF(P7:R7,">0"),) | AV7: =IFERROR(SUM(S7:X7)/COUNTIF(S7:X7,">0"),) | AW7: =IFERROR(SUM(Y7:AA7)/COUNTIF(Y7:AA7,">0"),) | AX7: =IFERROR(SUM(AB7:AG7)/COUNTIF(AB7:AG7,">0"),) | AY7: =IFERROR(SUM(AH7:AJ7)/COUNTIF(AH7:AJ7,">0"),) | AZ7: =IFERROR(SUM(AK7:AP7)/COUNTIF(AK7:AP7,">0"),) | BA7: =IFERROR(SUM(AQ7:AS7)/COUNTIF(AQ7:AS7,">0"),)
A8: Actin, cytoplasmic 2 OS=Mus musculus GN=Actg1 PE=1 SV=1 | B8: 5.16 | C8: 42135.125 | D8: 47655.81 | E8: P63260 | F8: 29 | G8: 83.47 | H8: 0 | I8: ACTG_MOUSE | J8: 368863.99 | K8: 239896.42 | L8: 307560.81 | M8: 368626.7 | N8: 194782.69 | O8: 261522.71 | P8: 356888.46 | Q8: 348929.41 | R8: 317991.48 | S8: 242785.75 | T8: 233799.18 | U8: 418664.03 | V8: 404113.16 | W8: 341257.52 | X8: 359866.54 | Y8: 412520.18 | Z8: 368610 | AA8: 383325.9 | AB8: 332624.86 | AC8: 375388.93 | AD8: 355794.04 | AE8: 299926.15 | AF8: 422683.5 | AG8: 267151.07 | AH8: 396524.21 | AI8: 398386.41 | AJ8: 375254.36 | AK8: 342160.09 | AL8: 323656.41 | AM8: 248762.11 | AN8: 320224.85 | AO8: 334642.12 | AP8: 227473.66 | AQ8: 354741.42 | AR8: 351410.02 | AS8: 318419.14 | AT8: =IFERROR(SUM(J8:O8)/COUNTIF(J8:O8,">0"),) | AU8: =IFERROR(SUM(P8:R8)/COUNTIF(P8:R8,">0"),) | AV8: =IFERROR(SUM(S8:X8)/COUNTIF(S8:X8,">0"),) | AW8: =IFERROR(SUM(Y8:AA8)/COUNTIF(Y8:AA8,">0"),) | AX8: =IFERROR(SUM(AB8:AG8)/COUNTIF(AB8:AG8,">0"),) | AY8: =IFERROR(SUM(AH8:AJ8)/COUNTIF(AH8:AJ8,">0"),) | AZ8: =IFERROR(SUM(AK8:AP8)/COUNTIF(AK8:AP8,">0"),) | BA8: =IFERROR(SUM(AQ8:AS8)/COUNTIF(AQ8:AS8,">0"),)
A9: Keratin, type I cytoskeletal 10 (Cytokeratin-10) (CK-10) (Keratin-10) (K10) | B9: 4.96 | C9: 59738.859 | D9: 47389.64 | E9: P13645 | F9: 29 | G9: 47.39 | H9: 0 | I9: K1C10_HUMAN | J9: 207458.3 | K9: 212143.7 | L9: 312035.41 | M9: 230964.16 | N9: 241540.29 | O9: 307965.69 | P9: 291617.2 | Q9: 279029.04 | R9: 256368.72 | S9: 299736.11 | T9: 373460 | U9: 252195.27 | V9: 318247.89 | W9: 415673 | X9: 368322.41 | Y9: 344989.79 | Z9: 341489.03 | AA9: 342174.69 | AB9: 343139.83 | AC9: 402503.69 | AD9: 328810.69 | AE9: 251133.67 | AF9: 387569.41 | AG9: 117027.93 | AH9: 353815.11 | AI9: 339003.04 | AJ9: 319809.82 | AK9: 340048.76 | AL9: 360372 | AM9: 331604.72 | AN9: 370012.22 | AO9: 266973.38 | AP9: 310123.99 | AQ9: 351381.26 | AR9: 372414.98 | AS9: 361987.76 | AT9: =IFERROR(SUM(J9:O9)/COUNTIF(J9:O9,">0"),) | AU9: =IFERROR(SUM(P9:R9)/COUNTIF(P9:R9,">0"),) | AV9: =IFERROR(SUM(S9:X9)/COUNTIF(S9:X9,">0"),) | AW9: =IFERROR(SUM(Y9:AA9)/COUNTIF(Y9:AA9,">0"),) | AX9: =IFERROR(SUM(AB9:AG9)/COUNTIF(AB9:AG9,">0"),) | AY9: =IFERROR(SUM(AH9:AJ9)/COUNTIF(AH9:AJ9,">0"),) | AZ9: =IFERROR(SUM(AK9:AP9)/COUNTIF(AK9:AP9,">0"),) | BA9: =IFERROR(SUM(AQ9:AS9)/COUNTIF(AQ9:AS9,">0"),)
A10: Keratin, type I cytoskeletal 14 (Cytokeratin-14) (CK-14) (Keratin-14) (K14) | B10: 4.9 | C10: 51906.757 | D10: 47368.33 | E10: P02533 | F10: 37 | G10: 65.04 | H10: 0 | I10: K1C14_HUMAN | J10: 30590.807 | K10: 34622.567 | L10: 358756.21 | M10: 54292.048 | N10: 45723.267 | O10: 96029.595 | P10: 153357.22 | Q10: 140595.35 | R10: 149003.44 | S10: 66837.032 | T10: 106439.87 | U10: 58191.517 | V10: 110437.63 | W10: 116535.71 | X10: 178401.77 | Y10: 112265.13 | Z10: 110700.54 | AA10: 110713.12 | AB10: 62527.228 | AC10: 120815.13 | AD10: 66090.713 | AE10: 54206.834 | AF10: 27714.009 | AG10: 14905.88 | AH10: 58494.988 | AI10: 61697.716 | AJ10: 62843.535 | AK10: 205287.05 | AL10: 215176.16 | AM10: 126407.09 | AN10: 168585.5 | AO10: 63905.485 | AP10: 89281.353 | AQ10: 133611.54 | AR10: 141473.67 | AS10: 136885.5 | AT10: =IFERROR(SUM(J10:O10)/COUNTIF(J10:O10,">0"),) | AU10: =IFERROR(SUM(P10:R10)/COUNTIF(P10:R10,">0"),) | AV10: =IFERROR(SUM(S10:X10)/COUNTIF(S10:X10,">0"),) | AW10: =IFERROR(SUM(Y10:AA10)/COUNTIF(Y10:AA10,">0"),) | AX10: =IFERROR(SUM(AB10:AG10)/COUNTIF(AB10:AG10,">0"),) | AY10: =IFERROR(SUM(AH10:AJ10)/COUNTIF(AH10:AJ10,">0"),) | AZ10: =IFERROR(SUM(AK10:AP10)/COUNTIF(AK10:AP10,">0"),) | BA10: =IFERROR(SUM(AQ10:AS10)/COUNTIF(AQ10:AS10,">0"),)
A11: Fatty acid-binding protein, brain OS=Mus musculus GN=Fabp7 PE=1 SV=2 | B11: 5.3 | C11: 15178.142 | D11: 46072.44 | E11: P51880 | F11: 6 | G11: 60.61 | H11: 0 | I11: FABP7_MOUSE | J11: 116152 | K11: 120091 | L11: 118055.67 | M11: 151073.33 | N11: 202379.67 | O11: 182819.67 | P11: 186691.67 | Q11: 147475.33 | R11: 140847 | S11: 66132.667 | T11: 75878 | U11: 110206.33 | V11: 122238 | W11: 126672.67 | X11: 142565 | Y11: 102480.67 | Z11: 101050 | AA11: 92604 | AB11: 356040 | AC11: 193169.67 | AD11: 119067 | AE11: 73738.333 | AF11: 369902.67 | AG11: 162381.67 | AH11: 278517.33 | AI11: 284041.67 | AJ11: 237127.67 | AK11: 110537 | AL11: 84502.667 | AM11: 116057.33 | AN11: 93186.333 | AO11: 170614.33 | AP11: 88931.333 | AQ11: 99154 | AR11: 108635 | AS11: 89442.333 | AT11: =IFERROR(SUM(J11:O11)/COUNTIF(J11:O11,">0"),) | AU11: =IFERROR(SUM(P11:R11)/COUNTIF(P11:R11,">0"),) | AV11: =IFERROR(SUM(S11:X11)/COUNTIF(S11:X11,">0"),) | AW11: =IFERROR(SUM(Y11:AA11)/COUNTIF(Y11:AA11,">0"),) | AX11: =IFERROR(SUM(AB11:AG11)/COUNTIF(AB11:AG11,">0"),) | AY11: =IFERROR(SUM(AH11:AJ11)/COUNTIF(AH11:AJ11,">0"),) | AZ11: =IFERROR(SUM(AK11:AP11)/COUNTIF(AK11:AP11,">0"),) | BA11: =IFERROR(SUM(AQ11:AS11)/COUNTIF(AQ11:AS11,">0"),)
A12: Histone H2AX OS=Mus musculus GN=H2afx PE=1 SV=2 | B12: 11.16 | C12: 15142.614 | D12: 46048.46 | E12: P27661 | F12: 12 | G12: 53.15 | H12: 0 | I12: H2AX_MOUSE | J12: 93371.641 | K12: 113190.38 | L12: 97345.902 | M12: 82254.441 | N12: 67241.848 | O12: 102423.78 | P12: 54295.071 | Q12: 76460.264 | R12: 74916.957 | S12: 80208.545 | T12: 74185.598 | U12: 92880.704 | V12: 122612.21 | W12: 127437.87 | X12: 147173.5 | Y12: 85495.748 | Z12: 97251.989 | AA12: 83055.116 | AB12: 127241.56 | AC12: 107835.03 | AD12: 105259.51 | AE12: 107193.9 | AF12: 102994.58 | AG12: 104422.72 | AH12: 96460.968 | AI12: 89407.029 | AJ12: 72044.983 | AK12: 162374.65 | AL12: 170674.1 | AM12: 108293.16 | AN12: 171716.64 | AO12: 167169.07 | AP12: 112755.04 | AQ12: 73530.695 | AR12: 70593.946 | AS12: 59046.708 | AT12: =IFERROR(SUM(J12:O12)/COUNTIF(J12:O12,">0"),) | AU12: =IFERROR(SUM(P12:R12)/COUNTIF(P12:R12,">0"),) | AV12: =IFERROR(SUM(S12:X12)/COUNTIF(S12:X12,">0"),) | AW12: =IFERROR(SUM(Y12:AA12)/COUNTIF(Y12:AA12,">0"),) | AX12: =IFERROR(SUM(AB12:AG12)/COUNTIF(AB12:AG12,">0"),) | AY12: =IFERROR(SUM(AH12:AJ12)/COUNTIF(AH12:AJ12,">0"),) | AZ12: =IFERROR(SUM(AK12:AP12)/COUNTIF(AK12:AP12,">0"),) | BA12: =IFERROR(SUM(AQ12:AS12)/COUNTIF(AQ12:AS12,">0"),)
A13: Keratin, type I cytoskeletal 16 (Cytokeratin-16) (CK-16) (Keratin-16) (K16) | B13: 4.79 | C13: 51610.074 | D13: 46030.72 | E13: P08779 | F13: 37 | G13: 66.81 | H13: 0 | I13: K1C16_HUMAN | J13: 19154.631 | K13: 25737.168 | L13: 437504.43 | M13: 36894.502 | N13: 36340.778 | O13: 64717.49 | P13: 184736.78 | Q13: 172253.05 | R13: 150529.56 | S13: 34652.923 | T13: 64697.652 | U13: 35851.981 | V13: 90604.188 | W13: 76212.739 | X13: 245107.07 | Y13: 102353.02 | Z13: 82601.186 | AA13: 80814.486 | AB13: 40493.041 | AC13: 123136.62 | AD13: 32413.639 | AE13: 55638.29 | AF13: 19186.145 | AG13: 7311.7907 | AH13: 37577.99 | AI13: 37110.886 | AJ13: 37321.048 | AK13: 422554.39 | AL13: 230468.34 | AM13: 87416.82 | AN13: 114740.7 | AO13: 48886.185 | AP13: 50763.158 | AQ13: 216625.48 | AR13: 202901.55 | AS13: 188695.96 | AT13: =IFERROR(SUM(J13:O13)/COUNTIF(J13:O13,">0"),) | AU13: =IFERROR(SUM(P13:R13)/COUNTIF(P13:R13,">0"),) | AV13: =IFERROR(SUM(S13:X13)/COUNTIF(S13:X13,">0"),) | AW13: =IFERROR(SUM(Y13:AA13)/COUNTIF(Y13:AA13,">0"),) | AX13: =IFERROR(SUM(AB13:AG13)/COUNTIF(AB13:AG13,">0"),) | AY13: =IFERROR(SUM(AH13:AJ13)/COUNTIF(AH13:AJ13,">0"),) | AZ13: =IFERROR(SUM(AK13:AP13)/COUNTIF(AK13:AP13,">0"),) | BA13: =IFERROR(SUM(AQ13:AS13)/COUNTIF(AQ13:AS13,">0"),)
A14: Keratin, type II cytoskeletal 6A (Cytokeratin-6A) (CK 6A) (K6a keratin) | B14: 8.05 | C14: 60330.164 | D14: 45472.99 | E14: P02538 | F14: 35 | G14: 51.77 | H14: 0 | I14: K2C6A_HUMAN | J14: 24615.022 | K14: 39627.027 | L14: 222186.75 | M14: 42478.578 | N14: 49441.491 | O14: 61467.24 | P14: 85807.731 | Q14: 82323.453 | R14: 88369.501 | S14: 49244.737 | T14: 62806.968 | U14: 37361.144 | V14: 55736.485 | W14: 67453.867 | X14: 100766.36 | Y14: 78692.251 | Z14: 75184.57 | AA14: 73395.287 | AB14: 28493.662 | AC14: 67214.373 | AD14: 28040.403 | AE14: 33651.518 | AF14: 40404.524 | AG14: 7646.4056 | AH14: 35505.627 | AI14: 33716.82 | AJ14: 39106.511 | AK14: 227756.11 | AL14: 135781.11 | AM14: 66998.313 | AN14: 98704.895 | AO14: 40633.128 | AP14: 51304.637 | AQ14: 155000.14 | AR14: 150458.78 | AS14: 164903.1 | AT14: =IFERROR(SUM(J14:O14)/COUNTIF(J14:O14,">0"),) | AU14: =IFERROR(SUM(P14:R14)/COUNTIF(P14:R14,">0"),) | AV14: =IFERROR(SUM(S14:X14)/COUNTIF(S14:X14,">0"),) | AW14: =IFERROR(SUM(Y14:AA14)/COUNTIF(Y14:AA14,">0"),) | AX14: =IFERROR(SUM(AB14:AG14)/COUNTIF(AB14:AG14,">0"),) | AY14: =IFERROR(SUM(AH14:AJ14)/COUNTIF(AH14:AJ14,">0"),) | AZ14: =IFERROR(SUM(AK14:AP14)/COUNTIF(AK14:AP14,">0"),) | BA14: =IFERROR(SUM(AQ14:AS14)/COUNTIF(AQ14:AS14,">0"),)
A15: Histone H2B type 1-C/E/G OS=Mus musculus GN=Hist1h2bc PE=1 SV=3 | B15: 10.74 | C15: 13906.163 | D15: 44558.33 | E15: Q6ZWY9 | F15: 13 | G15: 68.25 | H15: 0 | I15: H2B1C_MOUSE | J15: 322749.26 | K15: 359237.67 | L15: 294942.08 | M15: 327206.83 | N15: 214357.79 | O15: 311613.88 | P15: 322716.96 | Q15: 352121.19 | R15: 340232.82 | S15: 351001.57 | T15: 291898.14 | U15: 312393.2 | V15: 353539.97 | W15: 314837.95 | X15: 301113.11 | AB15: 283797.54 | AC15: 362070.12 | AD15: 392300.96 | AE15: 260971.32 | AF15: 360657.42 | AG15: 275668.89 | AH15: 188927.44 | AI15: 210488.33 | AJ15: 216919.82 | AK15: 199846.96 | AL15: 195310.28 | AM15: 181471.67 | AN15: 198593 | AO15: 218646.77 | AP15: 119194.15 | AT15: =IFERROR(SUM(J15:O15)/COUNTIF(J15:O15,">0"),) | AU15: =IFERROR(SUM(P15:R15)/COUNTIF(P15:R15,">0"),) | AV15: =IFERROR(SUM(S15:X15)/COUNTIF(S15:X15,">0"),) | AW15: =IFERROR(SUM(Y15:AA15)/COUNTIF(Y15:AA15,">0"),) | AX15: =IFERROR(SUM(AB15:AG15)/COUNTIF(AB15:AG15,">0"),) | AY15: =IFERROR(SUM(AH15:AJ15)/COUNTIF(AH15:AJ15,">0"),) | AZ15: =IFERROR(SUM(AK15:AP15)/COUNTIF(AK15:AP15,">0"),) | BA15: =IFERROR(SUM(AQ15:AS15)/COUNTIF(AQ15:AS15,">0"),)
A16: Lamin-B1 OS=Mus musculus GN=Lmnb1 PE=1 SV=3 | B16: 4.92 | C16: 67013.818 | D16: 42339.2 | E16: P14733 | F16: 50 | G16: 72.96 | H16: 0 | I16: LMNB1_MOUSE | J16: 145504.67 | K16: 228891 | L16: 170835 | M16: 202520.67 | N16: 246623.67 | O16: 192249 | P16: 202264.67 | Q16: 215992 | R16: 195331.33 | S16: 175209 | T16: 159590.33 | U16: 226412.33 | V16: 236603.33 | W16: 246483.67 | X16: 281288 | Y16: 211833.67 | Z16: 201801.33 | AA16: 182950.67 | AB16: 210476.33 | AC16: 253553.33 | AD16: 198762 | AE16: 155885.67 | AF16: 203022 | AG16: 218018.67 | AH16: 207719 | AI16: 231059.67 | AJ16: 198363 | AK16: 188441 | AL16: 209392.33 | AM16: 167145 | AN16: 225693 | AO16: 277987.67 | AP16: 128375.67 | AQ16: 195484.33 | AR16: 186138.33 | AS16: 174423.33 | AT16: =IFERROR(SUM(J16:O16)/COUNTIF(J16:O16,">0"),) | AU16: =IFERROR(SUM(P16:R16)/COUNTIF(P16:R16,">0"),) | AV16: =IFERROR(SUM(S16:X16)/COUNTIF(S16:X16,">0"),) | AW16: =IFERROR(SUM(Y16:AA16)/COUNTIF(Y16:AA16,">0"),) | AX16: =IFERROR(SUM(AB16:AG16)/COUNTIF(AB16:AG16,">0"),) | AY16: =IFERROR(SUM(AH16:AJ16)/COUNTIF(AH16:AJ16,">0"),) | AZ16: =IFERROR(SUM(AK16:AP16)/COUNTIF(AK16:AP16,">0"),) | BA16: =IFERROR(SUM(AQ16:AS16)/COUNTIF(AQ16:AS16,">0"),)
A17: Thymosin beta-4 OS=Mus musculus GN=Tmsb4x PE=1 SV=1 | B17: 4.82 | C17: 5679.487 | D17: 41334.38 | E17: P20065 | F17: 5 | G17: 72 | H17: 0 | I17: TYB4_MOUSE | J17: 56482.518 | K17: 190851.19 | L17: 180327.58 | M17: 221039.6 | N17: 174690.8 | O17: 120728.94 | P17: 174255 | Q17: 142027 | R17: 163122.67 | S17: 73951.054 | T17: 79833.604 | U17: 186189.3 | V17: 151582.04 | W17: 95837.144 | X17: 95924.801 | Y17: 142460 | Z17: 148550 | AA17: 111593.5 | AB17: 143993.67 | AC17: 208427.33 | AD17: 182893.67 | AE17: 215246.67 | AF17: 184874.33 | AG17: 179921.67 | AH17: 222196.33 | AI17: 213960.33 | AJ17: 121073.33 | AK17: 88156.391 | AL17: 81360.338 | AM17: 64672.441 | AN17: 79047.114 | AO17: 69753.898 | AP17: 69869.389 | AQ17: 91619.652 | AR17: 85058.049 | AS17: 61647 | AT17: =IFERROR(SUM(J17:O17)/COUNTIF(J17:O17,">0"),) | AU17: =IFERROR(SUM(P17:R17)/COUNTIF(P17:R17,">0"),) | AV17: =IFERROR(SUM(S17:X17)/COUNTIF(S17:X17,">0"),) | AW17: =IFERROR(SUM(Y17:AA17)/COUNTIF(Y17:AA17,">0"),) | AX17: =IFERROR(SUM(AB17:AG17)/COUNTIF(AB17:AG17,">0"),) | AY17: =IFERROR(SUM(AH17:AJ17)/COUNTIF(AH17:AJ17,">0"),) | AZ17: =IFERROR(SUM(AK17:AP17)/COUNTIF(AK17:AP17,">0"),) | BA17: =IFERROR(SUM(AQ17:AS17)/COUNTIF(AQ17:AS17,">0"),)
A18: Histone H2B type 1-P OS=Mus musculus GN=Hist1h2bp PE=1 SV=3 | B18: 10.74 | C18: 13992.297 | D18: 41160.32 | E18: Q8CGP2 | F18: 14 | G18: 73.02 | H18: 0 | I18: H2B1P_MOUSE | J18: 17236.808 | K18: 12834.605 | L18: 10446.308 | M18: 15123.776 | N18: 7697.2235 | O18: 13460.677 | P18: 22895.734 | Q18: 32846.423 | R18: 24150.614 | S18: 60578.323 | T18: 54764.045 | U18: 64165.006 | V18: 73340.782 | W18: 64164.006 | X18: 53011.537 | Y18: 383887.81 | Z18: 340797.02 | AA18: 336808.08 | AB18: 20463.715 | AC18: 14414.211 | AD18: 17780.718 | AE18: 11433.119 | AF18: 16630.11 | AG18: 17337.835 | AH18: 211825.82 | AI18: 244497.95 | AJ18: 240379.91 | AK18: 146445.47 | AL18: 164023.15 | AM18: 155372.43 | AN18: 162472.03 | AO18: 186290.83 | AP18: 95985.785 | AQ18: 397744.87 | AR18: 267377.08 | AS18: 318817.35 | AT18: =IFERROR(SUM(J18:O18)/COUNTIF(J18:O18,">0"),) | AU18: =IFERROR(SUM(P18:R18)/COUNTIF(P18:R18,">0"),) | AV18: =IFERROR(SUM(S18:X18)/COUNTIF(S18:X18,">0"),) | AW18: =IFERROR(SUM(Y18:AA18)/COUNTIF(Y18:AA18,">0"),) | AX18: =IFERROR(SUM(AB18:AG18)/COUNTIF(AB18:AG18,">0"),) | AY18: =IFERROR(SUM(AH18:AJ18)/COUNTIF(AH18:AJ18,">0"),) | AZ18: =IFERROR(SUM(AK18:AP18)/COUNTIF(AK18:AP18,">0"),) | BA18: =IFERROR(SUM(AQ18:AS18)/COUNTIF(AQ18:AS18,">0"),)
A19: Histone H2B type 3-A OS=Mus musculus GN=Hist3h2ba PE=1 SV=3 | B19: 10.79 | C19: 13994.229 | D19: 41108.46 | E19: Q9D2U9 | F19: 12 | G19: 72.22 | H19: 0 | I19: H2B3A_MOUSE | J19: 164755.28 | K19: 108951.53 | L19: 99627.4 | M19: 137385.01 | N19: 89326.317 | O19: 145814.81 | P19: 106636.92 | Q19: 172794.99 | R19: 102794.38 | S19: 71429.075 | T19: 74579.188 | U19: 107253.89 | V19: 132577.28 | W19: 112392.3 | X19: 132471.95 | Y19: 98767.495 | Z19: 91110.238 | AA19: 72718.623 | AB19: 139069.51 | AC19: 85761.472 | AD19: 125246.23 | AE19: 60821.459 | AF19: 102254.86 | AG19: 131737.04 | AH19: 84329.761 | AI19: 88418.883 | AJ19: 84071.829 | AK19: 87499.232 | AL19: 107092.24 | AM19: 93344.062 | AN19: 105970.29 | AO19: 140504.12 | AP19: 54612.66 | AQ19: 87490.398 | AR19: 77594.83 | AS19: 56971.387 | AT19: =IFERROR(SUM(J19:O19)/COUNTIF(J19:O19,">0"),) | AU19: =IFERROR(SUM(P19:R19)/COUNTIF(P19:R19,">0"),) | AV19: =IFERROR(SUM(S19:X19)/COUNTIF(S19:X19,">0"),) | AW19: =IFERROR(SUM(Y19:AA19)/COUNTIF(Y19:AA19,">0"),) | AX19: =IFERROR(SUM(AB19:AG19)/COUNTIF(AB19:AG19,">0"),) | AY19: =IFERROR(SUM(AH19:AJ19)/COUNTIF(AH19:AJ19,">0"),) | AZ19: =IFERROR(SUM(AK19:AP19)/COUNTIF(AK19:AP19,">0"),) | BA19: =IFERROR(SUM(AQ19:AS19)/COUNTIF(AQ19:AS19,">0"),)
A20: Tubulin alpha-1A chain OS=Mus musculus GN=Tuba1a PE=1 SV=1 | B20: 4.76 | C20: 50820.041 | D20: 40904.28 | E20: P68369 | F20: 25 | G20: 56.76 | H20: 0 | I20: TBA1A_MOUSE | J20: 231389.54 | K20: 287541.73 | L20: 268405.93 | M20: 304138.43 | N20: 282147.95 | O20: 264384.74 | P20: 342345.63 | Q20: 340087.52 | R20: 331544.34 | S20: 323756.73 | T20: 305566.63 | U20: 418800.49 | V20: 440487.6 | W20: 438145.29 | X20: 445392.41 | Y20: 482485.69 | Z20: 475922.93 | AA20: 411364.22 | AB20: 307908.72 | AC20: 312921.8 | AD20: 316861.92 | AE20: 315134.72 | AF20: 289498.43 | AG20: 287750.31 | AH20: 352316.31 | AI20: 340843.04 | AJ20: 329095.29 | AK20: 357048.89 | AL20: 370029.89 | AM20: 313148.79 | AN20: 378390.44 | AO20: 402918.38 | AP20: 289697.22 | AQ20: 383929.13 | AR20: 414579.05 | AS20: 343727.12 | AT20: =IFERROR(SUM(J20:O20)/COUNTIF(J20:O20,">0"),) | AU20: =IFERROR(SUM(P20:R20)/COUNTIF(P20:R20,">0"),) | AV20: =IFERROR(SUM(S20:X20)/COUNTIF(S20:X20,">0"),) | AW20: =IFERROR(SUM(Y20:AA20)/COUNTIF(Y20:AA20,">0"),) | AX20: =IFERROR(SUM(AB20:AG20)/COUNTIF(AB20:AG20,">0"),) | AY20: =IFERROR(SUM(AH20:AJ20)/COUNTIF(AH20:AJ20,">0"),) | AZ20: =IFERROR(SUM(AK20:AP20)/COUNTIF(AK20:AP20,">0"),) | BA20: =IFERROR(SUM(AQ20:AS20)/COUNTIF(AQ20:AS20,">0"),)
A21: Histone H2A type 2-C OS=Mus musculus GN=Hist2h2ac PE=1 SV=3 | B21: 11.33 | C21: 13988.393 | D21: 39819.52 | E21: Q64523 | F21: 6 | G21: 37.98 | H21: 0 | I21: H2A2C_MOUSE | J21: 42118.932 | K21: 66970.959 | L21: 47598.372 | M21: 91854.455 | N21: 42175.91 | O21: 94998.331 | P21: 17072.633 | Q21: 59728.65 | R21: 36771.56 | S21: 2848.7049 | T21: 3683.7047 | U21: 4913.7885 | V21: 4672.3891 | W21: 6151.4031 | X21: 6684.5506 | AB21: 125739.5 | AC21: 73400.806 | AD21: 83128.319 | AE21: 45344.16 | AF21: 109544.47 | AG21: 74551.956 | AH21: 9386.7756 | AI21: 7775.8183 | AJ21: 5743.6153 | AT21: =IFERROR(SUM(J21:O21)/COUNTIF(J21:O21,">0"),) | AU21: =IFERROR(SUM(P21:R21)/COUNTIF(P21:R21,">0"),) | AV21: =IFERROR(SUM(S21:X21)/COUNTIF(S21:X21,">0"),) | AW21: =IFERROR(SUM(Y21:AA21)/COUNTIF(Y21:AA21,">0"),) | AX21: =IFERROR(SUM(AB21:AG21)/COUNTIF(AB21:AG21,">0"),) | AY21: =IFERROR(SUM(AH21:AJ21)/COUNTIF(AH21:AJ21,">0"),) | AZ21: =IFERROR(SUM(AK21:AP21)/COUNTIF(AK21:AP21,">0"),) | BA21: =IFERROR(SUM(AQ21:AS21)/COUNTIF(AQ21:AS21,">0"),)
A22: Histone H2A type 1-H OS=Mus musculus GN=Hist1h2ah PE=1 SV=3 | B22: 11.45 | C22: 13950.282 | D22: 39819.52 | E22: Q8CGP6 | F22: 6 | G22: 38.28 | H22: 0 | I22: H2A1H_MOUSE | J22: 160677.64 | K22: 304896.1 | L22: 207360.16 | M22: 257440.92 | N22: 209701.58 | O22: 194978.35 | P22: 210755.33 | Q22: 370265.75 | R22: 319634.57 | S22: 128480.7 | T22: 166140.4 | U22: 282889.15 | V22: 207634.6 | W22: 321191.81 | X22: 301482.89 | Y22: 187109.71 | Z22: 270109.59 | AA22: 139128.48 | AB22: 251882.92 | AC22: 197561.56 | AD22: 211567.26 | AE22: 122045.84 | AF22: 237137.95 | AG22: 174264.32 | AH22: 407122.92 | AI22: 341473.86 | AJ22: 250524.6 | AK22: 150710.8 | AL22: 148838.23 | AM22: 73306.679 | AN22: 142922.07 | AO22: 143878.12 | AP22: 90600.458 | AQ22: 258516.89 | AR22: 275654.05 | AS22: 129350.27 | AT22: =IFERROR(SUM(J22:O22)/COUNTIF(J22:O22,">0"),) | AU22: =IFERROR(SUM(P22:R22)/COUNTIF(P22:R22,">0"),) | AV22: =IFERROR(SUM(S22:X22)/COUNTIF(S22:X22,">0"),) | AW22: =IFERROR(SUM(Y22:AA22)/COUNTIF(Y22:AA22,">0"),) | AX22: =IFERROR(SUM(AB22:AG22)/COUNTIF(AB22:AG22,">0"),) | AY22: =IFERROR(SUM(AH22:AJ22)/COUNTIF(AH22:AJ22,">0"),) | AZ22: =IFERROR(SUM(AK22:AP22)/COUNTIF(AK22:AP22,">0"),) | BA22: =IFERROR(SUM(AQ22:AS22)/COUNTIF(AQ22:AS22,">0"),)
A23: Histone H2B type 2-E OS=Mus musculus GN=Hist2h2be PE=1 SV=3 | B23: 10.74 | C23: 13993.284 | D23: 39527.43 | E23: Q64524 | F23: 12 | G23: 72.22 | H23: 0 | I23: H2B2E_MOUSE | J23: 10008.851 | K23: 9329.0878 | L23: 7871.6728 | M23: 7202.8542 | N23: 7336.7345 | O23: 10024.655 | P23: 11060.136 | Q23: 12536.677 | R23: 12231.422 | S23: 51819.385 | T23: 42697.993 | U23: 37164.022 | V23: 52240.283 | W23: 39593.582 | X23: 44890.946 | Y23: 179267.75 | Z23: 110611.77 | AA23: 85313.148 | AB23: 7945.7304 | AC23: 8367.3218 | AD23: 11395.4 | AE23: 6341.7228 | AF23: 8951.4663 | AG23: 8763.5066 | AH23: 75184.024 | AI23: 52742.677 | AJ23: 37610.643 | AK23: 107483.4 | AL23: 91757.389 | AM23: 93088.747 | AN23: 101404.6 | AO23: 85927.946 | AP23: 37955.102 | AQ23: 170009.12 | AR23: 105421.84 | AS23: 36010.493 | AT23: =IFERROR(SUM(J23:O23)/COUNTIF(J23:O23,">0"),) | AU23: =IFERROR(SUM(P23:R23)/COUNTIF(P23:R23,">0"),) | AV23: =IFERROR(SUM(S23:X23)/COUNTIF(S23:X23,">0"),) | AW23: =IFERROR(SUM(Y23:AA23)/COUNTIF(Y23:AA23,">0"),) | AX23: =IFERROR(SUM(AB23:AG23)/COUNTIF(AB23:AG23,">0"),) | AY23: =IFERROR(SUM(AH23:AJ23)/COUNTIF(AH23:AJ23,">0"),) | AZ23: =IFERROR(SUM(AK23:AP23)/COUNTIF(AK23:AP23,">0"),) | BA23: =IFERROR(SUM(AQ23:AS23)/COUNTIF(AQ23:AS23,">0"),)
A24: Histone H4 OS=Mus musculus GN=Hist1h4a PE=1 SV=2 | B24: 11.77 | C24: 11367.363 | D24: 39172.58 | E24: P62806 | F24: 11 | G24: 63.11 | H24: 0 | I24: H4_MOUSE | J24: 295377 | K24: 326655.33 | L24: 280044.33 | M24: 275953.67 | N24: 155540 | O24: 277855.33 | P24: 271231 | Q24: 346204.67 | R24: 55754 | S24: 363082.33 | T24: 129282.33 | U24: 135582.33 | V24: 372285.33 | W24: 359772.33 | X24: 250508 | Y24: 390313.67 | Z24: 177176.67 | AA24: 82405 | AB24: 324484 | AC24: 324888.67 | AD24: 289416.67 | AE24: 312777.33 | AF24: 190445 | AG24: 267882.67 | AH24: 258119 | AI24: 269870 | AJ24: 335891.67 | AK24: 272091 | AL24: 325400.67 | AM24: 41263 | AN24: 358417 | AO24: 269809.67 | AP24: 307670.33 | AQ24: 241741.33 | AR24: 268528 | AS24: 442515.67 | AT24: =IFERROR(SUM(J24:O24)/COUNTIF(J24:O24,">0"),) | AU24: =IFERROR(SUM(P24:R24)/COUNTIF(P24:R24,">0"),) | AV24: =IFERROR(SUM(S24:X24)/COUNTIF(S24:X24,">0"),) | AW24: =IFERROR(SUM(Y24:AA24)/COUNTIF(Y24:AA24,">0"),) | AX24: =IFERROR(SUM(AB24:AG24)/COUNTIF(AB24:AG24,">0"),) | AY24: =IFERROR(SUM(AH24:AJ24)/COUNTIF(AH24:AJ24,">0"),) | AZ24: =IFERROR(SUM(AK24:AP24)/COUNTIF(AK24:AP24,">0"),) | BA24: =IFERROR(SUM(AQ24:AS24)/COUNTIF(AQ24:AS24,">0"),)
A25: Keratin, type II cytoskeletal 2 epidermal (Cytokeratin-2e) (K2e) (CK 2e) (keratin-2) | B25: 8.05 | C25: 66150.539 | D25: 37923.98 | E25: P35908 | F25: 46 | G25: 82.64 | H25: 0 | I25: K22E_HUMAN | J25: 90633 | K25: 111068.33 | L25: 152915 | M25: 109167 | N25: 119384.33 | O25: 145332.67 | P25: 145564.33 | Q25: 124563.89 | R25: 136380.67 | S25: 198909.67 | T25: 233045.67 | U25: 112305.8 | V25: 206873.37 | W25: 260470.21 | X25: 197835.12 | Y25: 235948.79 | Z25: 236354.67 | AA25: 211329.21 | AB25: 206803 | AC25: 202859.67 | AD25: 204890 | AE25: 134910.81 | AF25: 77876.536 | AG25: 48307.219 | AH25: 166198.74 | AI25: 165422.23 | AJ25: 173489.33 | AK25: 209090.33 | AL25: 231142.33 | AM25: 256312.33 | AN25: 230573.3 | AO25: 142226.92 | AP25: 191962.33 | AQ25: 226353.67 | AR25: 235481.77 | AS25: 228168.38 | AT25: =IFERROR(SUM(J25:O25)/COUNTIF(J25:O25,">0"),) | AU25: =IFERROR(SUM(P25:R25)/COUNTIF(P25:R25,">0"),) | AV25: =IFERROR(SUM(S25:X25)/COUNTIF(S25:X25,">0"),) | AW25: =IFERROR(SUM(Y25:AA25)/COUNTIF(Y25:AA25,">0"),) | AX25: =IFERROR(SUM(AB25:AG25)/COUNTIF(AB25:AG25,">0"),) | AY25: =IFERROR(SUM(AH25:AJ25)/COUNTIF(AH25:AJ25,">0"),) | AZ25: =IFERROR(SUM(AK25:AP25)/COUNTIF(AK25:AP25,">0"),) | BA25: =IFERROR(SUM(AQ25:AS25)/COUNTIF(AQ25:AS25,">0"),)
A26: Peptidyl-prolyl cis-trans isomerase A OS=Mus musculus GN=Ppia PE=1 SV=2 | B26: 8 | C26: 18142.461 | D26: 37852.5 | E26: P17742 | F26: 11 | G26: 53.05 | H26: 0 | I26: PPIA_MOUSE | J26: 187624.25 | K26: 221241.33 | L26: 199506 | M26: 220988.33 | N26: 250057 | O26: 191956.67 | P26: 235982.67 | Q26: 250688.67 | R26: 201852.94 | S26: 116860.31 | T26: 147147.39 | U26: 212073.53 | V26: 214997 | W26: 212730.36 | X26: 184479 | Y26: 189337.52 | Z26: 177779.48 | AA26: 175806.78 | AB26: 202755.33 | AC26: 251747.67 | AD26: 233963.67 | AE26: 206875.67 | AF26: 199686.67 | AG26: 238485.33 | AH26: 219037 | AI26: 236945.67 | AJ26: 234878.33 | AK26: 136785.84 | AL26: 144818.33 | AM26: 134157.66 | AN26: 185758.28 | AO26: 193317.23 | AP26: 122695.84 | AQ26: 146081.55 | AR26: 156567.89 | AS26: 131579.96 | AT26: =IFERROR(SUM(J26:O26)/COUNTIF(J26:O26,">0"),) | AU26: =IFERROR(SUM(P26:R26)/COUNTIF(P26:R26,">0"),) | AV26: =IFERROR(SUM(S26:X26)/COUNTIF(S26:X26,">0"),) | AW26: =IFERROR(SUM(Y26:AA26)/COUNTIF(Y26:AA26,">0"),) | AX26: =IFERROR(SUM(AB26:AG26)/COUNTIF(AB26:AG26,">0"),) | AY26: =IFERROR(SUM(AH26:AJ26)/COUNTIF(AH26:AJ26,">0"),) | AZ26: =IFERROR(SUM(AK26:AP26)/COUNTIF(AK26:AP26,">0"),) | BA26: =IFERROR(SUM(AQ26:AS26)/COUNTIF(AQ26:AS26,">0"),)
A27: Ubiquitin-40S ribosomal protein S27a OS=Mus musculus GN=Rps27a PE=1 SV=2 | B27: 10.03 | C27: 18293.077 | D27: 37723.96 | E27: P62983 | F27: 9 | G27: 45.51 | H27: 0 | I27: RS27A_MOUSE | J27: 187163.98 | K27: 209527.19 | L27: 190700.36 | M27: 218654.23 | N27: 224158.81 | O27: 210903.9 | P27: 278810.24 | Q27: 201596 | R27: 237756.62 | S27: 291757 | T27: 279830.33 | U27: 241700.67 | V27: 324597.33 | W27: 300139.67 | X27: 312304.67 | Y27: 348083 | Z27: 362351.33 | AA27: 363922.67 | AB27: 258167.33 | AC27: 256418.33 | AD27: 284927.33 | AE27: 216500 | AF27: 266173.33 | AG27: 311632.33 | AH27: 312089 | AI27: 252929.67 | AJ27: 329794.33 | AK27: 279135.67 | AL27: 284023 | AM27: 264722 | AN27: 326111 | AO27: 300237.33 | AP27: 258572 | AQ27: 315617 | AR27: 318149.67 | AS27: 322417 | AT27: =IFERROR(SUM(J27:O27)/COUNTIF(J27:O27,">0"),) | AU27: =IFERROR(SUM(P27:R27)/COUNTIF(P27:R27,">0"),) | AV27: =IFERROR(SUM(S27:X27)/COUNTIF(S27:X27,">0"),) | AW27: =IFERROR(SUM(Y27:AA27)/COUNTIF(Y27:AA27,">0"),) | AX27: =IFERROR(SUM(AB27:AG27)/COUNTIF(AB27:AG27,">0"),) | AY27: =IFERROR(SUM(AH27:AJ27)/COUNTIF(AH27:AJ27,">0"),) | AZ27: =IFERROR(SUM(AK27:AP27)/COUNTIF(AK27:AP27,">0"),) | BA27: =IFERROR(SUM(AQ27:AS27)/COUNTIF(AQ27:AS27,">0"),)
A28: 14-3-3 protein beta/alpha OS=Mus musculus GN=Ywhab PE=1 SV=3 | B28: 4.57 | C28: 28200.542 | D28: 37706.11 | E28: Q9CQV8 | F28: 17 | G28: 61.38 | H28: 0 | I28: 1433B_MOUSE | J28: 23107.333 | K28: 113264.67 | L28: 96444 | M28: 72651 | N28: 108582 | O28: 88139.333 | P28: 96355 | Q28: 106236.67 | R28: 107350.33 | S28: 43198.77 | T28: 37605.199 | U28: 103073.33 | V28: 82947 | W28: 90311.333 | X28: 82629.667 | Y28: 74518 | Z28: 69814.667 | AA28: 49407 | AB28: 76830.333 | AC28: 124778.33 | AD28: 109538.67 | AE28: 102681 | AF28: 72163.333 | AG28: 97773.667 | AH28: 98715 | AI28: 95356.333 | AJ28: 91856.333 | AK28: 68051.213 | AL28: 56675.777 | AM28: 53380.035 | AN28: 65545.333 | AO28: 76715 | AP28: 46087.542 | AQ28: 58402.159 | AR28: 57210.667 | AS28: 51320.204 | AT28: =IFERROR(SUM(J28:O28)/COUNTIF(J28:O28,">0"),) | AU28: =IFERROR(SUM(P28:R28)/COUNTIF(P28:R28,">0"),) | AV28: =IFERROR(SUM(S28:X28)/COUNTIF(S28:X28,">0"),) | AW28: =IFERROR(SUM(Y28:AA28)/COUNTIF(Y28:AA28,">0"),) | AX28: =IFERROR(SUM(AB28:AG28)/COUNTIF(AB28:AG28,">0"),) | AY28: =IFERROR(SUM(AH28:AJ28)/COUNTIF(AH28:AJ28,">0"),) | AZ28: =IFERROR(SUM(AK28:AP28)/COUNTIF(AK28:AP28,">0"),) | BA28: =IFERROR(SUM(AQ28:AS28)/COUNTIF(AQ28:AS28,">0"),)
A29: Alpha-enolase OS=Mus musculus GN=Eno1 PE=1 SV=3 | B29: 6.38 | C29: 47483.06 | D29: 37701.39 | E29: P17182 | F29: 30 | G29: 68.89 | H29: 0 | I29: ENOA_MOUSE | J29: 152396.67 | K29: 148631.44 | L29: 191939.6 | M29: 197029.68 | N29: 178621.68 | O29: 167173.1 | P29: 180853.79 | Q29: 175210.33 | R29: 172384.19 | S29: 58557.667 | T29: 69654.717 | U29: 117317.33 | V29: 124352.04 | W29: 134982.54 | X29: 121003.25 | Y29: 96065.593 | Z29: 108798.33 | AA29: 110232.67 | AB29: 179977 | AC29: 150589.84 | AD29: 179473.2 | AE29: 146404.87 | AF29: 185788.67 | AG29: 178464.55 | AH29: 191270.32 | AI29: 191317.25 | AJ29: 170036.62 | AK29: 82239.453 | AL29: 80720.528 | AM29: 98631 | AN29: 110279.8 | AO29: 149345.54 | AP29: 103815.67 | AQ29: 91212.667 | AR29: 102995.33 | AS29: 100062.33 | AT29: =IFERROR(SUM(J29:O29)/COUNTIF(J29:O29,">0"),) | AU29: =IFERROR(SUM(P29:R29)/COUNTIF(P29:R29,">0"),) | AV29: =IFERROR(SUM(S29:X29)/COUNTIF(S29:X29,">0"),) | AW29: =IFERROR(SUM(Y29:AA29)/COUNTIF(Y29:AA29,">0"),) | AX29: =IFERROR(SUM(AB29:AG29)/COUNTIF(AB29:AG29,">0"),) | AY29: =IFERROR(SUM(AH29:AJ29)/COUNTIF(AH29:AJ29,">0"),) | AZ29: =IFERROR(SUM(AK29:AP29)/COUNTIF(AK29:AP29,">0"),) | BA29: =IFERROR(SUM(AQ29:AS29)/COUNTIF(AQ29:AS29,">0"),)
A30: Ubiquitin-60S ribosomal protein L40 OS=Mus musculus GN=Uba52 PE=1 SV=2 | B30: 10.26 | C30: 15013.472 | D30: 37680.92 | E30: P62984 | F30: 9 | G30: 57.81 | H30: 0 | I30: RL40_MOUSE | J30: 32440.357 | K30: 36316.48 | L30: 33053.304 | M30: 37898.433 | N30: 38852.519 | O30: 36555.1 | P30: 51245.762 | Q30: 37053.664 | R30: 43700.043 | AT30: =IFERROR(SUM(J30:O30)/COUNTIF(J30:O30,">0"),) | AU30: =IFERROR(SUM(P30:R30)/COUNTIF(P30:R30,">0"),) | AV30: =IFERROR(SUM(S30:X30)/COUNTIF(S30:X30,">0"),) | AW30: =IFERROR(SUM(Y30:AA30)/COUNTIF(Y30:AA30,">0"),) | AX30: =IFERROR(SUM(AB30:AG30)/COUNTIF(AB30:AG30,">0"),) | AY30: =IFERROR(SUM(AH30:AJ30)/COUNTIF(AH30:AJ30,">0"),) | AZ30: =IFERROR(SUM(AK30:AP30)/COUNTIF(AK30:AP30,">0"),) | BA30: =IFERROR(SUM(AQ30:AS30)/COUNTIF(AQ30:AS30,">0"),)
A31: Keratin, type II cytoskeletal 6B (Cytokeratin-6B) (CK 6B) (K6b keratin) | B31: 8.05 | C31: 60284.093 | D31: 36884.22 | E31: P04259 | F31: 36 | G31: 51.77 | H31: 0 | I31: K2C6B_HUMAN | J31: 10554.498 | K31: 16627.238 | L31: 137229.39 | M31: 30926.376 | N31: 20745.322 | O31: 25791.247 | P31: 69018.787 | Q31: 68467.237 | R31: 74667.124 | S31: 31274.865 | T31: 38157.451 | U31: 19085.431 | V31: 35026.827 | W31: 42237.619 | X31: 72817.087 | Y31: 39764.496 | Z31: 43162.346 | AA31: 42465.997 | AB31: 27663.989 | AC31: 61485.131 | AD31: 26431.958 | AE31: 32921.568 | AF31: 42913.199 | AG31: 7200.0119 | AH31: 39392.553 | AI31: 37446.982 | AJ31: 43570.729 | AK31: 183496.89 | AL31: 89296.56 | AM31: 39993.958 | AN31: 58891.769 | AO31: 26806.539 | AP31: 33846.761 | AQ31: 100418.82 | AR31: 110950.58 | AS31: 112907.74 | AT31: =IFERROR(SUM(J31:O31)/COUNTIF(J31:O31,">0"),) | AU31: =IFERROR(SUM(P31:R31)/COUNTIF(P31:R31,">0"),) | AV31: =IFERROR(SUM(S31:X31)/COUNTIF(S31:X31,">0"),) | AW31: =IFERROR(SUM(Y31:AA31)/COUNTIF(Y31:AA31,">0"),) | AX31: =IFERROR(SUM(AB31:AG31)/COUNTIF(AB31:AG31,">0"),) | AY31: =IFERROR(SUM(AH31:AJ31)/COUNTIF(AH31:AJ31,">0"),) | AZ31: =IFERROR(SUM(AK31:AP31)/COUNTIF(AK31:AP31,">0"),) | BA31: =IFERROR(SUM(AQ31:AS31)/COUNTIF(AQ31:AS31,">0"),)
A32: Heterogeneous nuclear ribonucleoproteins A2/B1 OS=Mus musculus GN=Hnrnpa2b1 PE=1 SV=2 | B32: 9.19 | C32: 37459.762 | D32: 36655.55 | E32: O88569 | F32: 18 | G32: 64.31 | H32: 0 | I32: ROA2_MOUSE | J32: 176961 | K32: 303039 | L32: 237115 | M32: 255493 | N32: 268213.33 | O32: 256243.67 | P32: 294570.33 | Q32: 240668.67 | R32: 264319.33 | S32: 218815 | T32: 211832.67 | U32: 283385 | V32: 284681.67 | W32: 250222.33 | X32: 263170.33 | Y32: 266751.67 | Z32: 238623.33 | AA32: 241474.33 | AB32: 279234 | AC32: 291444.33 | AD32: 265504.33 | AE32: 222558.33 | AF32: 278126.67 | AG32: 256654 | AH32: 294773 | AI32: 253201.67 | AJ32: 283020 | AK32: 210301.67 | AL32: 209662 | AM32: 187969.67 | AN32: 238578 | AO32: 311386.67 | AP32: 177368 | AQ32: 241644.67 | AR32: 217112.67 | AS32: 202993.67 | AT32: =IFERROR(SUM(J32:O32)/COUNTIF(J32:O32,">0"),) | AU32: =IFERROR(SUM(P32:R32)/COUNTIF(P32:R32,">0"),) | AV32: =IFERROR(SUM(S32:X32)/COUNTIF(S32:X32,">0"),) | AW32: =IFERROR(SUM(Y32:AA32)/COUNTIF(Y32:AA32,">0"),) | AX32: =IFERROR(SUM(AB32:AG32)/COUNTIF(AB32:AG32,">0"),) | AY32: =IFERROR(SUM(AH32:AJ32)/COUNTIF(AH32:AJ32,">0"),) | AZ32: =IFERROR(SUM(AK32:AP32)/COUNTIF(AK32:AP32,">0"),) | BA32: =IFERROR(SUM(AQ32:AS32)/COUNTIF(AQ32:AS32,">0"),)
A33: Fructose-bisphosphate aldolase C OS=Mus musculus GN=Aldoc PE=1 SV=4 | B33: 6.74 | C33: 39794.126 | D33: 35792.6 | E33: P05063 | F33: 23 | G33: 58.4 | H33: 0 | I33: ALDOC_MOUSE | J33: 143302 | K33: 142249.67 | L33: 137525.67 | M33: 154554.67 | N33: 147397.33 | O33: 137537.67 | P33: 158783.67 | Q33: 164632.33 | R33: 165864.33 | S33: 37795 | T33: 36253.667 | U33: 32718.333 | V33: 26409.667 | W33: 37670 | X33: 37031.333 | Y33: 42848.667 | Z33: 31233 | AA33: 33380.667 | AB33: 130307 | AC33: 144481.33 | AD33: 121918.67 | AE33: 76394 | AF33: 164563.33 | AG33: 137443.67 | AH33: 155699 | AI33: 156471 | AJ33: 163444.67 | AK33: 71323.333 | AL33: 35792.333 | AM33: 34727.333 | AN33: 26492.667 | AO33: 55383 | AP33: 65319 | AQ33: 44622.333 | AR33: 43078 | AS33: 42453 | AT33: =IFERROR(SUM(J33:O33)/COUNTIF(J33:O33,">0"),) | AU33: =IFERROR(SUM(P33:R33)/COUNTIF(P33:R33,">0"),) | AV33: =IFERROR(SUM(S33:X33)/COUNTIF(S33:X33,">0"),) | AW33: =IFERROR(SUM(Y33:AA33)/COUNTIF(Y33:AA33,">0"),) | AX33: =IFERROR(SUM(AB33:AG33)/COUNTIF(AB33:AG33,">0"),) | AY33: =IFERROR(SUM(AH33:AJ33)/COUNTIF(AH33:AJ33,">0"),) | AZ33: =IFERROR(SUM(AK33:AP33)/COUNTIF(AK33:AP33,">0"),) | BA33: =IFERROR(SUM(AQ33:AS33)/COUNTIF(AQ33:AS33,">0"),)
A34: Tubulin alpha-1C chain OS=Mus musculus GN=Tuba1c PE=1 SV=1 | B34: 4.79 | C34: 50593.765 | D34: 35554.51 | E34: P68373 | F34: 23 | G34: 51.22 | H34: 0 | I34: TBA1C_MOUSE | J34: 11217.883 | K34: 13719.675 | L34: 12917.451 | M34: 14994.183 | N34: 13927.682 | O34: 12700.234 | P34: 14498.688 | Q34: 14368.519 | R34: 13930.872 | AB34: 11914.516 | AC34: 11927.444 | AD34: 12084.269 | AE34: 11830.52 | AF34: 11420.91 | AG34: 10924.787 | AH34: 17328.161 | AI34: 16751.457 | AJ34: 16270.5 | AT34: =IFERROR(SUM(J34:O34)/COUNTIF(J34:O34,">0"),) | AU34: =IFERROR(SUM(P34:R34)/COUNTIF(P34:R34,">0"),) | AV34: =IFERROR(SUM(S34:X34)/COUNTIF(S34:X34,">0"),) | AW34: =IFERROR(SUM(Y34:AA34)/COUNTIF(Y34:AA34,">0"),) | AX34: =IFERROR(SUM(AB34:AG34)/COUNTIF(AB34:AG34,">0"),) | AY34: =IFERROR(SUM(AH34:AJ34)/COUNTIF(AH34:AJ34,">0"),) | AZ34: =IFERROR(SUM(AK34:AP34)/COUNTIF(AK34:AP34,">0"),) | BA34: =IFERROR(SUM(AQ34:AS34)/COUNTIF(AQ34:AS34,">0"),)
A35: Tubulin beta-2A chain OS=Mus musculus GN=Tubb2a PE=1 SV=1 | B35: 4.59 | C35: 50306.299 | D35: 34907.96 | E35: Q7TMM9 | F35: 20 | G35: 51.91 | H35: 0 | I35: TBB2A_MOUSE | J35: 60592.543 | K35: 92379.257 | L35: 85749.226 | M35: 100961.02 | N35: 89762.617 | O35: 84685.365 | P35: 99859.976 | Q35: 104240.43 | R35: 99288.728 | S35: 72047.677 | T35: 80351.838 | U35: 117237.94 | V35: 98918.96 | W35: 105735.49 | X35: 93767.944 | Y35: 99982.152 | Z35: 107085.98 | AA35: 98300.352 | AB35: 91451.867 | AC35: 99144.108 | AD35: 96020.592 | AE35: 83484.836 | AF35: 87542.435 | AG35: 93073.536 | AH35: 105326.85 | AI35: 109563.35 | AJ35: 102345.7 | AK35: 86345.38 | AL35: 84315.917 | AM35: 81537.567 | AN35: 86629.715 | AO35: 120323 | AP35: 59908.833 | AQ35: 84472.277 | AR35: 86058.07 | AS35: 85061.87 | AT35: =IFERROR(SUM(J35:O35)/COUNTIF(J35:O35,">0"),) | AU35: =IFERROR(SUM(P35:R35)/COUNTIF(P35:R35,">0"),) | AV35: =IFERROR(SUM(S35:X35)/COUNTIF(S35:X35,">0"),) | AW35: =IFERROR(SUM(Y35:AA35)/COUNTIF(Y35:AA35,">0"),) | AX35: =IFERROR(SUM(AB35:AG35)/COUNTIF(AB35:AG35,">0"),) | AY35: =IFERROR(SUM(AH35:AJ35)/COUNTIF(AH35:AJ35,">0"),) | AZ35: =IFERROR(SUM(AK35:AP35)/COUNTIF(AK35:AP35,">0"),) | BA35: =IFERROR(SUM(AQ35:AS35)/COUNTIF(AQ35:AS35,">0"),)
A36: Tubulin beta-4B chain OS=Mus musculus GN=Tubb4b PE=1 SV=1 | B36: 4.6 | C36: 50287.352 | D36: 34531.69 | E36: P68372 | F36: 19 | G36: 51.46 | H36: 0 | I36: TBB4B_MOUSE | J36: 103772.27 | K36: 120020.8 | L36: 104257.49 | M36: 113722 | N36: 110362.34 | O36: 102689.43 | P36: 133641.86 | Q36: 144496.88 | R36: 138662.16 | S36: 89078.081 | T36: 111033.81 | U36: 125242.82 | V36: 112119.37 | W36: 128814.09 | X36: 118041.44 | Y36: 123682.77 | Z36: 121423.75 | AA36: 123173.4 | AB36: 124304.15 | AC36: 140177.88 | AD36: 112709.97 | AE36: 106171.68 | AF36: 121193.04 | AG36: 119658.04 | AH36: 148203.23 | AI36: 147609.97 | AJ36: 154912.77 | AK36: 107661.01 | AL36: 105660.43 | AM36: 87571.517 | AN36: 101088.26 | AO36: 125605.58 | AP36: 78565.346 | AQ36: 92927.018 | AR36: 95926.954 | AS36: 92003.376 | AT36: =IFERROR(SUM(J36:O36)/COUNTIF(J36:O36,">0"),) | AU36: =IFERROR(SUM(P36:R36)/COUNTIF(P36:R36,">0"),) | AV36: =IFERROR(SUM(S36:X36)/COUNTIF(S36:X36,">0"),) | AW36: =IFERROR(SUM(Y36:AA36)/COUNTIF(Y36:AA36,">0"),) | AX36: =IFERROR(SUM(AB36:AG36)/COUNTIF(AB36:AG36,">0"),) | AY36: =IFERROR(SUM(AH36:AJ36)/COUNTIF(AH36:AJ36,">0"),) | AZ36: =IFERROR(SUM(AK36:AP36)/COUNTIF(AK36:AP36,">0"),) | BA36: =IFERROR(SUM(AQ36:AS36)/COUNTIF(AQ36:AS36,">0"),)
A37: 14-3-3 protein theta OS=Mus musculus GN=Ywhaq PE=1 SV=1 | B37: 4.49 | C37: 28063.46 | D37: 34522.07 | E37: P68254 | F37: 13 | G37: 45.71 | H37: 0 | I37: 1433T_MOUSE | J37: 48380.991 | K37: 161090.33 | L37: 109938.67 | M37: 89816.333 | N37: 138825.67 | O37: 126728.33 | P37: 134264 | Q37: 133365.33 | R37: 116334.67 | S37: 98404.775 | T37: 86932.524 | U37: 180840.33 | V37: 154988.67 | W37: 185770.33 | X37: 182142.33 | Y37: 154505.33 | Z37: 150272.67 | AA37: 108888.67 | AB37: 104302.67 | AC37: 176841.67 | AD37: 114530 | AE37: 126310 | AF37: 77372.736 | AG37: 145017.67 | AH37: 122128.67 | AI37: 141691 | AJ37: 119502.49 | AK37: 138995.33 | AL37: 118890.33 | AM37: 83619 | AN37: 120031 | AO37: 166761.67 | AP37: 87618.045 | AQ37: 116935.33 | AR37: 112212 | AS37: 92569.168 | AT37: =IFERROR(SUM(J37:O37)/COUNTIF(J37:O37,">0"),) | AU37: =IFERROR(SUM(P37:R37)/COUNTIF(P37:R37,">0"),) | AV37: =IFERROR(SUM(S37:X37)/COUNTIF(S37:X37,">0"),) | AW37: =IFERROR(SUM(Y37:AA37)/COUNTIF(Y37:AA37,">0"),) | AX37: =IFERROR(SUM(AB37:AG37)/COUNTIF(AB37:AG37,">0"),) | AY37: =IFERROR(SUM(AH37:AJ37)/COUNTIF(AH37:AJ37,">0"),) | AZ37: =IFERROR(SUM(AK37:AP37)/COUNTIF(AK37:AP37,">0"),) | BA37: =IFERROR(SUM(AQ37:AS37)/COUNTIF(AQ37:AS37,">0"),)
A38: Tubulin beta-2B chain OS=Mus musculus GN=Tubb2b PE=1 SV=1 | B38: 4.59 | C38: 50409.414 | D38: 34423.6 | E38: Q9CWF2 | F38: 20 | G38: 51.91 | H38: 0 | I38: TBB2B_MOUSE | J38: 62770.926 | K38: 86747.56 | L38: 92249.867 | M38: 99437.263 | N38: 86346.078 | O38: 80210.834 | P38: 99855.206 | Q38: 102498.8 | R38: 99160.042 | S38: 138176.89 | T38: 153048.99 | U38: 202859.1 | V38: 186310.58 | W38: 181777.86 | X38: 166568.85 | Y38: 184194.01 | Z38: 204105.62 | AA38: 188983.57 | AB38: 92394.114 | AC38: 106122.98 | AD38: 100338.88 | AE38: 86851.093 | AF38: 94112.18 | AG38: 98393.007 | AH38: 104424.8 | AI38: 110605.14 | AJ38: 108419.49 | AK38: 169935.04 | AL38: 150175.58 | AM38: 149869.09 | AN38: 159734.75 | AO38: 212200.16 | AP38: 111491.51 | AQ38: 159279.85 | AR38: 158061.63 | AS38: 163764.35 | AT38: =IFERROR(SUM(J38:O38)/COUNTIF(J38:O38,">0"),) | AU38: =IFERROR(SUM(P38:R38)/COUNTIF(P38:R38,">0"),) | AV38: =IFERROR(SUM(S38:X38)/COUNTIF(S38:X38,">0"),) | AW38: =IFERROR(SUM(Y38:AA38)/COUNTIF(Y38:AA38,">0"),) | AX38: =IFERROR(SUM(AB38:AG38)/COUNTIF(AB38:AG38,">0"),) | AY38: =IFERROR(SUM(AH38:AJ38)/COUNTIF(AH38:AJ38,">0"),) | AZ38: =IFERROR(SUM(AK38:AP38)/COUNTIF(AK38:AP38,">0"),) | BA38: =IFERROR(SUM(AQ38:AS38)/COUNTIF(AQ38:AS38,">0"),)
A39: Keratin, type I cytoskeletal 17 (Cytokeratin-17) (CK-17) (Keratin-17) (K17) (39.1) | B39: 4.78 | C39: 48390.884 | D39: 34034.85 | E39: Q04695 | F39: 35 | G39: 63.43 | H39: 0 | I39: K1C17_HUMAN | J39: 12418.928 | K39: 13358.95 | L39: 185741.97 | M39: 14128.022 | N39: 10507.064 | O39: 21511.166 | P39: 52600.592 | Q39: 51417.46 | R39: 51070.939 | S39: 27553.119 | T39: 31185.834 | U39: 32151.345 | V39: 23874.305 | W39: 29471.69 | X39: 47944.099 | Y39: 36645.125 | Z39: 35301.204 | AA39: 32877.98 | AB39: 10959.603 | AC39: 28311.568 | AD39: 17691.542 | AE39: 27206.1 | AF39: 15591.773 | AG39: 8872.8522 | AH39: 18032.917 | AI39: 17299.276 | AJ39: 17134.85 | AK39: 137989.81 | AL39: 75016.875 | AM39: 39817.449 | AN39: 51744.447 | AO39: 33697.24 | AP39: 27802.649 | AQ39: 76557.883 | AR39: 78680.471 | AS39: 82447.399 | AT39: =IFERROR(SUM(J39:O39)/COUNTIF(J39:O39,">0"),) | AU39: =IFERROR(SUM(P39:R39)/COUNTIF(P39:R39,">0"),) | AV39: =IFERROR(SUM(S39:X39)/COUNTIF(S39:X39,">0"),) | AW39: =IFERROR(SUM(Y39:AA39)/COUNTIF(Y39:AA39,">0"),) | AX39: =IFERROR(SUM(AB39:AG39)/COUNTIF(AB39:AG39,">0"),) | AY39: =IFERROR(SUM(AH39:AJ39)/COUNTIF(AH39:AJ39,">0"),) | AZ39: =IFERROR(SUM(AK39:AP39)/COUNTIF(AK39:AP39,">0"),) | BA39: =IFERROR(SUM(AQ39:AS39)/COUNTIF(AQ39:AS39,">0"),)
A40: Heterogeneous nuclear ribonucleoprotein K OS=Mus musculus GN=Hnrnpk PE=1 SV=1 | B40: 5.22 | C40: 51261.478 | D40: 33716.13 | E40: P61979 | F40: 24 | G40: 54.64 | H40: 0 | I40: HNRPK_MOUSE | J40: 193659 | K40: 195856 | L40: 202175 | M40: 206307.67 | N40: 171716.67 | O40: 167776.67 | P40: 208122.33 | Q40: 196686.67 | R40: 207630.33 | S40: 206992 | T40: 206136.67 | U40: 284211.67 | V40: 266431.33 | W40: 245396.33 | X40: 254530.67 | Y40: 260759.33 | Z40: 264696.33 | AA40: 249461.67 | AB40: 184377 | AC40: 230797.33 | AD40: 233061.33 | AE40: 193964.33 | AF40: 188840.33 | AG40: 170519.33 | AH40: 237671 | AI40: 207525.67 | AJ40: 212227.33 | AK40: 204186.33 | AL40: 222647.67 | AM40: 225713 | AN40: 248597.33 | AO40: 294426.67 | AP40: 206352.67 | AQ40: 228909.33 | AR40: 222213.33 | AS40: 225219 | AT40: =IFERROR(SUM(J40:O40)/COUNTIF(J40:O40,">0"),) | AU40: =IFERROR(SUM(P40:R40)/COUNTIF(P40:R40,">0"),) | AV40: =IFERROR(SUM(S40:X40)/COUNTIF(S40:X40,">0"),) | AW40: =IFERROR(SUM(Y40:AA40)/COUNTIF(Y40:AA40,">0"),) | AX40: =IFERROR(SUM(AB40:AG40)/COUNTIF(AB40:AG40,">0"),) | AY40: =IFERROR(SUM(AH40:AJ40)/COUNTIF(AH40:AJ40,">0"),) | AZ40: =IFERROR(SUM(AK40:AP40)/COUNTIF(AK40:AP40,">0"),) | BA40: =IFERROR(SUM(AQ40:AS40)/COUNTIF(AQ40:AS40,">0"),)
...

Sheet correlation
J1: 2017-062-01 Ihbe | K1: 2017-062-03 Ihbe | L1: 2017-062-11 Ihbe | M1: 2017-062-15 Ihbe | N1: 2017-062-21 Ihbe | O1: 2017-062-23 Ihbe | P1: 2017-062-25 Ihbe Pool 1 | Q1: 2017-062-25 Ihbe Pool 1 | R1: 2017-062-25 Ihbe Pool 1 | S1: 2017-062-02 Ihbe | T1: 2017-062-04 Ihbe | U1: 2017-062-12 Ihbe | V1: 2017-062-16 Ihbe | W1: 2017-062-22 Ihbe | X1: 2017-062-24 Ihbe | Y1: 2017-062-26 Ihbe Pool 2 | Z1: 2017-062-26 Ihbe Pool 2 | AA1: 2017-062-26 Ihbe Pool 2 | AB1: 2017-062-05 Ihbe | AC1: 2017-062-07 Ihbe | AD1: 2017-062-09 Ihbe | AE1: 2017-062-13 Ihbe | AF1: 2017-062-17 Ihbe | AG1: 2017-062-19 Ihbe | AH1: 2017-062-27 Ihbe Pool 3 | AI1: 2017-062-27 Ihbe Pool 3 | AJ1: 2017-062-27 Ihbe Pool 3 | AK1: 2017-062-06 Ihbe | AL1: 2017-062-08 Ihbe | AM1: 2017-062-10 Ihbe | AN1: 2017-062-14 Ihbe | AO1: 2017-062-18 Ihbe | AP1: 2017-062-20 Ihbe | AQ1: 2017-062-28 Ihbe Pool 4 | AR1: 2017-062-28 Ihbe Pool 4 | AS1: 2017-062-28 Ihbe Pool 4
J2: 01 Sham-GFP- 1 | K2: 01 Sham-GFP- 2 | L2: 01 Sham-GFP- 3 | M2: 01 Sham-GFP- 4 | N2: 01 Sham-GFP- 5 | O2: 01 Sham-GFP- 6 | P2: 05 Pool Sham-GFP- 1 | Q2: 05 Pool Sham-GFP- 2 | R2: 05 Pool Sham-GFP- 3 | S2: 02 Sham-GFP+ 1 | T2: 02 Sham-GFP+ 2 | U2: 02 Sham-GFP+ 3 | V2: 02 Sham-GFP+ 4 | W2: 02 Sham-GFP+ 5 | X2: 02 Sham-GFP+ 6 | Y2: 06 Pool Sham-GFP+ 1 | Z2: 06 Pool Sham-GFP+ 2 | AA2: 06 Pool Sham-GFP+ 3 | AB2: 03 Lesion-GFP- 1 | AC2: 03 Lesion-GFP- 2 | AD2: 03 Lesion-GFP- 3 | AE2: 03 Lesion-GFP- 4 | AF2: 03 Lesion-GFP- 5 | AG2: 03 Lesion-GFP- 6 | AH2: 07 Pool Lesion-GFP- 1 | AI2: 07 Pool Lesion-GFP- 2 | AJ2: 07 Pool Lesion-GFP- 3 | AK2: 04 Lesion-GFP+ 1 | AL2: 04 Lesion-GFP+ 2 | AM2: 04 Lesion-GFP+ 3 | AN2: 04 Lesion-GFP+ 4 | AO2: 04 Lesion-GFP+ 5 | AP2: 04 Lesion-GFP+ 6 | AQ2: 08 Pool Lesion-GFP+ 1 | AR2: 08 Pool Lesion-GFP+ 2 | AS2: 08 Pool Lesion-GFP+ 3
I3: 01 Sham-GFP- 1 | J3: =CORREL('TOP3 quantification'!J3:J3410,'TOP3 quantification'!J3:J3410) | K3: =CORREL('TOP3 quantification'!J3:J3410,'TOP3 quantification'!K3:K3410) | L3: =CORREL('TOP3 quantification'!J3:J3410,'TOP3 quantification'!L3:L3410) | M3: =CORREL('TOP3 quantification'!J3:J3410,'TOP3 quantification'!M3:M3410) | N3: =CORREL('TOP3 quantification'!J3:J3410,'TOP3 quantification'!N3:N3410) | O3: =CORREL('TOP3 quantification'!J3:J3410,'TOP3 quantification'!O3:O3410) | P3: =CORREL('TOP3 quantification'!J3:J3410,'TOP3 quantification'!P3:P3410) | Q3: =CORREL('TOP3 quantification'!J3:J3410,'TOP3 quantification'!Q3:Q3410) | R3: =CORREL('TOP3 quantification'!J3:J3410,'TOP3 quantification'!R3:R3410) | S3: =CORREL('TOP3 quantification'!J3:J3410,'TOP3 quantification'!S3:S3410) | T3: =CORREL('TOP3 quantification'!J3:J3410,'TOP3 quantification'!T3:T3410) | U3: =CORREL('TOP3 quantification'!J3:J3410,'TOP3 quantification'!U3:U3410) | V3: =CORREL('TOP3 quantification'!J3:J3410,'TOP3 quantification'!V3:V3410) | W3: =CORREL('TOP3 quantification'!J3:J3410,'TOP3 quantification'!W3:W3410) | X3: =CORREL('TOP3 quantification'!J3:J3410,'TOP3 quantification'!X3:X3410) | Y3: =CORREL('TOP3 quantification'!J3:J3410,'TOP3 quantification'!Y3:Y3410) | Z3: =CORREL('TOP3 quantification'!J3:J3410,'TOP3 quantification'!Z3:Z3410) | AA3: =CORREL('TOP3 quantification'!J3:J3410,'TOP3 quantification'!AA3:AA3410) | AB3: =CORREL('TOP3 quantification'!J3:J3410,'TOP3 quantification'!AB3:AB3410) | AC3: =CORREL('TOP3 quantification'!J3:J3410,'TOP3 quantification'!AC3:AC3410) | AD3: =CORREL('TOP3 quantification'!J3:J3410,'TOP3 quantification'!AD3:AD3410) | AE3: =CORREL('TOP3 quantification'!J3:J3410,'TOP3 quantification'!AE3:AE3410) | AF3: =CORREL('TOP3 quantification'!J3:J3410,'TOP3 quantification'!AF3:AF3410) | AG3: =CORREL('TOP3 quantification'!J3:J3410,'TOP3 quantification'!AG3:AG3410) | AH3: =CORREL('TOP3 quantification'!J3:J3410,'TOP3 quantification'!AH3:AH3410) | AI3: =CORREL('TOP3 quantification'!J3:J3410,'TOP3 quantification'!AI3:AI3410) | AJ3: =CORREL('TOP3 quantification'!J3:J3410,'TOP3 quantification'!AJ3:AJ3410) | AK3: =CORREL('TOP3 quantification'!J3:J3410,'TOP3 quantification'!AK3:AK3410) | AL3: =CORREL('TOP3 quantification'!J3:J3410,'TOP3 quantification'!AL3:AL3410) | AM3: =CORREL('TOP3 quantification'!J3:J3410,'TOP3 quantification'!AM3:AM3410) | AN3: =CORREL('TOP3 quantification'!J3:J3410,'TOP3 quantification'!AN3:AN3410) | AO3: =CORREL('TOP3 quantification'!J3:J3410,'TOP3 quantification'!AO3:AO3410) | AP3: =CORREL('TOP3 quantification'!J3:J3410,'TOP3 quantification'!AP3:AP3410) | AQ3: =CORREL('TOP3 quantification'!J3:J3410,'TOP3 quantification'!AQ3:AQ3410) | AR3: =CORREL('TOP3 quantification'!J3:J3410,'TOP3 quantification'!AR3:AR3410) | AS3: =CORREL('TOP3 quantification'!J3:J3410,'TOP3 quantification'!AS3:AS3410)
I4: 01 Sham-GFP- 2 | J4: =CORREL('TOP3 quantification'!K3:K3410,'TOP3 quantification'!J3:J3410) | K4: =CORREL('TOP3 quantification'!K3:K3410,'TOP3 quantification'!K3:K3410) | L4: =CORREL('TOP3 quantification'!K3:K3410,'TOP3 quantification'!L3:L3410) | M4: =CORREL('TOP3 quantification'!K3:K3410,'TOP3 quantification'!M3:M3410) | N4: =CORREL('TOP3 quantification'!K3:K3410,'TOP3 quantification'!N3:N3410) | O4: =CORREL('TOP3 quantification'!K3:K3410,'TOP3 quantification'!O3:O3410) | P4: =CORREL('TOP3 quantification'!K3:K3410,'TOP3 quantification'!P3:P3410) | Q4: =CORREL('TOP3 quantification'!K3:K3410,'TOP3 quantification'!Q3:Q3410) | R4: =CORREL('TOP3 quantification'!K3:K3410,'TOP3 quantification'!R3:R3410) | S4: =CORREL('TOP3 quantification'!K3:K3410,'TOP3 quantification'!S3:S3410) | T4: =CORREL('TOP3 quantification'!K3:K3410,'TOP3 quantification'!T3:T3410) | U4: =CORREL('TOP3 quantification'!K3:K3410,'TOP3 quantification'!U3:U3410) | V4: =CORREL('TOP3 quantification'!K3:K3410,'TOP3 quantification'!V3:V3410) | W4: =CORREL('TOP3 quantification'!K3:K3410,'TOP3 quantification'!W3:W3410) | X4: =CORREL('TOP3 quantification'!K3:K3410,'TOP3 quantification'!X3:X3410) | Y4: =CORREL('TOP3 quantification'!K3:K3410,'TOP3 quantification'!Y3:Y3410) | Z4: =CORREL('TOP3 quantification'!K3:K3410,'TOP3 quantification'!Z3:Z3410) | AA4: =CORREL('TOP3 quantification'!K3:K3410,'TOP3 quantification'!AA3:AA3410) | AB4: =CORREL('TOP3 quantification'!K3:K3410,'TOP3 quantification'!AB3:AB3410) | AC4: =CORREL('TOP3 quantification'!K3:K3410,'TOP3 quantification'!AC3:AC3410) | AD4: =CORREL('TOP3 quantification'!K3:K3410,'TOP3 quantification'!AD3:AD3410) | AE4: =CORREL('TOP3 quantification'!K3:K3410,'TOP3 quantification'!AE3:AE3410) | AF4: =CORREL('TOP3 quantification'!K3:K3410,'TOP3 quantification'!AF3:AF3410) | AG4: =CORREL('TOP3 quantification'!K3:K3410,'TOP3 quantification'!AG3:AG3410) | AH4: =CORREL('TOP3 quantification'!K3:K3410,'TOP3 quantification'!AH3:AH3410) | AI4: =CORREL('TOP3 quantification'!K3:K3410,'TOP3 quantification'!AI3:AI3410) | AJ4: =CORREL('TOP3 quantification'!K3:K3410,'TOP3 quantification'!AJ3:AJ3410) | AK4: =CORREL('TOP3 quantification'!K3:K3410,'TOP3 quantification'!AK3:AK3410) | AL4: =CORREL('TOP3 quantification'!K3:K3410,'TOP3 quantification'!AL3:AL3410) | AM4: =CORREL('TOP3 quantification'!K3:K3410,'TOP3 quantification'!AM3:AM3410) | AN4: =CORREL('TOP3 quantification'!K3:K3410,'TOP3 quantification'!AN3:AN3410) | AO4: =CORREL('TOP3 quantification'!K3:K3410,'TOP3 quantification'!AO3:AO3410) | AP4: =CORREL('TOP3 quantification'!K3:K3410,'TOP3 quantification'!AP3:AP3410) | AQ4: =CORREL('TOP3 quantification'!K3:K3410,'TOP3 quantification'!AQ3:AQ3410) | AR4: =CORREL('TOP3 quantification'!K3:K3410,'TOP3 quantification'!AR3:AR3410) | AS4: =CORREL('TOP3 quantification'!K3:K3410,'TOP3 quantification'!AS3:AS3410)
I5: 01 Sham-GFP- 3 | J5: =CORREL('TOP3 quantification'!L3:L3410,'TOP3 quantification'!J3:J3410) | K5: =CORREL('TOP3 quantification'!L3:L3410,'TOP3 quantification'!K3:K3410) | L5: =CORREL('TOP3 quantification'!L3:L3410,'TOP3 quantification'!L3:L3410) | M5: =CORREL('TOP3 quantification'!L3:L3410,'TOP3 quantification'!M3:M3410) | N5: =CORREL('TOP3 quantification'!L3:L3410,'TOP3 quantification'!N3:N3410) | O5: =CORREL('TOP3 quantification'!L3:L3410,'TOP3 quantification'!O3:O3410) | P5: =CORREL('TOP3 quantification'!L3:L3410,'TOP3 quantification'!P3:P3410) | Q5: =CORREL('TOP3 quantification'!L3:L3410,'TOP3 quantification'!Q3:Q3410) | R5: =CORREL('TOP3 quantification'!L3:L3410,'TOP3 quantification'!R3:R3410) | S5: =CORREL('TOP3 quantification'!L3:L3410,'TOP3 quantification'!S3:S3410) | T5: =CORREL('TOP3 quantification'!L3:L3410,'TOP3 quantification'!T3:T3410) | U5: =CORREL('TOP3 quantification'!L3:L3410,'TOP3 quantification'!U3:U3410) | V5: =CORREL('TOP3 quantification'!L3:L3410,'TOP3 quantification'!V3:V3410) | W5: =CORREL('TOP3 quantification'!L3:L3410,'TOP3 quantification'!W3:W3410) | X5: =CORREL('TOP3 quantification'!L3:L3410,'TOP3 quantification'!X3:X3410) | Y5: =CORREL('TOP3 quantification'!L3:L3410,'TOP3 quantification'!Y3:Y3410) | Z5: =CORREL('TOP3 quantification'!L3:L3410,'TOP3 quantification'!Z3:Z3410) | AA5: =CORREL('TOP3 quantification'!L3:L3410,'TOP3 quantification'!AA3:AA3410) | AB5: =CORREL('TOP3 quantification'!L3:L3410,'TOP3 quantification'!AB3:AB3410) | AC5: =CORREL('TOP3 quantification'!L3:L3410,'TOP3 quantification'!AC3:AC3410) | AD5: =CORREL('TOP3 quantification'!L3:L3410,'TOP3 quantification'!AD3:AD3410) | AE5: =CORREL('TOP3 quantification'!L3:L3410,'TOP3 quantification'!AE3:AE3410) | AF5: =CORREL('TOP3 quantification'!L3:L3410,'TOP3 quantification'!AF3:AF3410) | AG5: =CORREL('TOP3 quantification'!L3:L3410,'TOP3 quantification'!AG3:AG3410) | AH5: =CORREL('TOP3 quantification'!L3:L3410,'TOP3 quantification'!AH3:AH3410) | AI5: =CORREL('TOP3 quantification'!L3:L3410,'TOP3 quantification'!AI3:AI3410) | AJ5: =CORREL('TOP3 quantification'!L3:L3410,'TOP3 quantification'!AJ3:AJ3410) | AK5: =CORREL('TOP3 quantification'!L3:L3410,'TOP3 quantification'!AK3:AK3410) | AL5: =CORREL('TOP3 quantification'!L3:L3410,'TOP3 quantification'!AL3:AL3410) | AM5: =CORREL('TOP3 quantification'!L3:L3410,'TOP3 quantification'!AM3:AM3410) | AN5: =CORREL('TOP3 quantification'!L3:L3410,'TOP3 quantification'!AN3:AN3410) | AO5: =CORREL('TOP3 quantification'!L3:L3410,'TOP3 quantification'!AO3:AO3410) | AP5: =CORREL('TOP3 quantification'!L3:L3410,'TOP3 quantification'!AP3:AP3410) | AQ5: =CORREL('TOP3 quantification'!L3:L3410,'TOP3 quantification'!AQ3:AQ3410) | AR5: =CORREL('TOP3 quantification'!L3:L3410,'TOP3 quantification'!AR3:AR3410) | AS5: =CORREL('TOP3 quantification'!L3:L3410,'TOP3 quantification'!AS3:AS3410)
