Workbook

Sheet TOP3 quantification
J1: Alex Kontrolle 6 +enolase 25fmol/ul | K1: Alex Kontrolle 6 +enolase 25fmol/ul | L1: Alex Kontrolle 6 +enolase 25fmol/ul | M1: Alex Kontrolle 2 +enolase 25fmol/ul | N1: Alex Kontrolle 2 +enolase 25fmol/ul | O1: Alex Kontrolle 2 +enolase 25fmol/ul | P1: Alex Kontrolle 35 +enolase 25fmol/ul | Q1: Alex Kontrolle 35 +enolase 25fmol/ul | R1: Alex Kontrolle 35 +enolase 25fmol/ul | S1: Alex Kontrolle 37 +enolase 25fmol/ul | T1: Alex Kontrolle 37 +enolase 25fmol/ul | U1: Alex Poly 43 +enolase 25fmol/ul | V1: Alex Poly 43 +enolase 25fmol/ul | W1: Alex Poly 43 +enolase 25fmol/ul | X1: Alex Poly 30 +enolase 25fmol/ul | Y1: Alex Poly 30 +enolase 25fmol/ul | Z1: Alex Poly 30 +enolase 25fmol/ul | AA1: Alex Poly 19 +enolase 25fmol/ul | AB1: Alex Poly 19 +enolase 25fmol/ul | AC1: Alex Poly 19 +enolase 25fmol/ul | AD1: Alex Poly 44 +enolase 25fmol/ul | AE1: Alex Poly 44 +enolase 25fmol/ul | AF1: Alex Poly 44 +enolase 25fmol/ul | AG1: Alex Karz 42 +enolase 25fmol/ul | AH1: Alex Karz 42 +enolase 25fmol/ul | AI1: Alex Karz 42 +enolase 25fmol/ul | AJ1: Alex Karz 41 +enolase 25fmol/ul | AK1: Alex Karz 41 +enolase 25fmol/ul | AL1: Alex Karz 41 +enolase 25fmol/ul | AM1: Alex Karz 34 +enolase 25fmol/ul | AN1: Alex Karz 34 +enolase 25fmol/ul | AO1: Alex Karz 34 +enolase 25fmol/ul | AP1: Alex Kontrolle 6 +enolase 25fmol/ul | AQ1: Alex Kontrolle 2 +enolase 25fmol/ul | AR1: Alex Kontrolle 35 +enolase 25fmol/ul | AS1: Alex Kontrolle 37 +enolase 25fmol/ul | AT1: Alex Poly 43 +enolase 25fmol/ul | AU1: Alex Poly 30 +enolase 25fmol/ul | AV1: Alex Poly 19 +enolase 25fmol/ul | AW1: Alex Poly 44 +enolase 25fmol/ul | AX1: Alex Karz 42 +enolase 25fmol/ul | AY1: Alex Karz 41 +enolase 25fmol/ul | AZ1: Alex Karz 34 +enolase 25fmol/ul
A2: description | B2: IEP | C2: mw | D2: max score | E2: accession | F2: reported peptides | G2: sequence coverage | H2: FDR level | I2: entry | J2: 101 Kontrolle 6 1 | K2: 101 Kontrolle 6 2 | L2: 101 Kontrolle 6 3 | M2: 102 Kontrolle 2 1 | N2: 102 Kontrolle 2 2 | O2: 102 Kontrolle 2 3 | P2: 103 Kontrolle 35 1 | Q2: 103 Kontrolle 35 2 | R2: 103 Kontrolle 35 3 | S2: 104 Kontrolle 37 1 | T2: 104 Kontrolle 37 2 | U2: 108 Polyp 43 1 | V2: 108 Polyp 43 2 | W2: 108 Polyp 43 3 | X2: 109 Polyp 30 1 | Y2: 109 Polyp 30 2 | Z2: 109 Polyp 30 3 | AA2: 110 Polyp 19 1 | AB2: 110 Polyp 19 2 | AC2: 110 Polyp 19 3 | AD2: 111 Polyp 44 1 | AE2: 111 Polyp 44 2 | AF2: 111 Polyp 44 3 | AG2: 107 Karz 42 1 | AH2: 107 Karz 42 2 | AI2: 107 Karz 42 3 | AJ2: 106 Karz 41 1 | AK2: 106 Karz 41 2 | AL2: 106 Karz 41 3 | AM2: 105 Karz 34 1 | AN2: 105 Karz 34 2 | AO2: 105 Karz 34 3 | AP2: AVERAGE 101 Kontrolle 6 | AQ2: AVERAGE 102 Kontrolle 2 | AR2: AVERAGE 103 Kontrolle 35 | AS2: AVERAGE 104 Kontrolle 37 | AT2: AVERAGE 108 Polyp 43 | AU2: AVERAGE 109 Polyp 30 | AV2: AVERAGE 110 Polyp 19 | AW2: AVERAGE 111 Polyp 44 | AX2: AVERAGE 107 Karz 42 | AY2: AVERAGE 106 Karz 41 | AZ2: AVERAGE 105 Karz 34
A3: Ceruloplasmin OS=Homo sapiens GN=CP PE=1 SV=1 | B3: 5.34 | C3: 123060.8 | D3: 29396.92 | E3: P00450 | F3: 42 | G3: 54.65 | H3: 0 | I3: CERU_HUMAN | J3: 611636.67 | K3: 640508.33 | L3: 573149.33 | M3: 658101.33 | N3: 574533.33 | O3: 557031.33 | P3: 503790.33 | Q3: 495741.67 | R3: 471446.67 | S3: 614478.33 | T3: 655400 | U3: 312691.67 | V3: 331571.67 | W3: 262051.67 | X3: 502125.33 | Y3: 510846 | Z3: 499139.67 | AA3: 560483.33 | AB3: 732624.33 | AC3: 572447.33 | AD3: 361051.33 | AE3: 371725.67 | AF3: 166236.33 | AG3: 486611.67 | AH3: 470064 | AI3: 548178.33 | AJ3: 462456 | AK3: 564726.67 | AL3: 575373 | AM3: 509814.33 | AN3: 541914.67 | AO3: 502003.33 | AP3: =IFERROR(SUM(J3:L3)/COUNTIF(J3:L3,">0"),) | AQ3: =IFERROR(SUM(M3:O3)/COUNTIF(M3:O3,">0"),) | AR3: =IFERROR(SUM(P3:R3)/COUNTIF(P3:R3,">0"),) | AS3: =IFERROR(SUM(S3:T3)/COUNTIF(S3:T3,">0"),) | AT3: =IFERROR(SUM(U3:W3)/COUNTIF(U3:W3,">0"),) | AU3: =IFERROR(SUM(X3:Z3)/COUNTIF(X3:Z3,">0"),) | AV3: =IFERROR(SUM(AA3:AC3)/COUNTIF(AA3:AC3,">0"),) | AW3: =IFERROR(SUM(AD3:AF3)/COUNTIF(AD3:AF3,">0"),) | AX3: =IFERROR(SUM(AG3:AI3)/COUNTIF(AG3:AI3,">0"),) | AY3: =IFERROR(SUM(AJ3:AL3)/COUNTIF(AJ3:AL3,">0"),) | AZ3: =IFERROR(SUM(AM3:AO3)/COUNTIF(AM3:AO3,">0"),)
A4: Zinc-alpha-2-glycoprotein OS=Homo sapiens GN=AZGP1 PE=1 SV=2 | B4: 5.64 | C4: 34486.872 | D4: 29116.78 | E4: P25311 | F4: 16 | G4: 57.72 | H4: 0 | I4: ZA2G_HUMAN | J4: 521259.67 | K4: 531134 | L4: 443972.33 | M4: 172649.33 | N4: 175396.67 | O4: 153776.67 | P4: 142362.33 | Q4: 133935 | R4: 132965.33 | S4: 253111.67 | T4: 226566.67 | U4: 300220.33 | V4: 281544 | W4: 281362 | X4: 414547.67 | Y4: 372433.33 | Z4: 491610.33 | AA4: 192847.67 | AB4: 169098.67 | AC4: 224998.33 | AD4: 131075.67 | AE4: 127657.67 | AF4: 81029.333 | AG4: 289500 | AH4: 265108.33 | AI4: 390297.67 | AJ4: 250292 | AK4: 237790.67 | AL4: 337333.67 | AM4: 274829 | AN4: 262620.67 | AO4: 208185.67 | AP4: =IFERROR(SUM(J4:L4)/COUNTIF(J4:L4,">0"),) | AQ4: =IFERROR(SUM(M4:O4)/COUNTIF(M4:O4,">0"),) | AR4: =IFERROR(SUM(P4:R4)/COUNTIF(P4:R4,">0"),) | AS4: =IFERROR(SUM(S4:T4)/COUNTIF(S4:T4,">0"),) | AT4: =IFERROR(SUM(U4:W4)/COUNTIF(U4:W4,">0"),) | AU4: =IFERROR(SUM(X4:Z4)/COUNTIF(X4:Z4,">0"),) | AV4: =IFERROR(SUM(AA4:AC4)/COUNTIF(AA4:AC4,">0"),) | AW4: =IFERROR(SUM(AD4:AF4)/COUNTIF(AD4:AF4,">0"),) | AX4: =IFERROR(SUM(AG4:AI4)/COUNTIF(AG4:AI4,">0"),) | AY4: =IFERROR(SUM(AJ4:AL4)/COUNTIF(AJ4:AL4,">0"),) | AZ4: =IFERROR(SUM(AM4:AO4)/COUNTIF(AM4:AO4,">0"),)
A5: Apolipoprotein A-IV OS=Homo sapiens GN=APOA4 PE=1 SV=3 | B5: 5.11 | C5: 45399.118 | D5: 27228.39 | E5: P06727 | F5: 27 | G5: 77.27 | H5: 0 | I5: APOA4_HUMAN | J5: 70227.667 | K5: 70544.333 | L5: 68294.333 | M5: 73119.667 | N5: 74883 | O5: 76744.333 | P5: 97835.333 | Q5: 99281.667 | R5: 89792.333 | S5: 175450 | T5: 195236.33 | U5: 127196.67 | V5: 126244 | W5: 117535.33 | X5: 188722.67 | Y5: 183979 | Z5: 183325.67 | AA5: 80778.667 | AB5: 75915.667 | AC5: 70727.333 | AD5: 11542 | AE5: 15219.333 | AF5: 10250.333 | AG5: 80559.333 | AH5: 75226.333 | AI5: 79627.333 | AJ5: 152976.67 | AK5: 150601 | AL5: 153261 | AM5: 227315.33 | AN5: 216614 | AO5: 227984.33 | AP5: =IFERROR(SUM(J5:L5)/COUNTIF(J5:L5,">0"),) | AQ5: =IFERROR(SUM(M5:O5)/COUNTIF(M5:O5,">0"),) | AR5: =IFERROR(SUM(P5:R5)/COUNTIF(P5:R5,">0"),) | AS5: =IFERROR(SUM(S5:T5)/COUNTIF(S5:T5,">0"),) | AT5: =IFERROR(SUM(U5:W5)/COUNTIF(U5:W5,">0"),) | AU5: =IFERROR(SUM(X5:Z5)/COUNTIF(X5:Z5,">0"),) | AV5: =IFERROR(SUM(AA5:AC5)/COUNTIF(AA5:AC5,">0"),) | AW5: =IFERROR(SUM(AD5:AF5)/COUNTIF(AD5:AF5,">0"),) | AX5: =IFERROR(SUM(AG5:AI5)/COUNTIF(AG5:AI5,">0"),) | AY5: =IFERROR(SUM(AJ5:AL5)/COUNTIF(AJ5:AL5,">0"),) | AZ5: =IFERROR(SUM(AM5:AO5)/COUNTIF(AM5:AO5,">0"),)
A6: Angiotensinogen OS=Homo sapiens GN=AGT PE=1 SV=1 | B6: 5.85 | C6: 53439.43 | D6: 21453.28 | E6: P01019 | F6: 15 | G6: 50.93 | H6: 0 | I6: ANGT_HUMAN | J6: 313118.33 | K6: 322599 | L6: 289345.67 | M6: 520902.33 | N6: 517913.33 | O6: 481277.67 | P6: 437319.67 | Q6: 429677.67 | R6: 391480.33 | S6: 299253 | T6: 320187.33 | U6: 205520.67 | V6: 198619.33 | W6: 181848 | X6: 213943.33 | Y6: 193044.67 | Z6: 206733 | AA6: 171509.67 | AB6: 155622.67 | AC6: 187296 | AD6: 172309.33 | AE6: 101992.67 | AF6: 61517 | AG6: 200942 | AH6: 171529.33 | AI6: 207233.67 | AJ6: 298409.33 | AK6: 287042.67 | AL6: 316173 | AM6: 215189.67 | AN6: 204544.33 | AO6: 215541.33 | AP6: =IFERROR(SUM(J6:L6)/COUNTIF(J6:L6,">0"),) | AQ6: =IFERROR(SUM(M6:O6)/COUNTIF(M6:O6,">0"),) | AR6: =IFERROR(SUM(P6:R6)/COUNTIF(P6:R6,">0"),) | AS6: =IFERROR(SUM(S6:T6)/COUNTIF(S6:T6,">0"),) | AT6: =IFERROR(SUM(U6:W6)/COUNTIF(U6:W6,">0"),) | AU6: =IFERROR(SUM(X6:Z6)/COUNTIF(X6:Z6,">0"),) | AV6: =IFERROR(SUM(AA6:AC6)/COUNTIF(AA6:AC6,">0"),) | AW6: =IFERROR(SUM(AD6:AF6)/COUNTIF(AD6:AF6,">0"),) | AX6: =IFERROR(SUM(AG6:AI6)/COUNTIF(AG6:AI6,">0"),) | AY6: =IFERROR(SUM(AJ6:AL6)/COUNTIF(AJ6:AL6,">0"),) | AZ6: =IFERROR(SUM(AM6:AO6)/COUNTIF(AM6:AO6,">0"),)
A7: Transthyretin OS=Homo sapiens GN=TTR PE=1 SV=1 | B7: 5.4 | C7: 16001.098 | D7: 20853.62 | E7: P02766 | F7: 4 | G7: 42.86 | H7: 0 | I7: TTHY_HUMAN | J7: 2839 | K7: 1317 | L7: 3928 | M7: 60538.333 | N7: 54592.667 | O7: 55110.333 | P7: 67485.333 | Q7: 70689.333 | R7: 75948.333 | S7: 19395.667 | T7: 22762.333 | U7: 4146.5 | V7: 4711.5 | W7: 6993 | X7: 10394 | Y7: 12106.5 | Z7: 6714 | AA7: 3412 | AB7: 4611 | AC7: 6302 | AD7: 171202 | AE7: 170239.33 | AF7: 68528 | AG7: 12167.5 | AH7: 12790.5 | AI7: 8878.6667 | AJ7: 4945 | AK7: 4237 | AL7: 2693 | AM7: 52317.333 | AN7: 66235 | AO7: 46501.5 | AP7: =IFERROR(SUM(J7:L7)/COUNTIF(J7:L7,">0"),) | AQ7: =IFERROR(SUM(M7:O7)/COUNTIF(M7:O7,">0"),) | AR7: =IFERROR(SUM(P7:R7)/COUNTIF(P7:R7,">0"),) | AS7: =IFERROR(SUM(S7:T7)/COUNTIF(S7:T7,">0"),) | AT7: =IFERROR(SUM(U7:W7)/COUNTIF(U7:W7,">0"),) | AU7: =IFERROR(SUM(X7:Z7)/COUNTIF(X7:Z7,">0"),) | AV7: =IFERROR(SUM(AA7:AC7)/COUNTIF(AA7:AC7,">0"),) | AW7: =IFERROR(SUM(AD7:AF7)/COUNTIF(AD7:AF7,">0"),) | AX7: =IFERROR(SUM(AG7:AI7)/COUNTIF(AG7:AI7,">0"),) | AY7: =IFERROR(SUM(AJ7:AL7)/COUNTIF(AJ7:AL7,">0"),) | AZ7: =IFERROR(SUM(AM7:AO7)/COUNTIF(AM7:AO7,">0"),)
A8: Sex hormone-binding globulin OS=Homo sapiens GN=SHBG PE=1 SV=2 | B8: 6.24 | C8: 44007.38 | D8: 20747.89 | E8: P04278 | F8: 13 | G8: 47.76 | H8: 0 | I8: SHBG_HUMAN | J8: 46217.667 | K8: 57081.333 | L8: 61124 | M8: 35902 | N8: 40025.667 | O8: 41794 | P8: 82659.333 | Q8: 82744 | R8: 88399.667 | S8: 10739.667 | T8: 12874 | U8: 25526 | V8: 27917.667 | W8: 11510.333 | X8: 10123.667 | Y8: 10895 | Z8: 10859.333 | AA8: 25478.667 | AB8: 26341.667 | AC8: 23635.667 | AD8: 4739 | AE8: 12402 | AG8: 20499.333 | AH8: 30265.667 | AI8: 16437 | AJ8: 13565.333 | AK8: 18204.333 | AL8: 14846.333 | AM8: 12934.333 | AN8: 14892 | AO8: 7198 | AP8: =IFERROR(SUM(J8:L8)/COUNTIF(J8:L8,">0"),) | AQ8: =IFERROR(SUM(M8:O8)/COUNTIF(M8:O8,">0"),) | AR8: =IFERROR(SUM(P8:R8)/COUNTIF(P8:R8,">0"),) | AS8: =IFERROR(SUM(S8:T8)/COUNTIF(S8:T8,">0"),) | AT8: =IFERROR(SUM(U8:W8)/COUNTIF(U8:W8,">0"),) | AU8: =IFERROR(SUM(X8:Z8)/COUNTIF(X8:Z8,">0"),) | AV8: =IFERROR(SUM(AA8:AC8)/COUNTIF(AA8:AC8,">0"),) | AW8: =IFERROR(SUM(AD8:AF8)/COUNTIF(AD8:AF8,">0"),) | AX8: =IFERROR(SUM(AG8:AI8)/COUNTIF(AG8:AI8,">0"),) | AY8: =IFERROR(SUM(AJ8:AL8)/COUNTIF(AJ8:AL8,">0"),) | AZ8: =IFERROR(SUM(AM8:AO8)/COUNTIF(AM8:AO8,">0"),)
A9: Alpha-2-macroglobulin OS=Homo sapiens GN=A2M PE=1 SV=3 | B9: 6 | C9: 164716.9 | D9: 20485.11 | E9: P01023 | F9: 64 | G9: 55.09 | H9: 0 | I9: A2MG_HUMAN | J9: 134214.67 | K9: 143138 | L9: 117250 | M9: 258149.33 | N9: 300153 | O9: 282558.67 | P9: 354223 | Q9: 358272.33 | R9: 368005 | S9: 215144.67 | T9: 231281.67 | U9: 427463.33 | V9: 397264.67 | W9: 314049.67 | X9: 185907 | Y9: 163161.33 | Z9: 146603 | AA9: 319631 | AB9: 331229.67 | AC9: 310923 | AD9: 131633.33 | AE9: 130505.33 | AF9: 65669.215 | AG9: 157457.33 | AH9: 153397.33 | AI9: 213216.46 | AJ9: 183326 | AK9: 213742.33 | AL9: 201902 | AM9: 137456.67 | AN9: 122098 | AO9: 96422.667 | AP9: =IFERROR(SUM(J9:L9)/COUNTIF(J9:L9,">0"),) | AQ9: =IFERROR(SUM(M9:O9)/COUNTIF(M9:O9,">0"),) | AR9: =IFERROR(SUM(P9:R9)/COUNTIF(P9:R9,">0"),) | AS9: =IFERROR(SUM(S9:T9)/COUNTIF(S9:T9,">0"),) | AT9: =IFERROR(SUM(U9:W9)/COUNTIF(U9:W9,">0"),) | AU9: =IFERROR(SUM(X9:Z9)/COUNTIF(X9:Z9,">0"),) | AV9: =IFERROR(SUM(AA9:AC9)/COUNTIF(AA9:AC9,">0"),) | AW9: =IFERROR(SUM(AD9:AF9)/COUNTIF(AD9:AF9,">0"),) | AX9: =IFERROR(SUM(AG9:AI9)/COUNTIF(AG9:AI9,">0"),) | AY9: =IFERROR(SUM(AJ9:AL9)/COUNTIF(AJ9:AL9,">0"),) | AZ9: =IFERROR(SUM(AM9:AO9)/COUNTIF(AM9:AO9,">0"),)
A10: Serum amyloid P-component OS=Homo sapiens GN=APCS PE=1 SV=2 | B10: 6.1 | C10: 25501.207 | D10: 19077.41 | E10: P02743 | F10: 8 | G10: 34.08 | H10: 0 | I10: SAMP_HUMAN | J10: 211816.67 | K10: 215474.67 | L10: 196682.33 | M10: 193427 | N10: 192842.33 | O10: 182020 | P10: 95994.333 | Q10: 96881.667 | R10: 86668.333 | S10: 176883.67 | T10: 183636.67 | U10: 131106 | V10: 126256.33 | W10: 115023.33 | X10: 289158 | Y10: 263732.67 | Z10: 264065 | AA10: 143839 | AB10: 140721 | AC10: 155648.67 | AD10: 112365.33 | AE10: 109871.67 | AF10: 64172.667 | AG10: 252427.33 | AH10: 235055.67 | AI10: 239415.67 | AJ10: 224469 | AK10: 224402.33 | AL10: 224267.67 | AM10: 230823.33 | AN10: 218570.67 | AO10: 221662.67 | AP10: =IFERROR(SUM(J10:L10)/COUNTIF(J10:L10,">0"),) | AQ10: =IFERROR(SUM(M10:O10)/COUNTIF(M10:O10,">0"),) | AR10: =IFERROR(SUM(P10:R10)/COUNTIF(P10:R10,">0"),) | AS10: =IFERROR(SUM(S10:T10)/COUNTIF(S10:T10,">0"),) | AT10: =IFERROR(SUM(U10:W10)/COUNTIF(U10:W10,">0"),) | AU10: =IFERROR(SUM(X10:Z10)/COUNTIF(X10:Z10,">0"),) | AV10: =IFERROR(SUM(AA10:AC10)/COUNTIF(AA10:AC10,">0"),) | AW10: =IFERROR(SUM(AD10:AF10)/COUNTIF(AD10:AF10,">0"),) | AX10: =IFERROR(SUM(AG10:AI10)/COUNTIF(AG10:AI10,">0"),) | AY10: =IFERROR(SUM(AJ10:AL10)/COUNTIF(AJ10:AL10,">0"),) | AZ10: =IFERROR(SUM(AM10:AO10)/COUNTIF(AM10:AO10,">0"),)
A11: Leucine-rich alpha-2-glycoprotein OS=Homo sapiens GN=LRG1 PE=1 SV=2 | B11: 6.5 | C11: 38406.063 | D11: 17459.44 | E11: P02750 | F11: 15 | G11: 50.43 | H11: 0 | I11: A2GL_HUMAN | J11: 184117.33 | K11: 204129 | L11: 217127.67 | M11: 87173 | N11: 85562.333 | O11: 99524.667 | P11: 56313.667 | Q11: 52621.333 | R11: 76055.333 | S11: 155536 | T11: 170657 | U11: 113420.67 | V11: 118037 | W11: 76527 | X11: 282259 | Y11: 263426 | Z11: 203290.67 | AA11: 169774 | AB11: 215557.67 | AC11: 122190.67 | AD11: 27629.667 | AE11: 46096.667 | AF11: 23447.667 | AG11: 204459.33 | AH11: 234256.67 | AI11: 205294.67 | AJ11: 124075 | AK11: 166945 | AL11: 158758.67 | AM11: 119759.33 | AN11: 145659.33 | AO11: 80411.333 | AP11: =IFERROR(SUM(J11:L11)/COUNTIF(J11:L11,">0"),) | AQ11: =IFERROR(SUM(M11:O11)/COUNTIF(M11:O11,">0"),) | AR11: =IFERROR(SUM(P11:R11)/COUNTIF(P11:R11,">0"),) | AS11: =IFERROR(SUM(S11:T11)/COUNTIF(S11:T11,">0"),) | AT11: =IFERROR(SUM(U11:W11)/COUNTIF(U11:W11,">0"),) | AU11: =IFERROR(SUM(X11:Z11)/COUNTIF(X11:Z11,">0"),) | AV11: =IFERROR(SUM(AA11:AC11)/COUNTIF(AA11:AC11,">0"),) | AW11: =IFERROR(SUM(AD11:AF11)/COUNTIF(AD11:AF11,">0"),) | AX11: =IFERROR(SUM(AG11:AI11)/COUNTIF(AG11:AI11,">0"),) | AY11: =IFERROR(SUM(AJ11:AL11)/COUNTIF(AJ11:AL11,">0"),) | AZ11: =IFERROR(SUM(AM11:AO11)/COUNTIF(AM11:AO11,">0"),)
A12: N-acetylmuramoyl-L-alanine amidase OS=Homo sapiens GN=PGLYRP2 PE=1 SV=1 | B12: 7.27 | C12: 62787.372 | D12: 16049.14 | E12: Q96PD5 | F12: 11 | G12: 33.51 | H12: 0 | I12: PGRP2_HUMAN | J12: 37942 | K12: 44855 | L12: 48043.333 | M12: 9017.6667 | N12: 10232.333 | O12: 11653.333 | P12: 17175.333 | Q12: 17957.667 | R12: 20670.667 | S12: 27057.667 | T12: 29435 | U12: 40616.667 | V12: 49477.667 | W12: 28485.667 | X12: 18144.333 | Y12: 23054.667 | Z12: 21523 | AA12: 33436.333 | AB12: 40619 | AC12: 42850.667 | AD12: 7090.3333 | AE12: 13056.333 | AG12: 33262 | AH12: 43607 | AI12: 49766 | AJ12: 42238 | AK12: 60316 | AL12: 48670.667 | AM12: 37377.667 | AN12: 49437.333 | AO12: 32719.333 | AP12: =IFERROR(SUM(J12:L12)/COUNTIF(J12:L12,">0"),) | AQ12: =IFERROR(SUM(M12:O12)/COUNTIF(M12:O12,">0"),) | AR12: =IFERROR(SUM(P12:R12)/COUNTIF(P12:R12,">0"),) | AS12: =IFERROR(SUM(S12:T12)/COUNTIF(S12:T12,">0"),) | AT12: =IFERROR(SUM(U12:W12)/COUNTIF(U12:W12,">0"),) | AU12: =IFERROR(SUM(X12:Z12)/COUNTIF(X12:Z12,">0"),) | AV12: =IFERROR(SUM(AA12:AC12)/COUNTIF(AA12:AC12,">0"),) | AW12: =IFERROR(SUM(AD12:AF12)/COUNTIF(AD12:AF12,">0"),) | AX12: =IFERROR(SUM(AG12:AI12)/COUNTIF(AG12:AI12,">0"),) | AY12: =IFERROR(SUM(AJ12:AL12)/COUNTIF(AJ12:AL12,">0"),) | AZ12: =IFERROR(SUM(AM12:AO12)/COUNTIF(AM12:AO12,">0"),)
A13: Pigment epithelium-derived factor OS=Homo sapiens GN=SERPINF1 PE=1 SV=4 | B13: 5.94 | C13: 46483.345 | D13: 13997.92 | E13: P36955 | F13: 19 | G13: 53.59 | H13: 0 | I13: PEDF_HUMAN | J13: 144135.33 | K13: 127369 | L13: 137732 | M13: 74318.333 | N13: 76273 | O13: 72534.667 | P13: 58633.333 | Q13: 58336 | R13: 53107.333 | S13: 82367.667 | T13: 88616 | U13: 107308 | V13: 102436 | W13: 80077 | X13: 75245.333 | Y13: 69828 | Z13: 77813.333 | AA13: 60495 | AB13: 52598 | AC13: 65262.333 | AD13: 53699.333 | AE13: 53842.333 | AF13: 41900.333 | AG13: 92767 | AH13: 83497 | AI13: 100673.33 | AJ13: 119391 | AK13: 111783.33 | AL13: 130297 | AM13: 114011.33 | AN13: 106108.67 | AO13: 116702 | AP13: =IFERROR(SUM(J13:L13)/COUNTIF(J13:L13,">0"),) | AQ13: =IFERROR(SUM(M13:O13)/COUNTIF(M13:O13,">0"),) | AR13: =IFERROR(SUM(P13:R13)/COUNTIF(P13:R13,">0"),) | AS13: =IFERROR(SUM(S13:T13)/COUNTIF(S13:T13,">0"),) | AT13: =IFERROR(SUM(U13:W13)/COUNTIF(U13:W13,">0"),) | AU13: =IFERROR(SUM(X13:Z13)/COUNTIF(X13:Z13,">0"),) | AV13: =IFERROR(SUM(AA13:AC13)/COUNTIF(AA13:AC13,">0"),) | AW13: =IFERROR(SUM(AD13:AF13)/COUNTIF(AD13:AF13,">0"),) | AX13: =IFERROR(SUM(AG13:AI13)/COUNTIF(AG13:AI13,">0"),) | AY13: =IFERROR(SUM(AJ13:AL13)/COUNTIF(AJ13:AL13,">0"),) | AZ13: =IFERROR(SUM(AM13:AO13)/COUNTIF(AM13:AO13,">0"),)
A14: Hemoglobin subunit beta OS=Homo sapiens GN=HBB PE=1 SV=2 | B14: 6.88 | C14: 16112.482 | D14: 13610.06 | E14: P68871 | F14: 9 | G14: 76.87 | H14: 0 | I14: HBB_HUMAN | J14: 1764.5 | K14: 1646.5 | L14: 2412 | M14: 6993.3333 | N14: 6973.6667 | O14: 7095 | P14: 1113.5 | Q14: 1614 | R14: 1399 | S14: 3098 | T14: 3020 | U14: 2602.6667 | V14: 2709 | W14: 2523 | X14: 966 | Y14: 1654 | Z14: 1014 | AA14: 34487.333 | AB14: 34673.333 | AC14: 31237.333 | AG14: 4665.3333 | AH14: 4795.6667 | AI14: 4441.3333 | AJ14: 2432 | AK14: 2863 | AL14: 3162.6667 | AM14: 3769.3333 | AN14: 3816.6667 | AO14: 3583 | AP14: =IFERROR(SUM(J14:L14)/COUNTIF(J14:L14,">0"),) | AQ14: =IFERROR(SUM(M14:O14)/COUNTIF(M14:O14,">0"),) | AR14: =IFERROR(SUM(P14:R14)/COUNTIF(P14:R14,">0"),) | AS14: =IFERROR(SUM(S14:T14)/COUNTIF(S14:T14,">0"),) | AT14: =IFERROR(SUM(U14:W14)/COUNTIF(U14:W14,">0"),) | AU14: =IFERROR(SUM(X14:Z14)/COUNTIF(X14:Z14,">0"),) | AV14: =IFERROR(SUM(AA14:AC14)/COUNTIF(AA14:AC14,">0"),) | AW14: =IFERROR(SUM(AD14:AF14)/COUNTIF(AD14:AF14,">0"),) | AX14: =IFERROR(SUM(AG14:AI14)/COUNTIF(AG14:AI14,">0"),) | AY14: =IFERROR(SUM(AJ14:AL14)/COUNTIF(AJ14:AL14,">0"),) | AZ14: =IFERROR(SUM(AM14:AO14)/COUNTIF(AM14:AO14,">0"),)
A15: Heparin cofactor 2 OS=Homo sapiens GN=SERPIND1 PE=1 SV=3 | B15: 6.43 | C15: 57241.828 | D15: 13036.53 | E15: P05546 | F15: 19 | G15: 41.08 | H15: 0 | I15: HEP2_HUMAN | J15: 48940 | K15: 51441 | L15: 45618.333 | M15: 52078.333 | N15: 55471 | O15: 50393.333 | P15: 80381 | Q15: 79758.667 | R15: 70635.333 | S15: 92397.333 | T15: 95548.333 | U15: 42015 | V15: 38863.667 | W15: 37875.333 | X15: 88981.667 | Y15: 79679.333 | Z15: 81014 | AA15: 121298.33 | AB15: 113155.33 | AC15: 132733.67 | AD15: 6927.6667 | AE15: 7874 | AG15: 56596.333 | AH15: 53156.667 | AI15: 56902.333 | AJ15: 127450 | AK15: 120645.67 | AL15: 123949.33 | AM15: 130214.67 | AN15: 126836.33 | AO15: 130545.67 | AP15: =IFERROR(SUM(J15:L15)/COUNTIF(J15:L15,">0"),) | AQ15: =IFERROR(SUM(M15:O15)/COUNTIF(M15:O15,">0"),) | AR15: =IFERROR(SUM(P15:R15)/COUNTIF(P15:R15,">0"),) | AS15: =IFERROR(SUM(S15:T15)/COUNTIF(S15:T15,">0"),) | AT15: =IFERROR(SUM(U15:W15)/COUNTIF(U15:W15,">0"),) | AU15: =IFERROR(SUM(X15:Z15)/COUNTIF(X15:Z15,">0"),) | AV15: =IFERROR(SUM(AA15:AC15)/COUNTIF(AA15:AC15,">0"),) | AW15: =IFERROR(SUM(AD15:AF15)/COUNTIF(AD15:AF15,">0"),) | AX15: =IFERROR(SUM(AG15:AI15)/COUNTIF(AG15:AI15,">0"),) | AY15: =IFERROR(SUM(AJ15:AL15)/COUNTIF(AJ15:AL15,">0"),) | AZ15: =IFERROR(SUM(AM15:AO15)/COUNTIF(AM15:AO15,">0"),)
A16: Clusterin OS=Homo sapiens GN=CLU PE=1 SV=1 | B16: 5.84 | C16: 53064.968 | D16: 12887.52 | E16: P10909 | F16: 11 | G16: 34.74 | H16: 0 | I16: CLUS_HUMAN | J16: 11556.333 | K16: 12389.333 | L16: 11268 | M16: 24591.667 | N16: 24743.667 | O16: 19477.667 | P16: 33745.333 | Q16: 34410 | R16: 30736.333 | S16: 30946.333 | T16: 34733.667 | U16: 30342.667 | V16: 29894.333 | W16: 15188.333 | X16: 38013.667 | Y16: 34347 | Z16: 24941.667 | AA16: 66805 | AB16: 53287.333 | AC16: 48131.333 | AD16: 5685.3333 | AE16: 6153.5 | AG16: 27992 | AH16: 29402.667 | AI16: 25463.667 | AJ16: 27032.333 | AK16: 29546 | AL16: 30446 | AM16: 40320.333 | AN16: 37693.333 | AO16: 25847.333 | AP16: =IFERROR(SUM(J16:L16)/COUNTIF(J16:L16,">0"),) | AQ16: =IFERROR(SUM(M16:O16)/COUNTIF(M16:O16,">0"),) | AR16: =IFERROR(SUM(P16:R16)/COUNTIF(P16:R16,">0"),) | AS16: =IFERROR(SUM(S16:T16)/COUNTIF(S16:T16,">0"),) | AT16: =IFERROR(SUM(U16:W16)/COUNTIF(U16:W16,">0"),) | AU16: =IFERROR(SUM(X16:Z16)/COUNTIF(X16:Z16,">0"),) | AV16: =IFERROR(SUM(AA16:AC16)/COUNTIF(AA16:AC16,">0"),) | AW16: =IFERROR(SUM(AD16:AF16)/COUNTIF(AD16:AF16,">0"),) | AX16: =IFERROR(SUM(AG16:AI16)/COUNTIF(AG16:AI16,">0"),) | AY16: =IFERROR(SUM(AJ16:AL16)/COUNTIF(AJ16:AL16,">0"),) | AZ16: =IFERROR(SUM(AM16:AO16)/COUNTIF(AM16:AO16,">0"),)
A17: Apolipoprotein E OS=Homo sapiens GN=APOE PE=1 SV=1 | B17: 5.48 | C17: 36268.203 | D17: 11578.91 | E17: P02649 | F17: 18 | G17: 68.45 | H17: 0 | I17: APOE_HUMAN | J17: 4103 | K17: 3860 | L17: 4395.6667 | M17: 6396.3333 | N17: 6470 | O17: 6949 | P17: 15453 | Q17: 16005 | R17: 16357 | S17: 26071 | T17: 26971.333 | U17: 13678.667 | V17: 13728.667 | W17: 14151.333 | X17: 18319.333 | Y17: 18842 | Z17: 19596 | AA17: 13319.333 | AB17: 12421.333 | AC17: 13555.667 | AE17: 7593 | AG17: 20038.667 | AH17: 20180.333 | AI17: 22788.333 | AJ17: 37535 | AK17: 38726.333 | AL17: 43448.333 | AM17: 34372.333 | AN17: 33093 | AO17: 34070.667 | AP17: =IFERROR(SUM(J17:L17)/COUNTIF(J17:L17,">0"),) | AQ17: =IFERROR(SUM(M17:O17)/COUNTIF(M17:O17,">0"),) | AR17: =IFERROR(SUM(P17:R17)/COUNTIF(P17:R17,">0"),) | AS17: =IFERROR(SUM(S17:T17)/COUNTIF(S17:T17,">0"),) | AT17: =IFERROR(SUM(U17:W17)/COUNTIF(U17:W17,">0"),) | AU17: =IFERROR(SUM(X17:Z17)/COUNTIF(X17:Z17,">0"),) | AV17: =IFERROR(SUM(AA17:AC17)/COUNTIF(AA17:AC17,">0"),) | AW17: =IFERROR(SUM(AD17:AF17)/COUNTIF(AD17:AF17,">0"),) | AX17: =IFERROR(SUM(AG17:AI17)/COUNTIF(AG17:AI17,">0"),) | AY17: =IFERROR(SUM(AJ17:AL17)/COUNTIF(AJ17:AL17,">0"),) | AZ17: =IFERROR(SUM(AM17:AO17)/COUNTIF(AM17:AO17,">0"),)
A18: Complement component C9 OS=Homo sapiens GN=C9 PE=1 SV=2 | B18: 5.27 | C18: 64656.174 | D18: 11347.18 | E18: P02748 | F18: 23 | G18: 57.6 | H18: 0 | I18: CO9_HUMAN | J18: 59117 | K18: 65061.667 | L18: 57604.667 | M18: 12767.667 | N18: 13375.333 | O18: 13181.333 | P18: 17645.667 | Q18: 19561.333 | R18: 19048.667 | S18: 75066.667 | T18: 86080 | U18: 64570.333 | V18: 58596.667 | W18: 58263.667 | X18: 99412.333 | Y18: 90653 | Z18: 102805.67 | AA18: 128885 | AB18: 116313.67 | AC18: 114449.33 | AD18: 15783.667 | AE18: 21714.333 | AF18: 7449 | AG18: 147147.33 | AH18: 136776.33 | AI18: 154993.67 | AJ18: 107521.33 | AK18: 104135.33 | AL18: 118015.33 | AM18: 93436.333 | AN18: 85818.333 | AO18: 84973.333 | AP18: =IFERROR(SUM(J18:L18)/COUNTIF(J18:L18,">0"),) | AQ18: =IFERROR(SUM(M18:O18)/COUNTIF(M18:O18,">0"),) | AR18: =IFERROR(SUM(P18:R18)/COUNTIF(P18:R18,">0"),) | AS18: =IFERROR(SUM(S18:T18)/COUNTIF(S18:T18,">0"),) | AT18: =IFERROR(SUM(U18:W18)/COUNTIF(U18:W18,">0"),) | AU18: =IFERROR(SUM(X18:Z18)/COUNTIF(X18:Z18,">0"),) | AV18: =IFERROR(SUM(AA18:AC18)/COUNTIF(AA18:AC18,">0"),) | AW18: =IFERROR(SUM(AD18:AF18)/COUNTIF(AD18:AF18,">0"),) | AX18: =IFERROR(SUM(AG18:AI18)/COUNTIF(AG18:AI18,">0"),) | AY18: =IFERROR(SUM(AJ18:AL18)/COUNTIF(AJ18:AL18,">0"),) | AZ18: =IFERROR(SUM(AM18:AO18)/COUNTIF(AM18:AO18,">0"),)
A19: Profilin-1 OS=Homo sapiens GN=PFN1 PE=1 SV=2 | B19: 8.46 | C19: 15225.349 | D19: 11227.67 | E19: P07737 | F19: 7 | G19: 64.29 | H19: 0 | I19: PROF1_HUMAN | J19: 10218.333 | K19: 10801 | L19: 10745.333 | M19: 23354.667 | N19: 25145.667 | O19: 21156 | P19: 9456.6667 | Q19: 9786 | R19: 9093.3333 | S19: 30518 | T19: 32863.667 | U19: 7059.6667 | V19: 6807 | W19: 3945.3333 | X19: 7110.3333 | Y19: 7419.6667 | Z19: 6198.3333 | AA19: 5486.3333 | AB19: 5044 | AC19: 4502.3333 | AD19: 6017 | AE19: 8694 | AF19: 6482 | AG19: 16268.333 | AH19: 17761 | AI19: 13706.667 | AJ19: 15849 | AK19: 16311.333 | AL19: 14161.333 | AM19: 12688.333 | AN19: 12202.667 | AO19: 8190 | AP19: =IFERROR(SUM(J19:L19)/COUNTIF(J19:L19,">0"),) | AQ19: =IFERROR(SUM(M19:O19)/COUNTIF(M19:O19,">0"),) | AR19: =IFERROR(SUM(P19:R19)/COUNTIF(P19:R19,">0"),) | AS19: =IFERROR(SUM(S19:T19)/COUNTIF(S19:T19,">0"),) | AT19: =IFERROR(SUM(U19:W19)/COUNTIF(U19:W19,">0"),) | AU19: =IFERROR(SUM(X19:Z19)/COUNTIF(X19:Z19,">0"),) | AV19: =IFERROR(SUM(AA19:AC19)/COUNTIF(AA19:AC19,">0"),) | AW19: =IFERROR(SUM(AD19:AF19)/COUNTIF(AD19:AF19,">0"),) | AX19: =IFERROR(SUM(AG19:AI19)/COUNTIF(AG19:AI19,">0"),) | AY19: =IFERROR(SUM(AJ19:AL19)/COUNTIF(AJ19:AL19,">0"),) | AZ19: =IFERROR(SUM(AM19:AO19)/COUNTIF(AM19:AO19,">0"),)
A20: Contaminant, Serum albumin precursor (Allergen Bos d 6) (BSA) | B20: 5.76 | C20: 71762.917 | D20: 11106.84 | E20: P02769 | F20: 15 | G20: 30.28 | H20: 0 | I20: ALBU_BOVIN_CONTA | K20: 6711 | L20: 4279 | M20: 975.5 | N20: 1643 | O20: 1552 | P20: 166054.67 | Q20: 165665.33 | R20: 231988.33 | S20: 1158.5 | T20: 1307.3333 | X20: 939 | Y20: 780 | Z20: 812 | AA20: 514 | AB20: 540 | AC20: 1265.5 | AI20: 617.66667 | AL20: 722 | AM20: 854 | AN20: 787 | AO20: 1892 | AP20: =IFERROR(SUM(J20:L20)/COUNTIF(J20:L20,">0"),) | AQ20: =IFERROR(SUM(M20:O20)/COUNTIF(M20:O20,">0"),) | AR20: =IFERROR(SUM(P20:R20)/COUNTIF(P20:R20,">0"),) | AS20: =IFERROR(SUM(S20:T20)/COUNTIF(S20:T20,">0"),) | AT20: =IFERROR(SUM(U20:W20)/COUNTIF(U20:W20,">0"),) | AU20: =IFERROR(SUM(X20:Z20)/COUNTIF(X20:Z20,">0"),) | AV20: =IFERROR(SUM(AA20:AC20)/COUNTIF(AA20:AC20,">0"),) | AW20: =IFERROR(SUM(AD20:AF20)/COUNTIF(AD20:AF20,">0"),) | AX20: =IFERROR(SUM(AG20:AI20)/COUNTIF(AG20:AI20,">0"),) | AY20: =IFERROR(SUM(AJ20:AL20)/COUNTIF(AJ20:AL20,">0"),) | AZ20: =IFERROR(SUM(AM20:AO20)/COUNTIF(AM20:AO20,">0"),)
A21: Lumican OS=Homo sapiens GN=LUM PE=1 SV=2 | B21: 6.16 | C21: 38771.222 | D21: 10825.56 | E21: P51884 | F21: 14 | G21: 47.93 | H21: 0 | I21: LUM_HUMAN | J21: 87095.333 | K21: 94671 | L21: 95910.667 | M21: 25070.333 | N21: 26607.333 | O21: 27163.333 | P21: 41593 | Q21: 42721 | R21: 43701.333 | S21: 47383.333 | T21: 50281 | U21: 59540.667 | V21: 65954.667 | W21: 44164 | X21: 60362.333 | Y21: 68292 | Z21: 47739.667 | AA21: 47989.333 | AB21: 61477 | AC21: 47878.667 | AD21: 5744 | AE21: 12666.333 | AF21: 11018 | AG21: 51246 | AH21: 59128.667 | AI21: 45039 | AJ21: 43702.667 | AK21: 54040 | AL21: 48843.667 | AM21: 54864.333 | AN21: 62882 | AO21: 42270 | AP21: =IFERROR(SUM(J21:L21)/COUNTIF(J21:L21,">0"),) | AQ21: =IFERROR(SUM(M21:O21)/COUNTIF(M21:O21,">0"),) | AR21: =IFERROR(SUM(P21:R21)/COUNTIF(P21:R21,">0"),) | AS21: =IFERROR(SUM(S21:T21)/COUNTIF(S21:T21,">0"),) | AT21: =IFERROR(SUM(U21:W21)/COUNTIF(U21:W21,">0"),) | AU21: =IFERROR(SUM(X21:Z21)/COUNTIF(X21:Z21,">0"),) | AV21: =IFERROR(SUM(AA21:AC21)/COUNTIF(AA21:AC21,">0"),) | AW21: =IFERROR(SUM(AD21:AF21)/COUNTIF(AD21:AF21,">0"),) | AX21: =IFERROR(SUM(AG21:AI21)/COUNTIF(AG21:AI21,">0"),) | AY21: =IFERROR(SUM(AJ21:AL21)/COUNTIF(AJ21:AL21,">0"),) | AZ21: =IFERROR(SUM(AM21:AO21)/COUNTIF(AM21:AO21,">0"),)
A22: Tetranectin OS=Homo sapiens GN=CLEC3B PE=1 SV=3 | B22: 5.37 | C22: 22936.045 | D22: 10560.68 | E22: P05452 | F22: 9 | G22: 54.95 | H22: 0 | I22: TETN_HUMAN | J22: 33348.333 | K22: 40069.667 | L22: 46157.667 | M22: 17699.667 | N22: 21384.333 | O22: 25439.333 | P22: 29184 | Q22: 29343.333 | R22: 33421.667 | S22: 35966.667 | T22: 39503 | U22: 38298.333 | V22: 41121.667 | W22: 22706 | X22: 33902.667 | Y22: 37323.333 | Z22: 28468 | AA22: 26169 | AB22: 30988.333 | AC22: 26477.333 | AD22: 15729.333 | AE22: 18272.333 | AF22: 16007.667 | AG22: 29687.667 | AH22: 35343 | AI22: 33965.667 | AJ22: 24661.667 | AK22: 31895.333 | AL22: 27015.333 | AM22: 28972.667 | AN22: 33658.667 | AO22: 21362 | AP22: =IFERROR(SUM(J22:L22)/COUNTIF(J22:L22,">0"),) | AQ22: =IFERROR(SUM(M22:O22)/COUNTIF(M22:O22,">0"),) | AR22: =IFERROR(SUM(P22:R22)/COUNTIF(P22:R22,">0"),) | AS22: =IFERROR(SUM(S22:T22)/COUNTIF(S22:T22,">0"),) | AT22: =IFERROR(SUM(U22:W22)/COUNTIF(U22:W22,">0"),) | AU22: =IFERROR(SUM(X22:Z22)/COUNTIF(X22:Z22,">0"),) | AV22: =IFERROR(SUM(AA22:AC22)/COUNTIF(AA22:AC22,">0"),) | AW22: =IFERROR(SUM(AD22:AF22)/COUNTIF(AD22:AF22,">0"),) | AX22: =IFERROR(SUM(AG22:AI22)/COUNTIF(AG22:AI22,">0"),) | AY22: =IFERROR(SUM(AJ22:AL22)/COUNTIF(AJ22:AL22,">0"),) | AZ22: =IFERROR(SUM(AM22:AO22)/COUNTIF(AM22:AO22,">0"),)
A23: Insulin-like growth factor-binding protein complex acid labile subunit OS=Homo sapiens GN=IGFALS PE=1 SV=1 | B23: 6.33 | C23: 66776.411 | D23: 10300.32 | E23: P35858 | F23: 18 | G23: 39.83 | H23: 0 | I23: ALS_HUMAN | J23: 65467.667 | K23: 71961.333 | L23: 74784.667 | M23: 67031.333 | N23: 68748.333 | O23: 73999.333 | P23: 50559 | Q23: 50938.333 | R23: 53474.667 | S23: 71677 | T23: 77861.333 | U23: 24540.667 | V23: 25342.333 | W23: 22235.333 | X23: 46659 | Y23: 46745.667 | Z23: 48428 | AA23: 42689.667 | AB23: 44237 | AC23: 47721.667 | AD23: 26476.333 | AE23: 36453.333 | AF23: 23538 | AG23: 34323 | AH23: 36663.333 | AI23: 46705.333 | AJ23: 35523.333 | AK23: 40658 | AL23: 45904.667 | AM23: 40826 | AN23: 45413.333 | AO23: 40069.333 | AP23: =IFERROR(SUM(J23:L23)/COUNTIF(J23:L23,">0"),) | AQ23: =IFERROR(SUM(M23:O23)/COUNTIF(M23:O23,">0"),) | AR23: =IFERROR(SUM(P23:R23)/COUNTIF(P23:R23,">0"),) | AS23: =IFERROR(SUM(S23:T23)/COUNTIF(S23:T23,">0"),) | AT23: =IFERROR(SUM(U23:W23)/COUNTIF(U23:W23,">0"),) | AU23: =IFERROR(SUM(X23:Z23)/COUNTIF(X23:Z23,">0"),) | AV23: =IFERROR(SUM(AA23:AC23)/COUNTIF(AA23:AC23,">0"),) | AW23: =IFERROR(SUM(AD23:AF23)/COUNTIF(AD23:AF23,">0"),) | AX23: =IFERROR(SUM(AG23:AI23)/COUNTIF(AG23:AI23,">0"),) | AY23: =IFERROR(SUM(AJ23:AL23)/COUNTIF(AJ23:AL23,">0"),) | AZ23: =IFERROR(SUM(AM23:AO23)/COUNTIF(AM23:AO23,">0"),)
A24: Apolipoprotein B-100 OS=Homo sapiens GN=APOB PE=1 SV=2 | B24: 6.58 | C24: 516974.08 | D24: 9552.633 | E24: P04114 | F24: 188 | G24: 52.95 | H24: 0 | I24: APOB_HUMAN | J24: 46492.333 | K24: 52638.333 | L24: 54619.333 | M24: 45481 | N24: 49185 | O24: 51606.667 | P24: 77917 | Q24: 82575 | R24: 95576.667 | S24: 78900.333 | T24: 90565.667 | U24: 56917.333 | V24: 66952.333 | W24: 51229 | X24: 83703.333 | Y24: 94914 | Z24: 82729.667 | AA24: 72056 | AB24: 82680.333 | AC24: 68226 | AD24: 33546 | AE24: 40980.667 | AF24: 29927.667 | AG24: 108468.33 | AH24: 135719 | AI24: 155255.33 | AJ24: 69207.333 | AK24: 93791.667 | AL24: 79492.333 | AM24: 112493.67 | AN24: 138006.67 | AO24: 97740.667 | AP24: =IFERROR(SUM(J24:L24)/COUNTIF(J24:L24,">0"),) | AQ24: =IFERROR(SUM(M24:O24)/COUNTIF(M24:O24,">0"),) | AR24: =IFERROR(SUM(P24:R24)/COUNTIF(P24:R24,">0"),) | AS24: =IFERROR(SUM(S24:T24)/COUNTIF(S24:T24,">0"),) | AT24: =IFERROR(SUM(U24:W24)/COUNTIF(U24:W24,">0"),) | AU24: =IFERROR(SUM(X24:Z24)/COUNTIF(X24:Z24,">0"),) | AV24: =IFERROR(SUM(AA24:AC24)/COUNTIF(AA24:AC24,">0"),) | AW24: =IFERROR(SUM(AD24:AF24)/COUNTIF(AD24:AF24,">0"),) | AX24: =IFERROR(SUM(AG24:AI24)/COUNTIF(AG24:AI24,">0"),) | AY24: =IFERROR(SUM(AJ24:AL24)/COUNTIF(AJ24:AL24,">0"),) | AZ24: =IFERROR(SUM(AM24:AO24)/COUNTIF(AM24:AO24,">0"),)
A25: Contaminant, Enolase 1 OS=Saccharomyces cerevisiae GN=ENO1 PE=1 SV=2 | B25: 6.15 | C25: 47332.678 | D25: 9351.432 | E25: P00924 | F25: 17 | G25: 53.06 | H25: 0 | I25: ENO1_YEAST_CONTA | J25: 43363.4 | K25: 46154.422 | L25: 43048.76 | M25: 27552.738 | N25: 29685.322 | O25: 24550.456 | P25: 31418.27 | Q25: 31655.057 | R25: 30440.591 | S25: 34525.081 | T25: 36529.262 | U25: 21067.542 | V25: 21628.187 | W25: 17103.333 | X25: 28274.181 | Y25: 27556.224 | Z25: 22645.248 | AA25: 14067.363 | AB25: 12959.907 | AC25: 12752.682 | AD25: 117579.22 | AE25: 118164.69 | AF25: 79343.655 | AG25: 49581.638 | AH25: 48825.687 | AI25: 47928.956 | AJ25: 54254.08 | AK25: 56207.826 | AL25: 54115.572 | AM25: 26898.293 | AN25: 25570.358 | AO25: 25681.153 | AP25: =IFERROR(SUM(J25:L25)/COUNTIF(J25:L25,">0"),) | AQ25: =IFERROR(SUM(M25:O25)/COUNTIF(M25:O25,">0"),) | AR25: =IFERROR(SUM(P25:R25)/COUNTIF(P25:R25,">0"),) | AS25: =IFERROR(SUM(S25:T25)/COUNTIF(S25:T25,">0"),) | AT25: =IFERROR(SUM(U25:W25)/COUNTIF(U25:W25,">0"),) | AU25: =IFERROR(SUM(X25:Z25)/COUNTIF(X25:Z25,">0"),) | AV25: =IFERROR(SUM(AA25:AC25)/COUNTIF(AA25:AC25,">0"),) | AW25: =IFERROR(SUM(AD25:AF25)/COUNTIF(AD25:AF25,">0"),) | AX25: =IFERROR(SUM(AG25:AI25)/COUNTIF(AG25:AI25,">0"),) | AY25: =IFERROR(SUM(AJ25:AL25)/COUNTIF(AJ25:AL25,">0"),) | AZ25: =IFERROR(SUM(AM25:AO25)/COUNTIF(AM25:AO25,">0"),)
A26: Protein S100-A8 OS=Homo sapiens GN=S100A8 PE=1 SV=1 | B26: 6.62 | C26: 10891.555 | D26: 9255.67 | E26: P05109 | F26: 4 | G26: 38.71 | H26: 0 | I26: S10A8_HUMAN | J26: 5879 | K26: 3679 | L26: 6024 | M26: 2153 | N26: 2599 | O26: 1898 | P26: 1059 | Q26: 797 | R26: 1288 | S26: 6498.3333 | T26: 6236.6667 | U26: 7770 | V26: 8451.6667 | W26: 10661.5 | X26: 4402 | Y26: 2819.5 | Z26: 2868 | AA26: 5802.5 | AB26: 10037 | AC26: 11173 | AG26: 30005 | AH26: 29843.333 | AI26: 33531 | AJ26: 6239 | AK26: 6522 | AL26: 3788 | AM26: 5191 | AN26: 5442.6667 | AO26: 12608 | AP26: =IFERROR(SUM(J26:L26)/COUNTIF(J26:L26,">0"),) | AQ26: =IFERROR(SUM(M26:O26)/COUNTIF(M26:O26,">0"),) | AR26: =IFERROR(SUM(P26:R26)/COUNTIF(P26:R26,">0"),) | AS26: =IFERROR(SUM(S26:T26)/COUNTIF(S26:T26,">0"),) | AT26: =IFERROR(SUM(U26:W26)/COUNTIF(U26:W26,">0"),) | AU26: =IFERROR(SUM(X26:Z26)/COUNTIF(X26:Z26,">0"),) | AV26: =IFERROR(SUM(AA26:AC26)/COUNTIF(AA26:AC26,">0"),) | AW26: =IFERROR(SUM(AD26:AF26)/COUNTIF(AD26:AF26,">0"),) | AX26: =IFERROR(SUM(AG26:AI26)/COUNTIF(AG26:AI26,">0"),) | AY26: =IFERROR(SUM(AJ26:AL26)/COUNTIF(AJ26:AL26,">0"),) | AZ26: =IFERROR(SUM(AM26:AO26)/COUNTIF(AM26:AO26,">0"),)
A27: Thyroxine-binding globulin OS=Homo sapiens GN=SERPINA7 PE=1 SV=2 | B27: 5.85 | C27: 46666.777 | D27: 9011.313 | E27: P05543 | F27: 15 | G27: 44.58 | H27: 0 | I27: THBG_HUMAN | J27: 163476.67 | K27: 174300.33 | L27: 178333.33 | M27: 122909 | N27: 130513.33 | O27: 133910.67 | P27: 78045.333 | Q27: 79955 | R27: 84555.333 | S27: 128962.33 | T27: 135051.33 | U27: 68776.333 | V27: 74574.333 | W27: 53905.333 | X27: 122325.67 | Y27: 129078.67 | Z27: 97611 | AA27: 107345 | AB27: 107312.33 | AC27: 81403 | AD27: 21303 | AE27: 27134.333 | AF27: 14020.333 | AG27: 72457 | AH27: 81650.333 | AI27: 70837 | AJ27: 57890.667 | AK27: 67943.667 | AL27: 50881 | AM27: 76139.667 | AN27: 85148.667 | AO27: 56238 | AP27: =IFERROR(SUM(J27:L27)/COUNTIF(J27:L27,">0"),) | AQ27: =IFERROR(SUM(M27:O27)/COUNTIF(M27:O27,">0"),) | AR27: =IFERROR(SUM(P27:R27)/COUNTIF(P27:R27,">0"),) | AS27: =IFERROR(SUM(S27:T27)/COUNTIF(S27:T27,">0"),) | AT27: =IFERROR(SUM(U27:W27)/COUNTIF(U27:W27,">0"),) | AU27: =IFERROR(SUM(X27:Z27)/COUNTIF(X27:Z27,">0"),) | AV27: =IFERROR(SUM(AA27:AC27)/COUNTIF(AA27:AC27,">0"),) | AW27: =IFERROR(SUM(AD27:AF27)/COUNTIF(AD27:AF27,">0"),) | AX27: =IFERROR(SUM(AG27:AI27)/COUNTIF(AG27:AI27,">0"),) | AY27: =IFERROR(SUM(AJ27:AL27)/COUNTIF(AJ27:AL27,">0"),) | AZ27: =IFERROR(SUM(AM27:AO27)/COUNTIF(AM27:AO27,">0"),)
A28: Protein AMBP OS=Homo sapiens GN=AMBP PE=1 SV=1 | B28: 5.87 | C28: 39911.993 | D28: 8456.749 | E28: P02760 | F28: 6 | G28: 33.52 | H28: 0 | I28: AMBP_HUMAN | J28: 7021.6667 | K28: 7403 | L28: 6833.6667 | M28: 5826.3333 | N28: 6323.6667 | O28: 4906.6667 | P28: 4019 | Q28: 4032.3333 | R28: 4378.6667 | S28: 6584 | T28: 6730.3333 | U28: 27468 | V28: 28602.333 | W28: 20856.667 | X28: 19863.333 | Y28: 20117.333 | Z28: 23231.667 | AA28: 10145 | AB28: 10313.667 | AC28: 12319.667 | AD28: 11202 | AE28: 11564 | AF28: 7452 | AG28: 15382 | AH28: 15055 | AI28: 20133.667 | AJ28: 9966.6667 | AK28: 9698.6667 | AL28: 13541 | AM28: 18099.667 | AN28: 17816 | AO28: 16943 | AP28: =IFERROR(SUM(J28:L28)/COUNTIF(J28:L28,">0"),) | AQ28: =IFERROR(SUM(M28:O28)/COUNTIF(M28:O28,">0"),) | AR28: =IFERROR(SUM(P28:R28)/COUNTIF(P28:R28,">0"),) | AS28: =IFERROR(SUM(S28:T28)/COUNTIF(S28:T28,">0"),) | AT28: =IFERROR(SUM(U28:W28)/COUNTIF(U28:W28,">0"),) | AU28: =IFERROR(SUM(X28:Z28)/COUNTIF(X28:Z28,">0"),) | AV28: =IFERROR(SUM(AA28:AC28)/COUNTIF(AA28:AC28,">0"),) | AW28: =IFERROR(SUM(AD28:AF28)/COUNTIF(AD28:AF28,">0"),) | AX28: =IFERROR(SUM(AG28:AI28)/COUNTIF(AG28:AI28,">0"),) | AY28: =IFERROR(SUM(AJ28:AL28)/COUNTIF(AJ28:AL28,">0"),) | AZ28: =IFERROR(SUM(AM28:AO28)/COUNTIF(AM28:AO28,">0"),)
A29: Peroxiredoxin-2 OS=Homo sapiens GN=PRDX2 PE=1 SV=5 | B29: 5.57 | C29: 22063.017 | D29: 7729.583 | E29: P32119 | F29: 8 | G29: 35.86 | H29: 0 | I29: PRDX2_HUMAN | J29: 1234 | K29: 1009 | M29: 4327.6667 | N29: 4427 | O29: 4747.6667 | P29: 941 | Q29: 799 | R29: 1294.5 | S29: 1444.5 | T29: 1597.5 | U29: 1677 | V29: 1245.3333 | X29: 1205 | Y29: 864.5 | Z29: 868 | AA29: 30762 | AB29: 32061.667 | AC29: 22650.667 | AG29: 1681.5 | AH29: 1523.3333 | AI29: 2075.6667 | AJ29: 1292 | AL29: 810.33333 | AM29: 1281 | AN29: 1101.6667 | AO29: 1217 | AP29: =IFERROR(SUM(J29:L29)/COUNTIF(J29:L29,">0"),) | AQ29: =IFERROR(SUM(M29:O29)/COUNTIF(M29:O29,">0"),) | AR29: =IFERROR(SUM(P29:R29)/COUNTIF(P29:R29,">0"),) | AS29: =IFERROR(SUM(S29:T29)/COUNTIF(S29:T29,">0"),) | AT29: =IFERROR(SUM(U29:W29)/COUNTIF(U29:W29,">0"),) | AU29: =IFERROR(SUM(X29:Z29)/COUNTIF(X29:Z29,">0"),) | AV29: =IFERROR(SUM(AA29:AC29)/COUNTIF(AA29:AC29,">0"),) | AW29: =IFERROR(SUM(AD29:AF29)/COUNTIF(AD29:AF29,">0"),) | AX29: =IFERROR(SUM(AG29:AI29)/COUNTIF(AG29:AI29,">0"),) | AY29: =IFERROR(SUM(AJ29:AL29)/COUNTIF(AJ29:AL29,">0"),) | AZ29: =IFERROR(SUM(AM29:AO29)/COUNTIF(AM29:AO29,">0"),)
A30: Haptoglobin OS=Homo sapiens GN=HP PE=1 SV=1 | B30: 6.12 | C30: 45889.684 | D30: 7623.538 | E30: P00738 | F30: 15 | G30: 41.63 | H30: 0 | I30: HPT_HUMAN | J30: 4527.3333 | K30: 4894.6667 | L30: 3033 | M30: 9367.6667 | N30: 10327 | O30: 9749 | P30: 1399.3333 | Q30: 1621.3333 | R30: 1805 | S30: 31921 | T30: 33694.333 | U30: 889.5 | V30: 2066.3333 | X30: 4270.3333 | Y30: 3721.6667 | Z30: 4216 | AA30: 42443.333 | AB30: 43061 | AC30: 38108.333 | AD30: 10696.667 | AE30: 9778.3333 | AF30: 8781 | AG30: 18049.333 | AH30: 16614.667 | AI30: 18844.333 | AJ30: 69253 | AK30: 61516 | AL30: 64976.333 | AM30: 91123 | AN30: 84260 | AO30: 84756.667 | AP30: =IFERROR(SUM(J30:L30)/COUNTIF(J30:L30,">0"),) | AQ30: =IFERROR(SUM(M30:O30)/COUNTIF(M30:O30,">0"),) | AR30: =IFERROR(SUM(P30:R30)/COUNTIF(P30:R30,">0"),) | AS30: =IFERROR(SUM(S30:T30)/COUNTIF(S30:T30,">0"),) | AT30: =IFERROR(SUM(U30:W30)/COUNTIF(U30:W30,">0"),) | AU30: =IFERROR(SUM(X30:Z30)/COUNTIF(X30:Z30,">0"),) | AV30: =IFERROR(SUM(AA30:AC30)/COUNTIF(AA30:AC30,">0"),) | AW30: =IFERROR(SUM(AD30:AF30)/COUNTIF(AD30:AF30,">0"),) | AX30: =IFERROR(SUM(AG30:AI30)/COUNTIF(AG30:AI30,">0"),) | AY30: =IFERROR(SUM(AJ30:AL30)/COUNTIF(AJ30:AL30,">0"),) | AZ30: =IFERROR(SUM(AM30:AO30)/COUNTIF(AM30:AO30,">0"),)
A31: Immunoglobulin lambda constant 2 OS=Homo sapiens GN=IGLC2 PE=1 SV=1 | B31: 7.07 | C31: 11464.655 | D31: 7495.179 | E31: P0DOY2 | F31: 5 | G31: 63.21 | H31: 0 | I31: IGLC2_HUMAN | N31: 997 | O31: 968 | T31: 503.5 | U31: 840 | V31: 1359 | W31: 1248.25 | X31: 1188.1667 | Y31: 1061.75 | Z31: 1131 | AB31: 492 | AC31: 368 | AH31: 2187.5 | AI31: 3826.3333 | AL31: 334.5 | AM31: 6114.3193 | AN31: 6433.1201 | AO31: 7471.2276 | AP31: =IFERROR(SUM(J31:L31)/COUNTIF(J31:L31,">0"),) | AQ31: =IFERROR(SUM(M31:O31)/COUNTIF(M31:O31,">0"),) | AR31: =IFERROR(SUM(P31:R31)/COUNTIF(P31:R31,">0"),) | AS31: =IFERROR(SUM(S31:T31)/COUNTIF(S31:T31,">0"),) | AT31: =IFERROR(SUM(U31:W31)/COUNTIF(U31:W31,">0"),) | AU31: =IFERROR(SUM(X31:Z31)/COUNTIF(X31:Z31,">0"),) | AV31: =IFERROR(SUM(AA31:AC31)/COUNTIF(AA31:AC31,">0"),) | AW31: =IFERROR(SUM(AD31:AF31)/COUNTIF(AD31:AF31,">0"),) | AX31: =IFERROR(SUM(AG31:AI31)/COUNTIF(AG31:AI31,">0"),) | AY31: =IFERROR(SUM(AJ31:AL31)/COUNTIF(AJ31:AL31,">0"),) | AZ31: =IFERROR(SUM(AM31:AO31)/COUNTIF(AM31:AO31,">0"),)
A32: Monocyte differentiation antigen CD14 OS=Homo sapiens GN=CD14 PE=1 SV=2 | B32: 5.8 | C32: 40703.558 | D32: 7236.671 | E32: P08571 | F32: 9 | G32: 33.87 | H32: 0 | I32: CD14_HUMAN | J32: 13486 | K32: 13828.667 | L32: 13727.333 | M32: 5927 | N32: 6603 | O32: 7358.3333 | P32: 6010.6667 | Q32: 6020.3333 | R32: 7287.3333 | S32: 7938.6667 | T32: 8384.6667 | U32: 12801.333 | V32: 15531 | W32: 8904.6667 | X32: 11392.667 | Y32: 13316 | Z32: 8780.6667 | AA32: 14531.667 | AB32: 21001.667 | AC32: 12457.333 | AG32: 10135.333 | AH32: 12148.667 | AI32: 9474.3333 | AJ32: 9942 | AK32: 12235 | AL32: 13190 | AM32: 12524 | AN32: 14255 | AO32: 8779.3333 | AP32: =IFERROR(SUM(J32:L32)/COUNTIF(J32:L32,">0"),) | AQ32: =IFERROR(SUM(M32:O32)/COUNTIF(M32:O32,">0"),) | AR32: =IFERROR(SUM(P32:R32)/COUNTIF(P32:R32,">0"),) | AS32: =IFERROR(SUM(S32:T32)/COUNTIF(S32:T32,">0"),) | AT32: =IFERROR(SUM(U32:W32)/COUNTIF(U32:W32,">0"),) | AU32: =IFERROR(SUM(X32:Z32)/COUNTIF(X32:Z32,">0"),) | AV32: =IFERROR(SUM(AA32:AC32)/COUNTIF(AA32:AC32,">0"),) | AW32: =IFERROR(SUM(AD32:AF32)/COUNTIF(AD32:AF32,">0"),) | AX32: =IFERROR(SUM(AG32:AI32)/COUNTIF(AG32:AI32,">0"),) | AY32: =IFERROR(SUM(AJ32:AL32)/COUNTIF(AJ32:AL32,">0"),) | AZ32: =IFERROR(SUM(AM32:AO32)/COUNTIF(AM32:AO32,">0"),)
A33: C-reactive protein OS=Homo sapiens GN=CRP PE=1 SV=1 | B33: 5.31 | C33: 25209.685 | D33: 6932.839 | E33: P02741 | F33: 5 | G33: 26.79 | H33: 0 | I33: CRP_HUMAN | J33: 10631.667 | K33: 13977 | L33: 9638 | M33: 17664 | N33: 14447.333 | O33: 14123 | P33: 896.5 | Q33: 942 | R33: 1092 | S33: 30148 | T33: 29027.667 | U33: 1475 | V33: 3357.3333 | X33: 28856.667 | Y33: 26883 | Z33: 24236 | AA33: 28581 | AB33: 29297.333 | AC33: 29836 | AD33: 5089 | AE33: 4411 | AG33: 97030.333 | AH33: 87746 | AI33: 92835.333 | AJ33: 35289.667 | AK33: 36762 | AL33: 41202.667 | AM33: 28377.333 | AN33: 28686.333 | AO33: 23428.667 | AP33: =IFERROR(SUM(J33:L33)/COUNTIF(J33:L33,">0"),) | AQ33: =IFERROR(SUM(M33:O33)/COUNTIF(M33:O33,">0"),) | AR33: =IFERROR(SUM(P33:R33)/COUNTIF(P33:R33,">0"),) | AS33: =IFERROR(SUM(S33:T33)/COUNTIF(S33:T33,">0"),) | AT33: =IFERROR(SUM(U33:W33)/COUNTIF(U33:W33,">0"),) | AU33: =IFERROR(SUM(X33:Z33)/COUNTIF(X33:Z33,">0"),) | AV33: =IFERROR(SUM(AA33:AC33)/COUNTIF(AA33:AC33,">0"),) | AW33: =IFERROR(SUM(AD33:AF33)/COUNTIF(AD33:AF33,">0"),) | AX33: =IFERROR(SUM(AG33:AI33)/COUNTIF(AG33:AI33,">0"),) | AY33: =IFERROR(SUM(AJ33:AL33)/COUNTIF(AJ33:AL33,">0"),) | AZ33: =IFERROR(SUM(AM33:AO33)/COUNTIF(AM33:AO33,">0"),)
A34: Immunoglobulin lambda constant 1 OS=Homo sapiens GN=IGLC1 PE=1 SV=1 | B34: 7.99 | C34: 11518.75 | D34: 6714.919 | E34: P0CG04 | F34: 4 | G34: 53.77 | H34: 0 | I34: IGLC1_HUMAN | N34: 997 | O34: 968 | T34: 503.5 | U34: 840 | V34: 1359 | W34: 1248.25 | X34: 1188.1667 | Y34: 1061.75 | Z34: 1131 | AB34: 492 | AC34: 368 | AL34: 334.5 | AM34: 2787.3474 | AN34: 3595.2132 | AO34: 2914.439 | AP34: =IFERROR(SUM(J34:L34)/COUNTIF(J34:L34,">0"),) | AQ34: =IFERROR(SUM(M34:O34)/COUNTIF(M34:O34,">0"),) | AR34: =IFERROR(SUM(P34:R34)/COUNTIF(P34:R34,">0"),) | AS34: =IFERROR(SUM(S34:T34)/COUNTIF(S34:T34,">0"),) | AT34: =IFERROR(SUM(U34:W34)/COUNTIF(U34:W34,">0"),) | AU34: =IFERROR(SUM(X34:Z34)/COUNTIF(X34:Z34,">0"),) | AV34: =IFERROR(SUM(AA34:AC34)/COUNTIF(AA34:AC34,">0"),) | AW34: =IFERROR(SUM(AD34:AF34)/COUNTIF(AD34:AF34,">0"),) | AX34: =IFERROR(SUM(AG34:AI34)/COUNTIF(AG34:AI34,">0"),) | AY34: =IFERROR(SUM(AJ34:AL34)/COUNTIF(AJ34:AL34,">0"),) | AZ34: =IFERROR(SUM(AM34:AO34)/COUNTIF(AM34:AO34,">0"),)
A35: Complement C1r subcomponent OS=Homo sapiens GN=C1R PE=1 SV=2 | B35: 5.77 | C35: 81658.408 | D35: 6681.72 | E35: P00736 | F35: 17 | G35: 30.64 | H35: 0 | I35: C1R_HUMAN | J35: 23878.667 | K35: 24523.667 | L35: 22281 | M35: 14676 | N35: 14439.667 | O35: 13400.333 | P35: 25127.333 | Q35: 24751.667 | R35: 23591.667 | S35: 34161.667 | T35: 34719.333 | U35: 43595 | V35: 42952.333 | W35: 37389.667 | X35: 36357.667 | Y35: 33688.333 | Z35: 37533.333 | AA35: 48376 | AB35: 45193 | AC35: 49317 | AD35: 5502 | AE35: 6139 | AF35: 6023.5 | AG35: 39420.333 | AH35: 37023 | AI35: 51290.333 | AJ35: 30650.667 | AK35: 29236.667 | AL35: 41043 | AM35: 37358 | AN35: 35333.667 | AO35: 34369.667 | AP35: =IFERROR(SUM(J35:L35)/COUNTIF(J35:L35,">0"),) | AQ35: =IFERROR(SUM(M35:O35)/COUNTIF(M35:O35,">0"),) | AR35: =IFERROR(SUM(P35:R35)/COUNTIF(P35:R35,">0"),) | AS35: =IFERROR(SUM(S35:T35)/COUNTIF(S35:T35,">0"),) | AT35: =IFERROR(SUM(U35:W35)/COUNTIF(U35:W35,">0"),) | AU35: =IFERROR(SUM(X35:Z35)/COUNTIF(X35:Z35,">0"),) | AV35: =IFERROR(SUM(AA35:AC35)/COUNTIF(AA35:AC35,">0"),) | AW35: =IFERROR(SUM(AD35:AF35)/COUNTIF(AD35:AF35,">0"),) | AX35: =IFERROR(SUM(AG35:AI35)/COUNTIF(AG35:AI35,">0"),) | AY35: =IFERROR(SUM(AJ35:AL35)/COUNTIF(AJ35:AL35,">0"),) | AZ35: =IFERROR(SUM(AM35:AO35)/COUNTIF(AM35:AO35,">0"),)
A36: Mannose-binding protein C OS=Homo sapiens GN=MBL2 PE=1 SV=2 | B36: 5.21 | C36: 26542.761 | D36: 6118.232 | E36: P11226 | F36: 8 | G36: 51.61 | H36: 0 | I36: MBL2_HUMAN | J36: 14482.333 | K36: 15464.667 | L36: 14852 | M36: 8355.6667 | N36: 9115.3333 | O36: 8983 | P36: 3877 | Q36: 3847.6667 | R36: 3412.3333 | S36: 29903.667 | T36: 30306.667 | U36: 17887.667 | V36: 17274 | W36: 16151.333 | X36: 12620.333 | Y36: 10852.333 | Z36: 10240.333 | AA36: 12219 | AB36: 11214 | AC36: 11362 | AG36: 14214.667 | AH36: 13265.333 | AI36: 14479.667 | AJ36: 12070.667 | AK36: 10974.333 | AL36: 11552.333 | AM36: 13237.333 | AN36: 13276.333 | AO36: 12262.333 | AP36: =IFERROR(SUM(J36:L36)/COUNTIF(J36:L36,">0"),) | AQ36: =IFERROR(SUM(M36:O36)/COUNTIF(M36:O36,">0"),) | AR36: =IFERROR(SUM(P36:R36)/COUNTIF(P36:R36,">0"),) | AS36: =IFERROR(SUM(S36:T36)/COUNTIF(S36:T36,">0"),) | AT36: =IFERROR(SUM(U36:W36)/COUNTIF(U36:W36,">0"),) | AU36: =IFERROR(SUM(X36:Z36)/COUNTIF(X36:Z36,">0"),) | AV36: =IFERROR(SUM(AA36:AC36)/COUNTIF(AA36:AC36,">0"),) | AW36: =IFERROR(SUM(AD36:AF36)/COUNTIF(AD36:AF36,">0"),) | AX36: =IFERROR(SUM(AG36:AI36)/COUNTIF(AG36:AI36,">0"),) | AY36: =IFERROR(SUM(AJ36:AL36)/COUNTIF(AJ36:AL36,">0"),) | AZ36: =IFERROR(SUM(AM36:AO36)/COUNTIF(AM36:AO36,">0"),)
A37: Pregnancy zone protein OS=Homo sapiens GN=PZP PE=1 SV=4 | B37: 5.93 | C37: 165345.89 | D37: 5989.397 | E37: P20742 | F37: 40 | G37: 36.64 | H37: 0 | I37: PZP_HUMAN | J37: 6185.3802 | K37: 6364.5073 | L37: 5897.2575 | M37: 68301.863 | N37: 71720.668 | O37: 77096.357 | P37: 53524.234 | Q37: 52882.482 | R37: 52995.049 | S37: 9424.8709 | T37: 9901.2352 | U37: 8694.1474 | V37: 9090.2575 | W37: 8279.2431 | X37: 14595.508 | Y37: 14104.736 | Z37: 14315.526 | AA37: 29321.713 | AB37: 27718.581 | AC37: 30571.502 | AD37: 7913.2203 | AE37: 8076.0985 | AF37: 3558.5554 | AG37: 5666.8355 | AH37: 6541.0156 | AI37: 6045.982 | AJ37: 8485.3805 | AK37: 8134.8764 | AL37: 8747.9537 | AM37: 12765.196 | AN37: 13006.302 | AO37: 12776.24 | AP37: =IFERROR(SUM(J37:L37)/COUNTIF(J37:L37,">0"),) | AQ37: =IFERROR(SUM(M37:O37)/COUNTIF(M37:O37,">0"),) | AR37: =IFERROR(SUM(P37:R37)/COUNTIF(P37:R37,">0"),) | AS37: =IFERROR(SUM(S37:T37)/COUNTIF(S37:T37,">0"),) | AT37: =IFERROR(SUM(U37:W37)/COUNTIF(U37:W37,">0"),) | AU37: =IFERROR(SUM(X37:Z37)/COUNTIF(X37:Z37,">0"),) | AV37: =IFERROR(SUM(AA37:AC37)/COUNTIF(AA37:AC37,">0"),) | AW37: =IFERROR(SUM(AD37:AF37)/COUNTIF(AD37:AF37,">0"),) | AX37: =IFERROR(SUM(AG37:AI37)/COUNTIF(AG37:AI37,">0"),) | AY37: =IFERROR(SUM(AJ37:AL37)/COUNTIF(AJ37:AL37,">0"),) | AZ37: =IFERROR(SUM(AM37:AO37)/COUNTIF(AM37:AO37,">0"),)
A38: Complement C2 OS=Homo sapiens GN=C2 PE=1 SV=2 | B38: 7.12 | C38: 84636.647 | D38: 5857.275 | E38: P06681 | F38: 25 | G38: 43.09 | H38: 0 | I38: CO2_HUMAN | J38: 62528.667 | K38: 63799.667 | L38: 52121.333 | M38: 35906 | N38: 36235 | O38: 31590.667 | P38: 25769.333 | Q38: 27408.667 | R38: 21806.667 | S38: 35504 | T38: 34975.333 | U38: 38944.333 | V38: 36393 | W38: 36891.333 | X38: 44231 | Y38: 40617.667 | Z38: 46692.333 | AA38: 37229.333 | AB38: 32504.667 | AC38: 36862 | AD38: 9386 | AE38: 10682.667 | AF38: 7406 | AG38: 40578.667 | AH38: 35432.333 | AI38: 47650.333 | AJ38: 34171.333 | AK38: 29499.333 | AL38: 37907 | AM38: 24641 | AN38: 22368.333 | AO38: 23874.667 | AP38: =IFERROR(SUM(J38:L38)/COUNTIF(J38:L38,">0"),) | AQ38: =IFERROR(SUM(M38:O38)/COUNTIF(M38:O38,">0"),) | AR38: =IFERROR(SUM(P38:R38)/COUNTIF(P38:R38,">0"),) | AS38: =IFERROR(SUM(S38:T38)/COUNTIF(S38:T38,">0"),) | AT38: =IFERROR(SUM(U38:W38)/COUNTIF(U38:W38,">0"),) | AU38: =IFERROR(SUM(X38:Z38)/COUNTIF(X38:Z38,">0"),) | AV38: =IFERROR(SUM(AA38:AC38)/COUNTIF(AA38:AC38,">0"),) | AW38: =IFERROR(SUM(AD38:AF38)/COUNTIF(AD38:AF38,">0"),) | AX38: =IFERROR(SUM(AG38:AI38)/COUNTIF(AG38:AI38,">0"),) | AY38: =IFERROR(SUM(AJ38:AL38)/COUNTIF(AJ38:AL38,">0"),) | AZ38: =IFERROR(SUM(AM38:AO38)/COUNTIF(AM38:AO38,">0"),)
A39: Platelet basic protein OS=Homo sapiens GN=PPBP PE=1 SV=3 | B39: 9.07 | C39: 14179.376 | D39: 5764.809 | E39: P02775 | F39: 3 | G39: 25 | H39: 0 | I39: CXCL7_HUMAN | J39: 10249 | K39: 11414.5 | L39: 10987 | M39: 21487 | N39: 22629.667 | O39: 20878.667 | P39: 9576 | Q39: 6809.6667 | R39: 9601.5 | S39: 31622.333 | T39: 33576 | U39: 8051 | V39: 7084 | W39: 10322.5 | X39: 24847.667 | Y39: 25011 | Z39: 33563 | AA39: 7819 | AB39: 8032.3333 | AC39: 10409.5 | AD39: 12617.5 | AE39: 13131 | AF39: 10486.5 | AG39: 23672.333 | AH39: 23057 | AI39: 33619 | AJ39: 16660.333 | AK39: 17202 | AL39: 26488.5 | AM39: 13668.333 | AN39: 13848 | AO39: 18819.5 | AP39: =IFERROR(SUM(J39:L39)/COUNTIF(J39:L39,">0"),) | AQ39: =IFERROR(SUM(M39:O39)/COUNTIF(M39:O39,">0"),) | AR39: =IFERROR(SUM(P39:R39)/COUNTIF(P39:R39,">0"),) | AS39: =IFERROR(SUM(S39:T39)/COUNTIF(S39:T39,">0"),) | AT39: =IFERROR(SUM(U39:W39)/COUNTIF(U39:W39,">0"),) | AU39: =IFERROR(SUM(X39:Z39)/COUNTIF(X39:Z39,">0"),) | AV39: =IFERROR(SUM(AA39:AC39)/COUNTIF(AA39:AC39,">0"),) | AW39: =IFERROR(SUM(AD39:AF39)/COUNTIF(AD39:AF39,">0"),) | AX39: =IFERROR(SUM(AG39:AI39)/COUNTIF(AG39:AI39,">0"),) | AY39: =IFERROR(SUM(AJ39:AL39)/COUNTIF(AJ39:AL39,">0"),) | AZ39: =IFERROR(SUM(AM39:AO39)/COUNTIF(AM39:AO39,">0"),)
A40: Apolipoprotein A-I OS=Homo sapiens GN=APOA1 PE=1 SV=1 | B40: 5.43 | C40: 30777.869 | D40: 5684.164 | E40: P02647 | F40: 11 | G40: 50.19 | H40: 0 | I40: APOA1_HUMAN | J40: 5275 | K40: 5634.3333 | L40: 6138.3333 | M40: 14236.333 | N40: 14426.667 | O40: 14004 | P40: 7079.6667 | Q40: 7317.6667 | R40: 7807.6667 | S40: 5617 | T40: 5014.3333 | U40: 2211.3333 | V40: 2209.6667 | W40: 2495.5 | X40: 9321.3333 | Y40: 8619 | Z40: 7982 | AA40: 8731.3333 | AB40: 11418.333 | AC40: 9323.3333 | AG40: 4464.6667 | AH40: 4051.6667 | AI40: 4379.6667 | AJ40: 2921 | AK40: 2160 | AL40: 1527.5 | AM40: 5373.3333 | AN40: 4573.3333 | AO40: 3506 | AP40: =IFERROR(SUM(J40:L40)/COUNTIF(J40:L40,">0"),) | AQ40: =IFERROR(SUM(M40:O40)/COUNTIF(M40:O40,">0"),) | AR40: =IFERROR(SUM(P40:R40)/COUNTIF(P40:R40,">0"),) | AS40: =IFERROR(SUM(S40:T40)/COUNTIF(S40:T40,">0"),) | AT40: =IFERROR(SUM(U40:W40)/COUNTIF(U40:W40,">0"),) | AU40: =IFERROR(SUM(X40:Z40)/COUNTIF(X40:Z40,">0"),) | AV40: =IFERROR(SUM(AA40:AC40)/COUNTIF(AA40:AC40,">0"),) | AW40: =IFERROR(SUM(AD40:AF40)/COUNTIF(AD40:AF40,">0"),) | AX40: =IFERROR(SUM(AG40:AI40)/COUNTIF(AG40:AI40,">0"),) | AY40: =IFERROR(SUM(AJ40:AL40)/COUNTIF(AJ40:AL40,">0"),) | AZ40: =IFERROR(SUM(AM40:AO40)/COUNTIF(AM40:AO40,">0"),)
...

Sheet correlation
J1: Alex Kontrolle 6 +enolase 25fmol/ul | K1: Alex Kontrolle 6 +enolase 25fmol/ul | L1: Alex Kontrolle 6 +enolase 25fmol/ul | M1: Alex Kontrolle 2 +enolase 25fmol/ul | N1: Alex Kontrolle 2 +enolase 25fmol/ul | O1: Alex Kontrolle 2 +enolase 25fmol/ul | P1: Alex Kontrolle 35 +enolase 25fmol/ul | Q1: Alex Kontrolle 35 +enolase 25fmol/ul | R1: Alex Kontrolle 35 +enolase 25fmol/ul | S1: Alex Kontrolle 37 +enolase 25fmol/ul | T1: Alex Kontrolle 37 +enolase 25fmol/ul | U1: Alex Poly 43 +enolase 25fmol/ul | V1: Alex Poly 43 +enolase 25fmol/ul | W1: Alex Poly 43 +enolase 25fmol/ul | X1: Alex Poly 30 +enolase 25fmol/ul | Y1: Alex Poly 30 +enolase 25fmol/ul | Z1: Alex Poly 30 +enolase 25fmol/ul | AA1: Alex Poly 19 +enolase 25fmol/ul | AB1: Alex Poly 19 +enolase 25fmol/ul | AC1: Alex Poly 19 +enolase 25fmol/ul | AD1: Alex Poly 44 +enolase 25fmol/ul | AE1: Alex Poly 44 +enolase 25fmol/ul | AF1: Alex Poly 44 +enolase 25fmol/ul | AG1: Alex Karz 42 +enolase 25fmol/ul | AH1: Alex Karz 42 +enolase 25fmol/ul | AI1: Alex Karz 42 +enolase 25fmol/ul | AJ1: Alex Karz 41 +enolase 25fmol/ul | AK1: Alex Karz 41 +enolase 25fmol/ul | AL1: Alex Karz 41 +enolase 25fmol/ul | AM1: Alex Karz 34 +enolase 25fmol/ul | AN1: Alex Karz 34 +enolase 25fmol/ul | AO1: Alex Karz 34 +enolase 25fmol/ul
J2: 101 Kontrolle 6 1 | K2: 101 Kontrolle 6 2 | L2: 101 Kontrolle 6 3 | M2: 102 Kontrolle 2 1 | N2: 102 Kontrolle 2 2 | O2: 102 Kontrolle 2 3 | P2: 103 Kontrolle 35 1 | Q2: 103 Kontrolle 35 2 | R2: 103 Kontrolle 35 3 | S2: 104 Kontrolle 37 1 | T2: 104 Kontrolle 37 2 | U2: 108 Polyp 43 1 | V2: 108 Polyp 43 2 | W2: 108 Polyp 43 3 | X2: 109 Polyp 30 1 | Y2: 109 Polyp 30 2 | Z2: 109 Polyp 30 3 | AA2: 110 Polyp 19 1 | AB2: 110 Polyp 19 2 | AC2: 110 Polyp 19 3 | AD2: 111 Polyp 44 1 | AE2: 111 Polyp 44 2 | AF2: 111 Polyp 44 3 | AG2: 107 Karz 42 1 | AH2: 107 Karz 42 2 | AI2: 107 Karz 42 3 | AJ2: 106 Karz 41 1 | AK2: 106 Karz 41 2 | AL2: 106 Karz 41 3 | AM2: 105 Karz 34 1 | AN2: 105 Karz 34 2 | AO2: 105 Karz 34 3
I3: 101 Kontrolle 6 1 | J3: =CORREL('TOP3 quantification'!J3:J142,'TOP3 quantification'!J3:J142) | K3: =CORREL('TOP3 quantification'!J3:J142,'TOP3 quantification'!K3:K142) | L3: =CORREL('TOP3 quantification'!J3:J142,'TOP3 quantification'!L3:L142) | M3: =CORREL('TOP3 quantification'!J3:J142,'TOP3 quantification'!M3:M142) | N3: =CORREL('TOP3 quantification'!J3:J142,'TOP3 quantification'!N3:N142) | O3: =CORREL('TOP3 quantification'!J3:J142,'TOP3 quantification'!O3:O142) | P3: =CORREL('TOP3 quantification'!J3:J142,'TOP3 quantification'!P3:P142) | Q3: =CORREL('TOP3 quantification'!J3:J142,'TOP3 quantification'!Q3:Q142) | R3: =CORREL('TOP3 quantification'!J3:J142,'TOP3 quantification'!R3:R142) | S3: =CORREL('TOP3 quantification'!J3:J142,'TOP3 quantification'!S3:S142) | T3: =CORREL('TOP3 quantification'!J3:J142,'TOP3 quantification'!T3:T142) | U3: =CORREL('TOP3 quantification'!J3:J142,'TOP3 quantification'!U3:U142) | V3: =CORREL('TOP3 quantification'!J3:J142,'TOP3 quantification'!V3:V142) | W3: =CORREL('TOP3 quantification'!J3:J142,'TOP3 quantification'!W3:W142) | X3: =CORREL('TOP3 quantification'!J3:J142,'TOP3 quantification'!X3:X142) | Y3: =CORREL('TOP3 quantification'!J3:J142,'TOP3 quantification'!Y3:Y142) | Z3: =CORREL('TOP3 quantification'!J3:J142,'TOP3 quantification'!Z3:Z142) | AA3: =CORREL('TOP3 quantification'!J3:J142,'TOP3 quantification'!AA3:AA142) | AB3: =CORREL('TOP3 quantification'!J3:J142,'TOP3 quantification'!AB3:AB142) | AC3: =CORREL('TOP3 quantification'!J3:J142,'TOP3 quantification'!AC3:AC142) | AD3: =CORREL('TOP3 quantification'!J3:J142,'TOP3 quantification'!AD3:AD142) | AE3: =CORREL('TOP3 quantification'!J3:J142,'TOP3 quantification'!AE3:AE142) | AF3: =CORREL('TOP3 quantification'!J3:J142,'TOP3 quantification'!AF3:AF142) | AG3: =CORREL('TOP3 quantification'!J3:J142,'TOP3 quantification'!AG3:AG142) | AH3: =CORREL('TOP3 quantification'!J3:J142,'TOP3 quantification'!AH3:AH142) | AI3: =CORREL('TOP3 quantification'!J3:J142,'TOP3 quantification'!AI3:AI142) | AJ3: =CORREL('TOP3 quantification'!J3:J142,'TOP3 quantification'!AJ3:AJ142) | AK3: =CORREL('TOP3 quantification'!J3:J142,'TOP3 quantification'!AK3:AK142) | AL3: =CORREL('TOP3 quantification'!J3:J142,'TOP3 quantification'!AL3:AL142) | AM3: =CORREL('TOP3 quantification'!J3:J142,'TOP3 quantification'!AM3:AM142) | AN3: =CORREL('TOP3 quantification'!J3:J142,'TOP3 quantification'!AN3:AN142) | AO3: =CORREL('TOP3 quantification'!J3:J142,'TOP3 quantification'!AO3:AO142)
I4: 101 Kontrolle 6 2 | J4: =CORREL('TOP3 quantification'!K3:K142,'TOP3 quantification'!J3:J142) | K4: =CORREL('TOP3 quantification'!K3:K142,'TOP3 quantification'!K3:K142) | L4: =CORREL('TOP3 quantification'!K3:K142,'TOP3 quantification'!L3:L142) | M4: =CORREL('TOP3 quantification'!K3:K142,'TOP3 quantification'!M3:M142) | N4: =CORREL('TOP3 quantification'!K3:K142,'TOP3 quantification'!N3:N142) | O4: =CORREL('TOP3 quantification'!K3:K142,'TOP3 quantification'!O3:O142) | P4: =CORREL('TOP3 quantification'!K3:K142,'TOP3 quantification'!P3:P142) | Q4: =CORREL('TOP3 quantification'!K3:K142,'TOP3 quantification'!Q3:Q142) | R4: =CORREL('TOP3 quantification'!K3:K142,'TOP3 quantification'!R3:R142) | S4: =CORREL('TOP3 quantification'!K3:K142,'TOP3 quantification'!S3:S142) | T4: =CORREL('TOP3 quantification'!K3:K142,'TOP3 quantification'!T3:T142) | U4: =CORREL('TOP3 quantification'!K3:K142,'TOP3 quantification'!U3:U142) | V4: =CORREL('TOP3 quantification'!K3:K142,'TOP3 quantification'!V3:V142) | W4: =CORREL('TOP3 quantification'!K3:K142,'TOP3 quantification'!W3:W142) | X4: =CORREL('TOP3 quantification'!K3:K142,'TOP3 quantification'!X3:X142) | Y4: =CORREL('TOP3 quantification'!K3:K142,'TOP3 quantification'!Y3:Y142) | Z4: =CORREL('TOP3 quantification'!K3:K142,'TOP3 quantification'!Z3:Z142) | AA4: =CORREL('TOP3 quantification'!K3:K142,'TOP3 quantification'!AA3:AA142) | AB4: =CORREL('TOP3 quantification'!K3:K142,'TOP3 quantification'!AB3:AB142) | AC4: =CORREL('TOP3 quantification'!K3:K142,'TOP3 quantification'!AC3:AC142) | AD4: =CORREL('TOP3 quantification'!K3:K142,'TOP3 quantification'!AD3:AD142) | AE4: =CORREL('TOP3 quantification'!K3:K142,'TOP3 quantification'!AE3:AE142) | AF4: =CORREL('TOP3 quantification'!K3:K142,'TOP3 quantification'!AF3:AF142) | AG4: =CORREL('TOP3 quantification'!K3:K142,'TOP3 quantification'!AG3:AG142) | AH4: =CORREL('TOP3 quantification'!K3:K142,'TOP3 quantification'!AH3:AH142) | AI4: =CORREL('TOP3 quantification'!K3:K142,'TOP3 quantification'!AI3:AI142) | AJ4: =CORREL('TOP3 quantification'!K3:K142,'TOP3 quantification'!AJ3:AJ142) | AK4: =CORREL('TOP3 quantification'!K3:K142,'TOP3 quantification'!AK3:AK142) | AL4: =CORREL('TOP3 quantification'!K3:K142,'TOP3 quantification'!AL3:AL142) | AM4: =CORREL('TOP3 quantification'!K3:K142,'TOP3 quantification'!AM3:AM142) | AN4: =CORREL('TOP3 quantification'!K3:K142,'TOP3 quantification'!AN3:AN142) | AO4: =CORREL('TOP3 quantification'!K3:K142,'TOP3 quantification'!AO3:AO142)
I5: 101 Kontrolle 6 3 | J5: =CORREL('TOP3 quantification'!L3:L142,'TOP3 quantification'!J3:J142) | K5: =CORREL('TOP3 quantification'!L3:L142,'TOP3 quantification'!K3:K142) | L5: =CORREL('TOP3 quantification'!L3:L142,'TOP3 quantification'!L3:L142) | M5: =CORREL('TOP3 quantification'!L3:L142,'TOP3 quantification'!M3:M142) | N5: =CORREL('TOP3 quantification'!L3:L142,'TOP3 quantification'!N3:N142) | O5: =CORREL('TOP3 quantification'!L3:L142,'TOP3 quantification'!O3:O142) | P5: =CORREL('TOP3 quantification'!L3:L142,'TOP3 quantification'!P3:P142) | Q5: =CORREL('TOP3 quantification'!L3:L142,'TOP3 quantification'!Q3:Q142) | R5: =CORREL('TOP3 quantification'!L3:L142,'TOP3 quantification'!R3:R142) | S5: =CORREL('TOP3 quantification'!L3:L142,'TOP3 quantification'!S3:S142) | T5: =CORREL('TOP3 quantification'!L3:L142,'TOP3 quantification'!T3:T142) | U5: =CORREL('TOP3 quantification'!L3:L142,'TOP3 quantification'!U3:U142) | V5: =CORREL('TOP3 quantification'!L3:L142,'TOP3 quantification'!V3:V142) | W5: =CORREL('TOP3 quantification'!L3:L142,'TOP3 quantification'!W3:W142) | X5: =CORREL('TOP3 quantification'!L3:L142,'TOP3 quantification'!X3:X142) | Y5: =CORREL('TOP3 quantification'!L3:L142,'TOP3 quantification'!Y3:Y142) | Z5: =CORREL('TOP3 quantification'!L3:L142,'TOP3 quantification'!Z3:Z142) | AA5: =CORREL('TOP3 quantification'!L3:L142,'TOP3 quantification'!AA3:AA142) | AB5: =CORREL('TOP3 quantification'!L3:L142,'TOP3 quantification'!AB3:AB142) | AC5: =CORREL('TOP3 quantification'!L3:L142,'TOP3 quantification'!AC3:AC142) | AD5: =CORREL('TOP3 quantification'!L3:L142,'TOP3 quantification'!AD3:AD142) | AE5: =CORREL('TOP3 quantification'!L3:L142,'TOP3 quantification'!AE3:AE142) | AF5: =CORREL('TOP3 quantification'!L3:L142,'TOP3 quantification'!AF3:AF142) | AG5: =CORREL('TOP3 quantification'!L3:L142,'TOP3 quantification'!AG3:AG142) | AH5: =CORREL('TOP3 quantification'!L3:L142,'TOP3 quantification'!AH3:AH142) | AI5: =CORREL('TOP3 quantification'!L3:L142,'TOP3 quantification'!AI3:AI142) | AJ5: =CORREL('TOP3 quantification'!L3:L142,'TOP3 quantification'!AJ3:AJ142) | AK5: =CORREL('TOP3 quantification'!L3:L142,'TOP3 quantification'!AK3:AK142) | AL5: =CORREL('TOP3 quantification'!L3:L142,'TOP3 quantification'!AL3:AL142) | AM5: =CORREL('TOP3 quantification'!L3:L142,'TOP3 quantification'!AM3:AM142) | AN5: =CORREL('TOP3 quantification'!L3:L142,'TOP3 quantification'!AN3:AN142) | AO5: =CORREL('TOP3 quantification'!L3:L142,'TOP3 quantification'!AO3:AO142)
