Workbook

Sheet TOP3 quantification
J1: Alex Kontrolle 6 +enolase 25fmol/ul | K1: Alex Kontrolle 6 +enolase 25fmol/ul | L1: Alex Kontrolle 6 +enolase 25fmol/ul | M1: Alex Kontrolle 2 +enolase 25fmol/ul | N1: Alex Kontrolle 2 +enolase 25fmol/ul | O1: Alex Kontrolle 2 +enolase 25fmol/ul | P1: Alex Kontrolle 35 +enolase 25fmol/ul | Q1: Alex Kontrolle 35 +enolase 25fmol/ul | R1: Alex Kontrolle 35 +enolase 25fmol/ul | S1: Alex Kontrolle 37 +enolase 25fmol/ul | T1: Alex Kontrolle 37 +enolase 25fmol/ul | U1: Alex Poly 43 +enolase 25fmol/ul | V1: Alex Poly 43 +enolase 25fmol/ul | W1: Alex Poly 43 +enolase 25fmol/ul | X1: Alex Poly 30 +enolase 25fmol/ul | Y1: Alex Poly 30 +enolase 25fmol/ul | Z1: Alex Poly 30 +enolase 25fmol/ul | AA1: Alex Poly 19 +enolase 25fmol/ul | AB1: Alex Poly 19 +enolase 25fmol/ul | AC1: Alex Poly 19 +enolase 25fmol/ul | AD1: Alex Poly 44 +enolase 25fmol/ul | AE1: Alex Poly 44 +enolase 25fmol/ul | AF1: Alex Poly 44 +enolase 25fmol/ul | AG1: Alex Karz 42 +enolase 25fmol/ul | AH1: Alex Karz 42 +enolase 25fmol/ul | AI1: Alex Karz 42 +enolase 25fmol/ul | AJ1: Alex Karz 41 +enolase 25fmol/ul | AK1: Alex Karz 41 +enolase 25fmol/ul | AL1: Alex Karz 41 +enolase 25fmol/ul | AM1: Alex Karz 34 +enolase 25fmol/ul | AN1: Alex Karz 34 +enolase 25fmol/ul | AO1: Alex Karz 34 +enolase 25fmol/ul | AP1: Alex Kontrolle 6 +enolase 25fmol/ul | AQ1: Alex Kontrolle 2 +enolase 25fmol/ul | AR1: Alex Kontrolle 35 +enolase 25fmol/ul | AS1: Alex Kontrolle 37 +enolase 25fmol/ul | AT1: Alex Poly 43 +enolase 25fmol/ul | AU1: Alex Poly 30 +enolase 25fmol/ul | AV1: Alex Poly 19 +enolase 25fmol/ul | AW1: Alex Poly 44 +enolase 25fmol/ul | AX1: Alex Karz 42 +enolase 25fmol/ul | AY1: Alex Karz 41 +enolase 25fmol/ul | AZ1: Alex Karz 34 +enolase 25fmol/ul
A2: description | B2: IEP | C2: mw | D2: max score | E2: accession | F2: reported peptides | G2: sequence coverage | H2: FDR level | I2: entry | J2: 101 Kontrolle 6 1 | K2: 101 Kontrolle 6 2 | L2: 101 Kontrolle 6 3 | M2: 102 Kontrolle 2 1 | N2: 102 Kontrolle 2 2 | O2: 102 Kontrolle 2 3 | P2: 103 Kontrolle 35 1 | Q2: 103 Kontrolle 35 2 | R2: 103 Kontrolle 35 3 | S2: 104 Kontrolle 37 1 | T2: 104 Kontrolle 37 2 | U2: 108 Polyp 43 1 | V2: 108 Polyp 43 2 | W2: 108 Polyp 43 3 | X2: 109 Polyp 30 1 | Y2: 109 Polyp 30 2 | Z2: 109 Polyp 30 3 | AA2: 110 Polyp 19 1 | AB2: 110 Polyp 19 2 | AC2: 110 Polyp 19 3 | AD2: 111 Polyp 44 1 | AE2: 111 Polyp 44 2 | AF2: 111 Polyp 44 3 | AG2: 107 Karz 42 1 | AH2: 107 Karz 42 2 | AI2: 107 Karz 42 3 | AJ2: 106 Karz 41 1 | AK2: 106 Karz 41 2 | AL2: 106 Karz 41 3 | AM2: 105 Karz 34 1 | AN2: 105 Karz 34 2 | AO2: 105 Karz 34 3 | AP2: AVERAGE 101 Kontrolle 6 | AQ2: AVERAGE 102 Kontrolle 2 | AR2: AVERAGE 103 Kontrolle 35 | AS2: AVERAGE 104 Kontrolle 37 | AT2: AVERAGE 108 Polyp 43 | AU2: AVERAGE 109 Polyp 30 | AV2: AVERAGE 110 Polyp 19 | AW2: AVERAGE 111 Polyp 44 | AX2: AVERAGE 107 Karz 42 | AY2: AVERAGE 106 Karz 41 | AZ2: AVERAGE 105 Karz 34
A3: Ceruloplasmin OS=Homo sapiens GN=CP PE=1 SV=1 | B3: 5.34 | C3: 123060.8 | D3: 29396.92 | E3: P00450 | F3: 42 | G3: 54.65 | H3: 0 | I3: CERU_HUMAN | J3: 611636.67 | K3: 640508.33 | L3: 573149.33 | M3: 658101.33 | N3: 574533.33 | O3: 557031.33 | P3: 503790.33 | Q3: 495741.67 | R3: 471446.67 | S3: 614478.33 | T3: 655400 | U3: 312691.67 | V3: 331571.67 | W3: 262051.67 | X3: 502125.33 | Y3: 510846 | Z3: 499139.67 | AA3: 560483.33 | AB3: 732624.33 | AC3: 572447.33 | AD3: 361051.33 | AE3: 371725.67 | AF3: 166236.33 | AG3: 486611.67 | AH3: 470064 | AI3: 548178.33 | AJ3: 462456 | AK3: 564726.67 | AL3: 575373 | AM3: 509814.33 | AN3: 541914.67 | AO3: 502003.33 | AP3: =IFERROR(SUM(J3:L3)/COUNTIF(J3:L3,">0"),) | AQ3: =IFERROR(SUM(M3:O3)/COUNTIF(M3:O3,">0"),) | AR3: =IFERROR(SUM(P3:R3)/COUNTIF(P3:R3,">0"),) | AS3: =IFERROR(SUM(S3:T3)/COUNTIF(S3:T3,">0"),) | AT3: =IFERROR(SUM(U3:W3)/COUNTIF(U3:W3,">0"),) | AU3: =IFERROR(SUM(X3:Z3)/COUNTIF(X3:Z3,">0"),) | AV3: =IFERROR(SUM(AA3:AC3)/COUNTIF(AA3:AC3,">0"),) | AW3: =IFERROR(SUM(AD3:AF3)/COUNTIF(AD3:AF3,">0"),) | AX3: =IFERROR(SUM(AG3:AI3)/COUNTIF(AG3:AI3,">0"),) | AY3: =IFERROR(SUM(AJ3:AL3)/COUNTIF(AJ3:AL3,">0"),) | AZ3: =IFERROR(SUM(AM3:AO3)/COUNTIF(AM3:AO3,">0"),)
A4: Zinc-alpha-2-glycoprotein OS=Homo sapiens GN=AZGP1 PE=1 SV=2 | B4: 5.64 | C4: 34486.872 | D4: 29116.78 | E4: P25311 | F4: 16 | G4: 57.72 | H4: 0 | I4: ZA2G_HUMAN | J4: 521259.67 | K4: 531134 | L4: 443972.33 | M4: 172649.33 | N4: 175396.67 | O4: 153776.67 | P4: 142362.33 | Q4: 133935 | R4: 132965.33 | S4: 253111.67 | T4: 226566.67 | U4: 300220.33 | V4: 281544 | W4: 281362 | X4: 414547.67 | Y4: 372433.33 | Z4: 491610.33 | AA4: 192847.67 | AB4: 169098.67 | AC4: 224998.33 | AD4: 131075.67 | AE4: 127657.67 | AF4: 81029.333 | AG4: 289500 | AH4: 265108.33 | AI4: 390297.67 | AJ4: 250292 | AK4: 237790.67 | AL4: 337333.67 | AM4: 274829 | AN4: 262620.67 | AO4: 208185.67 | AP4: =IFERROR(SUM(J4:L4)/COUNTIF(J4:L4,">0"),) | AQ4: =IFERROR(SUM(M4:O4)/COUNTIF(M4:O4,">0"),) | AR4: =IFERROR(SUM(P4:R4)/COUNTIF(P4:R4,">0"),) | AS4: =IFERROR(SUM(S4:T4)/COUNTIF(S4:T4,">0"),) | AT4: =IFERROR(SUM(U4:W4)/COUNTIF(U4:W4,">0"),) | AU4: =IFERROR(SUM(X4:Z4)/COUNTIF(X4:Z4,">0"),) | AV4: =IFERROR(SUM(AA4:AC4)/COUNTIF(AA4:AC4,">0"),) | AW4: =IFERROR(SUM(AD4:AF4)/COUNTIF(AD4:AF4,">0"),) | AX4: =IFERROR(SUM(AG4:AI4)/COUNTIF(AG4:AI4,">0"),) | AY4: =IFERROR(SUM(AJ4:AL4)/COUNTIF(AJ4:AL4,">0"),) | AZ4: =IFERROR(SUM(AM4:AO4)/COUNTIF(AM4:AO4,">0"),)
A5: Apolipoprotein A-IV OS=Homo sapiens GN=APOA4 PE=1 SV=3 | B5: 5.11 | C5: 45399.118 | D5: 27228.39 | E5: P06727 | F5: 27 | G5: 77.27 | H5: 0 | I5: APOA4_HUMAN | J5: 70227.667 | K5: 70544.333 | L5: 68294.333 | M5: 73119.667 | N5: 74883 | O5: 76744.333 | P5: 97835.333 | Q5: 99281.667 | R5: 89792.333 | S5: 175450 | T5: 195236.33 | U5: 127196.67 | V5: 126244 | W5: 117535.33 | X5: 188722.67 | Y5: 183979 | Z5: 183325.67 | AA5: 80778.667 | AB5: 75915.667 | AC5: 70727.333 | AD5: 11542 | AE5: 15219.333 | AF5: 10250.333 | AG5: 80559.333 | AH5: 75226.333 | AI5: 79627.333 | AJ5: 152976.67 | AK5: 150601 | AL5: 153261 | AM5: 227315.33 | AN5: 216614 | AO5: 227984.33 | AP5: =IFERROR(SUM(J5:L5)/COUNTIF(J5:L5,">0"),) | AQ5: =IFERROR(SUM(M5:O5)/COUNTIF(M5:O5,">0"),) | AR5: =IFERROR(SUM(P5:R5)/COUNTIF(P5:R5,">0"),) | AS5: =IFERROR(SUM(S5:T5)/COUNTIF(S5:T5,">0"),) | AT5: =IFERROR(SUM(U5:W5)/COUNTIF(U5:W5,">0"),) | AU5: =IFERROR(SUM(X5:Z5)/COUNTIF(X5:Z5,">0"),) | AV5: =IFERROR(SUM(AA5:AC5)/COUNTIF(AA5:AC5,">0"),) | AW5: =IFERROR(SUM(AD5:AF5)/COUNTIF(AD5:AF5,">0"),) | AX5: =IFERROR(SUM(AG5:AI5)/COUNTIF(AG5:AI5,">0"),) | AY5: =IFERROR(SUM(AJ5:AL5)/COUNTIF(AJ5:AL5,">0"),) | AZ5: =IFERROR(SUM(AM5:AO5)/COUNTIF(AM5:AO5,">0"),)
A6: Angiotensinogen OS=Homo sapiens GN=AGT PE=1 SV=1 | B6: 5.85 | C6: 53439.43 | D6: 21453.28 | E6: P01019 | F6: 15 | G6: 50.93 | H6: 0 | I6: ANGT_HUMAN | J6: 313118.33 | K6: 322599 | L6: 289345.67 | M6: 520902.33 | N6: 517913.33 | O6: 481277.67 | P6: 437319.67 | Q6: 429677.67 | R6: 391480.33 | S6: 299253 | T6: 320187.33 | U6: 205520.67 | V6: 198619.33 | W6: 181848 | X6: 213943.33 | Y6: 193044.67 | Z6: 206733 | AA6: 171509.67 | AB6: 155622.67 | AC6: 187296 | AD6: 172309.33 | AE6: 101992.67 | AF6: 61517 | AG6: 200942 | AH6: 171529.33 | AI6: 207233.67 | AJ6: 298409.33 | AK6: 287042.67 | AL6: 316173 | AM6: 215189.67 | AN6: 204544.33 | AO6: 215541.33 | AP6: =IFERROR(SUM(J6:L6)/COUNTIF(J6:L6,">0"),) | AQ6: =IFERROR(SUM(M6:O6)/COUNTIF(M6:O6,">0"),) | AR6: =IFERROR(SUM(P6:R6)/COUNTIF(P6:R6,">0"),) | AS6: =IFERROR(SUM(S6:T6)/COUNTIF(S6:T6,">0"),) | AT6: =IFERROR(SUM(U6:W6)/COUNTIF(U6:W6,">0"),) | AU6: =IFERROR(SUM(X6:Z6)/COUNTIF(X6:Z6,">0"),) | AV6: =IFERROR(SUM(AA6:AC6)/COUNTIF(AA6:AC6,">0"),) | AW6: =IFERROR(SUM(AD6:AF6)/COUNTIF(AD6:AF6,">0"),) | AX6: =IFERROR(SUM(AG6:AI6)/COUNTIF(AG6:AI6,">0"),) | AY6: =IFERROR(SUM(AJ6:AL6)/COUNTIF(AJ6:AL6,">0"),) | AZ6: =IFERROR(SUM(AM6:AO6)/COUNTIF(AM6:AO6,">0"),)
A7: Transthyretin OS=Homo sapiens GN=TTR PE=1 SV=1 | B7: 5.4 | C7: 16001.098 | D7: 20853.62 | E7: P02766 | F7: 4 | G7: 42.86 | H7: 0 | I7: TTHY_HUMAN | J7: 2839 | K7: 1317 | L7: 3928 | M7: 60538.333 | N7: 54592.667 | O7: 55110.333 | P7: 67485.333 | Q7: 70689.333 | R7: 75948.333 | S7: 19395.667 | T7: 22762.333 | U7: 4146.5 | V7: 4711.5 | W7: 6993 | X7: 10394 | Y7: 12106.5 | Z7: 6714 | AA7: 3412 | AB7: 4611 | AC7: 6302 | AD7: 171202 | AE7: 170239.33 | AF7: 68528 | AG7: 12167.5 | AH7: 12790.5 | AI7: 8878.6667 | AJ7: 4945 | AK7: 4237 | AL7: 2693 | AM7: 52317.333 | AN7: 66235 | AO7: 46501.5 | AP7: =IFERROR(SUM(J7:L7)/COUNTIF(J7:L7,">0"),) | AQ7: =IFERROR(SUM(M7:O7)/COUNTIF(M7:O7,">0"),) | AR7: =IFERROR(SUM(P7:R7)/COUNTIF(P7:R7,">0"),) | AS7: =IFERROR(SUM(S7:T7)/COUNTIF(S7:T7,">0"),) | AT7: =IFERROR(SUM(U7:W7)/COUNTIF(U7:W7,">0"),) | AU7: =IFERROR(SUM(X7:Z7)/COUNTIF(X7:Z7,">0"),) | AV7: =IFERROR(SUM(AA7:AC7)/COUNTIF(AA7:AC7,">0"),) | AW7: =IFERROR(SUM(AD7:AF7)/COUNTIF(AD7:AF7,">0"),) | AX7: =IFERROR(SUM(AG7:AI7)/COUNTIF(AG7:AI7,">0"),) | AY7: =IFERROR(SUM(AJ7:AL7)/COUNTIF(AJ7:AL7,">0"),) | AZ7: =IFERROR(SUM(AM7:AO7)/COUNTIF(AM7:AO7,">0"),)
A8: Sex hormone-binding globulin OS=Homo sapiens GN=SHBG PE=1 SV=2 | B8: 6.24 | C8: 44007.38 | D8: 20747.89 | E8: P04278 | F8: 13 | G8: 47.76 | H8: 0 | I8: SHBG_HUMAN | J8: 46217.667 | K8: 57081.333 | L8: 61124 | M8: 35902 | N8: 40025.667 | O8: 41794 | P8: 82659.333 | Q8: 82744 | R8: 88399.667 | S8: 10739.667 | T8: 12874 | U8: 25526 | V8: 27917.667 | W8: 11510.333 | X8: 10123.667 | Y8: 10895 | Z8: 10859.333 | AA8: 25478.667 | AB8: 26341.667 | AC8: 23635.667 | AD8: 4739 | AE8: 12402 | AG8: 20499.333 | AH8: 30265.667 | AI8: 16437 | AJ8: 13565.333 | AK8: 18204.333 | AL8: 14846.333 | AM8: 12934.333 | AN8: 14892 | AO8: 7198 | AP8: =IFERROR(SUM(J8:L8)/COUNTIF(J8:L8,">0"),) | AQ8: =IFERROR(SUM(M8:O8)/COUNTIF(M8:O8,">0"),) | AR8: =IFERROR(SUM(P8:R8)/COUNTIF(P8:R8,">0"),) | AS8: =IFERROR(SUM(S8:T8)/COUNTIF(S8:T8,">0"),) | AT8: =IFERROR(SUM(U8:W8)/COUNTIF(U8:W8,">0"),) | AU8: =IFERROR(SUM(X8:Z8)/COUNTIF(X8:Z8,">0"),) | AV8: =IFERROR(SUM(AA8:AC8)/COUNTIF(AA8:AC8,">0"),) | AW8: =IFERROR(SUM(AD8:AF8)/COUNTIF(AD8:AF8,">0"),) | AX8: =IFERROR(SUM(AG8:AI8)/COUNTIF(AG8:AI8,">0"),) | AY8: =IFERROR(SUM(AJ8:AL8)/COUNTIF(AJ8:AL8,">0"),) | AZ8: =IFERROR(SUM(AM8:AO8)/COUNTIF(AM8:AO8,">0"),)
A9: Alpha-2-macroglobulin OS=Homo sapiens GN=A2M PE=1 SV=3 | B9: 6 | C9: 164716.9 | D9: 20485.11 | E9: P01023 | F9: 64 | G9: 55.09 | H9: 0 | I9: A2MG_HUMAN | J9: 134214.67 | K9: 143138 | L9: 117250 | M9: 258149.33 | N9: 300153 | O9: 282558.67 | P9: 354223 | Q9: 358272.33 | R9: 368005 | S9: 215144.67 | T9: 231281.67 | U9: 427463.33 | V9: 397264.67 | W9: 314049.67 | X9: 185907 | Y9: 163161.33 | Z9: 146603 | AA9: 319631 | AB9: 331229.67 | AC9: 310923 | AD9: 131633.33 | AE9: 130505.33 | AF9: 65669.215 | AG9: 157457.33 | AH9: 153397.33 | AI9: 213216.46 | AJ9: 183326 | AK9: 213742.33 | AL9: 201902 | AM9: 137456.67 | AN9: 122098 | AO9: 96422.667 | AP9: =IFERROR(SUM(J9:L9)/COUNTIF(J9:L9,">0"),) | AQ9: =IFERROR(SUM(M9:O9)/COUNTIF(M9:O9,">0"),) | AR9: =IFERROR(SUM(P9:R9)/COUNTIF(P9:R9,">0"),) | AS9: =IFERROR(SUM(S9:T9)/COUNTIF(S9:T9,">0"),) | AT9: =IFERROR(SUM(U9:W9)/COUNTIF(U9:W9,">0"),) | AU9: =IFERROR(SUM(X9:Z9)/COUNTIF(X9:Z9,">0"),) | AV9: =IFERROR(SUM(AA9:AC9)/COUNTIF(AA9:AC9,">0"),) | AW9: =IFERROR(SUM(AD9:AF9)/COUNTIF(AD9:AF9,">0"),) | AX9: =IFERROR(SUM(AG9:AI9)/COUNTIF(AG9:AI9,">0"),) | AY9: =IFERROR(SUM(AJ9:AL9)/COUNTIF(AJ9:AL9,">0"),) | AZ9: =IFERROR(SUM(AM9:AO9)/COUNTIF(AM9:AO9,">0"),)
A10: Serum amyloid P-component OS=Homo sapiens GN=APCS PE=1 SV=2 | B10: 6.1 | C10: 25501.207 | D10: 19077.41 | E10: P02743 | F10: 8 | G10: 34.08 | H10: 0 | I10: SAMP_HUMAN | J10: 211816.67 | K10: 215474.67 | L10: 196682.33 | M10: 193427 | N10: 192842.33 | O10: 182020 | P10: 95994.333 | Q10: 96881.667 | R10: 86668.333 | S10: 176883.67 | T10: 183636.67 | U10: 131106 | V10: 126256.33 | W10: 115023.33 | X10: 289158 | Y10: 263732.67 | Z10: 264065 | AA10: 143839 | AB10: 140721 | AC10: 155648.67 | AD10: 112365.33 | AE10: 109871.67 | AF10: 64172.667 | AG10: 252427.33 | AH10: 235055.67 | AI10: 239415.67 | AJ10: 224469 | AK10: 224402.33 | AL10: 224267.67 | AM10: 230823.33 | AN10: 218570.67 | AO10: 221662.67 | AP10: =IFERROR(SUM(J10:L10)/COUNTIF(J10:L10,">0"),) | AQ10: =IFERROR(SUM(M10:O10)/COUNTIF(M10:O10,">0"),) | AR10: =IFERROR(SUM(P10:R10)/COUNTIF(P10:R10,">0"),) | AS10: =IFERROR(SUM(S10:T10)/COUNTIF(S10:T10,">0"),) | AT10: =IFERROR(SUM(U10:W10)/COUNTIF(U10:W10,">0"),) | AU10: =IFERROR(SUM(X10:Z10)/COUNTIF(X10:Z10,">0"),) | AV10: =IFERROR(SUM(AA10:AC10)/COUNTIF(AA10:AC10,">0"),) | AW10: =IFERROR(SUM(AD10:AF10)/COUNTIF(AD10:AF10,">0"),) | AX10: =IFERROR(SUM(AG10:AI10)/COUNTIF(AG10:AI10,">0"),) | AY10: =IFERROR(SUM(AJ10:AL10)/COUNTIF(AJ10:AL10,">0"),) | AZ10: =IFERROR(SUM(AM10:AO10)/COUNTIF(AM10:AO10,">0"),)
A11: Leucine-rich alpha-2-glycoprotein OS=Homo sapiens GN=LRG1 PE=1 SV=2 | B11: 6.5 | C11: 38406.063 | D11: 17459.44 | E11: P02750 | F11: 15 | G11: 50.43 | H11: 0 | I11: A2GL_HUMAN | J11: 184117.33 | K11: 204129 | L11: 217127.67 | M11: 87173 | N11: 85562.333 | O11: 99524.667 | P11: 56313.667 | Q11: 52621.333 | R11: 76055.333 | S11: 155536 | T11: 170657 | U11: 113420.67 | V11: 118037 | W11: 76527 | X11: 282259 | Y11: 263426 | Z11: 203290.67 | AA11: 169774 | AB11: 215557.67 | AC11: 122190.67 | AD11: 27629.667 | AE11: 46096.667 | AF11: 23447.667 | AG11: 204459.33 | AH11: 234256.67 | AI11: 205294.67 | AJ11: 124075 | AK11: 166945 | AL11: 158758.67 | AM11: 119759.33 | AN11: 145659.33 | AO11: 80411.333 | AP11: =IFERROR(SUM(J11:L11)/COUNTIF(J11:L11,">0"),) | AQ11: =IFERROR(SUM(M11:O11)/COUNTIF(M11:O11,">0"),) | AR11: =IFERROR(SUM(P11:R11)/COUNTIF(P11:R11,">0"),) | AS11: =IFERROR(SUM(S11:T11)/COUNTIF(S11:T11,">0"),) | AT11: =IFERROR(SUM(U11:W11)/COUNTIF(U11:W11,">0"),) | AU11: =IFERROR(SUM(X11:Z11)/COUNTIF(X11:Z11,">0"),) | AV11: =IFERROR(SUM(AA11:AC11)/COUNTIF(AA11:AC11,">0"),) | AW11: =IFERROR(SUM(AD11:AF11)/COUNTIF(AD11:AF11,">0"),) | AX11: =IFERROR(SUM(AG11:AI11)/COUNTIF(AG11:AI11,">0"),) | AY11: =IFERROR(SUM(AJ11:AL11)/COUNTIF(AJ11:AL11,">0"),) | AZ11: =IFERROR(SUM(AM11:AO11)/COUNTIF(AM11:AO11,">0"),)
A12: N-acetylmuramoyl-L-alanine amidase OS=Homo sapiens GN=PGLYRP2 PE=1 SV=1 | B12: 7.27 | C12: 62787.372 | D12: 16049.14 | E12: Q96PD5 | F12: 11 | G12: 33.51 | H12: 0 | I12: PGRP2_HUMAN | J12: 37942 | K12: 44855 | L12: 48043.333 | M12: 9017.6667 | N12: 10232.333 | O12: 11653.333 | P12: 17175.333 | Q12: 17957.667 | R12: 20670.667 | S12: 27057.667 | T12: 29435 | U12: 40616.667 | V12: 49477.667 | W12: 28485.667 | X12: 18144.333 | Y12: 23054.667 | Z12: 21523 | AA12: 33436.333 | AB12: 40619 | AC12: 42850.667 | AD12: 7090.3333 | AE12: 13056.333 | AG12: 33262 | AH12: 43607 | AI12: 49766 | AJ12: 42238 | AK12: 60316 | AL12: 48670.667 | AM12: 37377.667 | AN12: 49437.333 | AO12: 32719.333 | AP12: =IFERROR(SUM(J12:L12)/COUNTIF(J12:L12,">0"),) | AQ12: =IFERROR(SUM(M12:O12)/COUNTIF(M12:O12,">0"),) | AR12: =IFERROR(SUM(P12:R12)/COUNTIF(P12:R12,">0"),) | AS12: =IFERROR(SUM(S12:T12)/COUNTIF(S12:T12,">0"),) | AT12: =IFERROR(SUM(U12:W12)/COUNTIF(U12:W12,">0"),) | AU12: =IFERROR(SUM(X12:Z12)/COUNTIF(X12:Z12,">0"),) | AV12: =IFERROR(SUM(AA12:AC12)/COUNTIF(AA12:AC12,">0"),) | AW12: =IFERROR(SUM(AD12:AF12)/COUNTIF(AD12:AF12,">0"),) | AX12: =IFERROR(SUM(AG12:AI12)/COUNTIF(AG12:AI12,">0"),) | AY12: =IFERROR(SUM(AJ12:AL12)/COUNTIF(AJ12:AL12,">0"),) | AZ12: =IFERROR(SUM(AM12:AO12)/COUNTIF(AM12:AO12,">0"),)
A13: Pigment epithelium-derived factor OS=Homo sapiens GN=SERPINF1 PE=1 SV=4 | B13: 5.94 | C13: 46483.345 | D13: 13997.92 | E13: P36955 | F13: 19 | G13: 53.59 | H13: 0 | I13: PEDF_HUMAN | J13: 144135.33 | K13: 127369 | L13: 137732 | M13: 74318.333 | N13: 76273 | O13: 72534.667 | P13: 58633.333 | Q13: 58336 | R13: 53107.333 | S13: 82367.667 | T13: 88616 | U13: 107308 | V13: 102436 | W13: 80077 | X13: 75245.333 | Y13: 69828 | Z13: 77813.333 | AA13: 60495 | AB13: 52598 | AC13: 65262.333 | AD13: 53699.333 | AE13: 53842.333 | AF13: 41900.333 | AG13: 92767 | AH13: 83497 | AI13: 100673.33 | AJ13: 119391 | AK13: 111783.33 | AL13: 130297 | AM13: 114011.33 | AN13: 106108.67 | AO13: 116702 | AP13: =IFERROR(SUM(J13:L13)/COUNTIF(J13:L13,">0"),) | AQ13: =IFERROR(SUM(M13:O13)/COUNTIF(M13:O13,">0"),) | AR13: =IFERROR(SUM(P13:R13)/COUNTIF(P13:R13,">0"),) | AS13: =IFERROR(SUM(S13:T13)/COUNTIF(S13:T13,">0"),) | AT13: =IFERROR(SUM(U13:W13)/COUNTIF(U13:W13,">0"),) | AU13: =IFERROR(SUM(X13:Z13)/COUNTIF(X13:Z13,">0"),) | AV13: =IFERROR(SUM(AA13:AC13)/COUNTIF(AA13:AC13,">0"),) | AW13: =IFERROR(SUM(AD13:AF13)/COUNTIF(AD13:AF13,">0"),) | AX13: =IFERROR(SUM(AG13:AI13)/COUNTIF(AG13:AI13,">0"),) | AY13: =IFERROR(SUM(AJ13:AL13)/COUNTIF(AJ13:AL13,">0"),) | AZ13: =IFERROR(SUM(AM13:AO13)/COUNTIF(AM13:AO13,">0"),)
A14: Hemoglobin subunit beta OS=Homo sapiens GN=HBB PE=1 SV=2 | B14: 6.88 | C14: 16112.482 | D14: 13610.06 | E14: P68871 | F14: 9 | G14: 76.87 | H14: 0 | I14: HBB_HUMAN | J14: 1764.5 | K14: 1646.5 | L14: 2412 | M14: 6993.3333 | N14: 6973.6667 | O14: 7095 | P14: 1113.5 | Q14: 1614 | R14: 1399 | S14: 3098 | T14: 3020 | U14: 2602.6667 | V14: 2709 | W14: 2523 | X14: 966 | Y14: 1654 | Z14: 1014 | AA14: 34487.333 | AB14: 34673.333 | AC14: 31237.333 | AG14: 4665.3333 | AH14: 4795.6667 | AI14: 4441.3333 | AJ14: 2432 | AK14: 2863 | AL14: 3162.6667 | AM14: 3769.3333 | AN14: 3816.6667 | AO14: 3583 | AP14: =IFERROR(SUM(J14:L14)/COUNTIF(J14:L14,">0"),) | AQ14: =IFERROR(SUM(M14:O14)/COUNTIF(M14:O14,">0"),) | AR14: =IFERROR(SUM(P14:R14)/COUNTIF(P14:R14,">0"),) | AS14: =IFERROR(SUM(S14:T14)/COUNTIF(S14:T14,">0"),) | AT14: =IFERROR(SUM(U14:W14)/COUNTIF(U14:W14,">0"),) | AU14: =IFERROR(SUM(X14:Z14)/COUNTIF(X14:Z14,">0"),) | AV14: =IFERROR(SUM(AA14:AC14)/COUNTIF(AA14:AC14,">0"),) | AW14: =IFERROR(SUM(AD14:AF14)/COUNTIF(AD14:AF14,">0"),) | AX14: =IFERROR(SUM(AG14:AI14)/COUNTIF(AG14:AI14,">0"),) | AY14: =IFERROR(SUM(AJ14:AL14)/COUNTIF(AJ14:AL14,">0"),) | AZ14: =IFERROR(SUM(AM14:AO14)/COUNTIF(AM14:AO14,">0"),)
A15: Heparin cofactor 2 OS=Homo sapiens GN=SERPIND1 PE=1 SV=3 | B15: 6.43 | C15: 57241.828 | D15: 13036.53 | E15: P05546 | F15: 19 | G15: 41.08 | H15: 0 | I15: HEP2_HUMAN | J15: 48940 | K15: 51441 | L15: 45618.333 | M15: 52078.333 | N15: 55471 | O15: 50393.333 | P15: 80381 | Q15: 79758.667 | R15: 70635.333 | S15: 92397.333 | T15: 95548.333 | U15: 42015 | V15: 38863.667 | W15: 37875.333 | X15: 88981.667 | Y15: 79679.333 | Z15: 81014 | AA15: 121298.33 | AB15: 113155.33 | AC15: 132733.67 | AD15: 6927.6667 | AE15: 7874 | AG15: 56596.333 | AH15: 53156.667 | AI15: 56902.333 | AJ15: 127450 | AK15: 120645.67 | AL15: 123949.33 | AM15: 130214.67 | AN15: 126836.33 | AO15: 130545.67 | AP15: =IFERROR(SUM(J15:L15)/COUNTIF(J15:L15,">0"),) | AQ15: =IFERROR(SUM(M15:O15)/COUNTIF(M15:O15,">0"),) | AR15: =IFERROR(SUM(P15:R15)/COUNTIF(P15:R15,">0"),) | AS15: =IFERROR(SUM(S15:T15)/COUNTIF(S15:T15,">0"),) | AT15: =IFERROR(SUM(U15:W15)/COUNTIF(U15:W15,">0"),) | AU15: =IFERROR(SUM(X15:Z15)/COUNTIF(X15:Z15,">0"),) | AV15: =IFERROR(SUM(AA15:AC15)/COUNTIF(AA15:AC15,">0"),) | AW15: =IFERROR(SUM(AD15:AF15)/COUNTIF(AD15:AF15,">0"),) | AX15: =IFERROR(SUM(AG15:AI15)/COUNTIF(AG15:AI15,">0"),) | AY15: =IFERROR(SUM(AJ15:AL15)/COUNTIF(AJ15:AL15,">0"),) | AZ15: =IFERROR(SUM(AM15:AO15)/COUNTIF(AM15:AO15,">0"),)
A16: Clusterin OS=Homo sapiens GN=CLU PE=1 SV=1 | B16: 5.84 | C16: 53064.968 | D16: 12887.52 | E16: P10909 | F16: 11 | G16: 34.74 | H16: 0 | I16: CLUS_HUMAN | J16: 11556.333 | K16: 12389.333 | L16: 11268 | M16: 24591.667 | N16: 24743.667 | O16: 19477.667 | P16: 33745.333 | Q16: 34410 | R16: 30736.333 | S16: 30946.333 | T16: 34733.667 | U16: 30342.667 | V16: 29894.333 | W16: 15188.333 | X16: 38013.667 | Y16: 34347 | Z16: 24941.667 | AA16: 66805 | AB16: 53287.333 | AC16: 48131.333 | AD16: 5685.3333 | AE16: 6153.5 | AG16: 27992 | AH16: 29402.667 | AI16: 25463.667 | AJ16: 27032.333 | AK16: 29546 | AL16: 30446 | AM16: 40320.333 | AN16: 37693.333 | AO16: 25847.333 | AP16: =IFERROR(SUM(J16:L16)/COUNTIF(J16:L16,">0"),) | AQ16: =IFERROR(SUM(M16:O16)/COUNTIF(M16:O16,">0"),) | AR16: =IFERROR(SUM(P16:R16)/COUNTIF(P16:R16,">0"),) | AS16: =IFERROR(SUM(S16:T16)/COUNTIF(S16:T16,">0"),) | AT16: =IFERROR(SUM(U16:W16)/COUNTIF(U16:W16,">0"),) | AU16: =IFERROR(SUM(X16:Z16)/COUNTIF(X16:Z16,">0"),) | AV16: =IFERROR(SUM(AA16:AC16)/COUNTIF(AA16:AC16,">0"),) | AW16: =IFERROR(SUM(AD16:AF16)/COUNTIF(AD16:AF16,">0"),) | AX16: =IFERROR(SUM(AG16:AI16)/COUNTIF(AG16:AI16,">0"),) | AY16: =IFERROR(SUM(AJ16:AL16)/COUNTIF(AJ16:AL16,">0"),) | AZ16: =IFERROR(SUM(AM16:AO16)/COUNTIF(AM16:AO16,">0"),)
A17: Apolipoprotein E OS=Homo sapiens GN=APOE PE=1 SV=1 | B17: 5.48 | C17: 36268.203 | D17: 11578.91 | E17: P02649 | F17: 18 | G17: 68.45 | H17: 0 | I17: APOE_HUMAN | J17: 4103 | K17: 3860 | L17: 4395.6667 | M17: 6396.3333 | N17: 6470 | O17: 6949 | P17: 15453 | Q17: 16005 | R17: 16357 | S17: 26071 | T17: 26971.333 | U17: 13678.667 | V17: 13728.667 | W17: 14151.333 | X17: 18319.333 | Y17: 18842 | Z17: 19596 | AA17: 13319.333 | AB17: 12421.333 | AC17: 13555.667 | AE17: 7593 | AG17: 20038.667 | AH17: 20180.333 | AI17: 22788.333 | AJ17: 37535 | AK17: 38726.333 | AL17: 43448.333 | AM17: 34372.333 | AN17: 33093 | AO17: 34070.667 | AP17: =IFERROR(SUM(J17:L17)/COUNTIF(J17:L17,">0"),) | AQ17: =IFERROR(SUM(M17:O17)/COUNTIF(M17:O17,">0"),) | AR17: =IFERROR(SUM(P17:R17)/COUNTIF(P17:R17,">0"),) | AS17: =IFERROR(SUM(S17:T17)/COUNTIF(S17:T17,">0"),) | AT17: =IFERROR(SUM(U17:W17)/COUNTIF(U17:W17,">0"),) | AU17: =IFERROR(SUM(X17:Z17)/COUNTIF(X17:Z17,">0"),) | AV17: =IFERROR(SUM(AA17:AC17)/COUNTIF(AA17:AC17,">0"),) | AW17: =IFERROR(SUM(AD17:AF17)/COUNTIF(AD17:AF17,">0"),) | AX17: =IFERROR(SUM(AG17:AI17)/COUNTIF(AG17:AI17,">0"),) | AY17: =IFERROR(SUM(AJ17:AL17)/COUNTIF(AJ17:AL17,">0"),) | AZ17: =IFERROR(SUM(AM17:AO17)/COUNTIF(AM17:AO17,">0"),)
A18: Complement component C9 OS=Homo sapiens GN=C9 PE=1 SV=2 | B18: 5.27 | C18: 64656.174 | D18: 11347.18 | E18: P02748 | F18: 23 | G18: 57.6 | H18: 0 | I18: CO9_HUMAN | J18: 59117 | K18: 65061.667 | L18: 57604.667 | M18: 12767.667 | N18: 13375.333 | O18: 13181.333 | P18: 17645.667 | Q18: 19561.333 | R18: 19048.667 | S18: 75066.667 | T18: 86080 | U18: 64570.333 | V18: 58596.667 | W18: 58263.667 | X18: 99412.333 | Y18: 90653 | Z18: 102805.67 | AA18: 128885 | AB18: 116313.67 | AC18: 114449.33 | AD18: 15783.667 | AE18: 21714.333 | AF18: 7449 | AG18: 147147.33 | AH18: 136776.33 | AI18: 154993.67 | AJ18: 107521.33 | AK18: 104135.33 | AL18: 118015.33 | AM18: 93436.333 | AN18: 85818.333 | AO18: 84973.333 | AP18: =IFERROR(SUM(J18:L18)/COUNTIF(J18:L18,">0"),) | AQ18: =IFERROR(SUM(M18:O18)/COUNTIF(M18:O18,">0"),) | AR18: =IFERROR(SUM(P18:R18)/COUNTIF(P18:R18,">0"),) | AS18: =IFERROR(SUM(S18:T18)/COUNTIF(S18:T18,">0"),) | AT18: =IFERROR(SUM(U18:W18)/COUNTIF(U18:W18,">0"),) | AU18: =IFERROR(SUM(X18:Z18)/COUNTIF(X18:Z18,">0"),) | AV18: =IFERROR(SUM(AA18:AC18)/COUNTIF(AA18:AC18,">0"),) | AW18: =IFERROR(SUM(AD18:AF18)/COUNTIF(AD18:AF18,">0"),) | AX18: =IFERROR(SUM(AG18:AI18)/COUNTIF(AG18:AI18,">0"),) | AY18: =IFERROR(SUM(AJ18:AL18)/COUNTIF(AJ18:AL18,">0"),) | AZ18: =IFERROR(SUM(AM18:AO18)/COUNTIF(AM18:AO18,">0"),)
A19: Profilin-1 OS=Homo sapiens GN=PFN1 PE=1 SV=2 | B19: 8.46 | C19: 15225.349 | D19: 11227.67 | E19: P07737 | F19: 7 | G19: 64.29 | H19: 0 | I19: PROF1_HUMAN | J19: 10218.333 | K19: 10801 | L19: 10745.333 | M19: 23354.667 | N19: 25145.667 | O19: 21156 | P19: 9456.6667 | Q19: 9786 | R19: 9093.3333 | S19: 30518 | T19: 32863.667 | U19: 7059.6667 | V19: 6807 | W19: 3945.3333 | X19: 7110.3333 | Y19: 7419.6667 | Z19: 6198.3333 | AA19: 5486.3333 | AB19: 5044 | AC19: 4502.3333 | AD19: 6017 | AE19: 8694 | AF19: 6482 | AG19: 16268.333 | AH19: 17761 | AI19: 13706.667 | AJ19: 15849 | AK19: 16311.333 | AL19: 14161.333 | AM19: 12688.333 | AN19: 12202.667 | AO19: 8190 | AP19: =IFERROR(SUM(J19:L19)/COUNTIF(J19:L19,">0"),) | AQ19: =IFERROR(SUM(M19:O19)/COUNTIF(M19:O19,">0"),) | AR19: =IFERROR(SUM(P19:R19)/COUNTIF(P19:R19,">0"),) | AS19: =IFERROR(SUM(S19:T19)/COUNTIF(S19:T19,">0"),) | AT19: =IFERROR(SUM(U19:W19)/COUNTIF(U19:W19,">0"),) | AU19: =IFERROR(SUM(X19:Z19)/COUNTIF(X19:Z19,">0"),) | AV19: =IFERROR(SUM(AA19:AC19)/COUNTIF(AA19:AC19,">0"),) | AW19: =IFERROR(SUM(AD19:AF19)/COUNTIF(AD19:AF19,">0"),) | AX19: =IFERROR(SUM(AG19:AI19)/COUNTIF(AG19:AI19,">0"),) | AY19: =IFERROR(SUM(AJ19:AL19)/COUNTIF(AJ19:AL19,">0"),) | AZ19: =IFERROR(SUM(AM19:AO19)/COUNTIF(AM19:AO19,">0"),)
A20: Contaminant, Serum albumin precursor (Allergen Bos d 6) (BSA) | B20: 5.76 | C20: 71762.917 | D20: 11106.84 | E20: P02769 | F20: 15 | G20: 30.28 | H20: 0 | I20: ALBU_BOVIN_CONTA | K20: 6711 | L20: 4279 | M20: 975.5 | N20: 1643 | O20: 1552 | P20: 166054.67 | Q20: 165665.33 | R20: 231988.33 | S20: 1158.5 | T20: 1307.3333 | X20: 939 | Y20: 780 | Z20: 812 | AA20: 514 | AB20: 540 | AC20: 1265.5 | AI20: 617.66667 | AL20: 722 | AM20: 854 | AN20: 787 | AO20: 1892 | AP20: =IFERROR(SUM(J20:L20)/COUNTIF(J20:L20,">0"),) | AQ20: =IFERROR(SUM(M20:O20)/COUNTIF(M20:O20,">0"),) | AR20: =IFERROR(SUM(P20:R20)/COUNTIF(P20:R20,">0"),) | AS20: =IFERROR(SUM(S20:T20)/COUNTIF(S20:T20,">0"),) | AT20: =IFERROR(SUM(U20:W20)/COUNTIF(U20:W20,">0"),) | AU20: =IFERROR(SUM(X20:Z20)/COUNTIF(X20:Z20,">0"),) | AV20: =IFERROR(SUM(AA20:AC20)/COUNTIF(AA20:AC20,">0"),) | AW20: =IFERROR(SUM(AD20:AF20)/COUNTIF(AD20:AF20,">0"),) | AX20: =IFERROR(SUM(AG20:AI20)/COUNTIF(AG20:AI20,">0"),) | AY20: =IFERROR(SUM(AJ20:AL20)/COUNTIF(AJ20:AL20,">0"),) | AZ20: =IFERROR(SUM(AM20:AO20)/COUNTIF(AM20:AO20,">0"),)
A21: Lumican OS=Homo sapiens GN=LUM PE=1 SV=2 | B21: 6.16 | C21: 38771.222 | D21: 10825.56 | E21: P51884 | F21: 14 | G21: 47.93 | H21: 0 | I21: LUM_HUMAN | J21: 87095.333 | K21: 94671 | L21: 95910.667 | M21: 25070.333 | N21: 26607.333 | O21: 27163.333 | P21: 41593 | Q21: 42721 | R21: 43701.333 | S21: 47383.333 | T21: 50281 | U21: 59540.667 | V21: 65954.667 | W21: 44164 | X21: 60362.333 | Y21: 68292 | Z21: 47739.667 | AA21: 47989.333 | AB21: 61477 | AC21: 47878.667 | AD21: 5744 | AE21: 12666.333 | AF21: 11018 | AG21: 51246 | AH21: 59128.667 | AI21: 45039 | AJ21: 43702.667 | AK21: 54040 | AL21: 48843.667 | AM21: 54864.333 | AN21: 62882 | AO21: 42270 | AP21: =IFERROR(SUM(J21:L21)/COUNTIF(J21:L21,">0"),) | AQ21: =IFERROR(SUM(M21:O21)/COUNTIF(M21:O21,">0"),) | AR21: =IFERROR(SUM(P21:R21)/COUNTIF(P21:R21,">0"),) | AS21: =IFERROR(SUM(S21:T21)/COUNTIF(S21:T21,">0"),) | AT21: =IFERROR(SUM(U21:W21)/COUNTIF(U21:W21,">0"),) | AU21: =IFERROR(SUM(X21:Z21)/COUNTIF(X21:Z21,">0"),) | AV21: =IFERROR(SUM(AA21:AC21)/COUNTIF(AA21:AC21,">0"),) | AW21: =IFERROR(SUM(AD21:AF21)/COUNTIF(AD21:AF21,">0"),) | AX21: =IFERROR(SUM(AG21:AI21)/COUNTIF(AG21:AI21,">0"),) | AY21: =IFERROR(SUM(AJ21:AL21)/COUNTIF(AJ21:AL21,">0"),) | AZ21: =IFERROR(SUM(AM21:AO21)/COUNTIF(AM21:AO21,">0"),)
A22: Tetranectin OS=Homo sapiens GN=CLEC3B PE=1 SV=3 | B22: 5.37 | C22: 22936.045 | D22: 10560.68 | E22: P05452 | F22: 9 | G22: 54.95 | H22: 0 | I22: TETN_HUMAN | J22: 33348.333 | K22: 40069.667 | L22: 46157.667 | M22: 17699.667 | N22: 21384.333 | O22: 25439.333 | P22: 29184 | Q22: 29343.333 | R22: 33421.667 | S22: 35966.667 | T22: 39503 | U22: 38298.333 | V22: 41121.667 | W22: 22706 | X22: 33902.667 | Y22: 37323.333 | Z22: 28468 | AA22: 26169 | AB22: 30988.333 | AC22: 26477.333 | AD22: 15729.333 | AE22: 18272.333 | AF22: 16007.667 | AG22: 29687.667 | AH22: 35343 | AI22: 33965.667 | AJ22: 24661.667 | AK22: 31895.333 | AL22: 27015.333 | AM22: 28972.667 | AN22: 33658.667 | AO22: 21362 | AP22: =IFERROR(SUM(J22:L22)/COUNTIF(J22:L22,">0"),) | AQ22: =IFERROR(SUM(M22:O22)/COUNTIF(M22:O22,">0"),) | AR22: =IFERROR(SUM(P22:R22)/COUNTIF(P22:R22,">0"),) | AS22: =IFERROR(SUM(S22:T22)/COUNTIF(S22:T22,">0"),) | AT22: =IFERROR(SUM(U22:W22)/COUNTIF(U22:W22,">0"),) | AU22: =IFERROR(SUM(X22:Z22)/COUNTIF(X22:Z22,">0"),) | AV22: =IFERROR(SUM(AA22:AC22)/COUNTIF(AA22:AC22,">0"),) | AW22: =IFERROR(SUM(AD22:AF22)/COUNTIF(AD22:AF22,">0"),) | AX22: =IFERROR(SUM(AG22:AI22)/COUNTIF(AG22:AI22,">0"),) | AY22: =IFERROR(SUM(AJ22:AL22)/COUNTIF(AJ22:AL22,">0"),) | AZ22: =IFERROR(SUM(AM22:AO22)/COUNTIF(AM22:AO22,">0"),)
A23: Insulin-like growth factor-binding protein complex acid labile subunit OS=Homo sapiens GN=IGFALS PE=1 SV=1 | B23: 6.33 | C23: 66776.411 | D23: 10300.32 | E23: P35858 | F23: 18 | G23: 39.83 | H23: 0 | I23: ALS_HUMAN | J23: 65467.667 | K23: 71961.333 | L23: 74784.667 | M23: 67031.333 | N23: 68748.333 | O23: 73999.333 | P23: 50559 | Q23: 50938.333 | R23: 53474.667 | S23: 71677 | T23: 77861.333 | U23: 24540.667 | V23: 25342.333 | W23: 22235.333 | X23: 46659 | Y23: 46745.667 | Z23: 48428 | AA23: 42689.667 | AB23: 44237 | AC23: 47721.667 | AD23: 26476.333 | AE23: 36453.333 | AF23: 23538 | AG23: 34323 | AH23: 36663.333 | AI23: 46705.333 | AJ23: 35523.333 | AK23: 40658 | AL23: 45904.667 | AM23: 40826 | AN23: 45413.333 | AO23: 40069.333 | AP23: =IFERROR(SUM(J23:L23)/COUNTIF(J23:L23,">0"),) | AQ23: =IFERROR(SUM(M23:O23)/COUNTIF(M23:O23,">0"),) | AR23: =IFERROR(SUM(P23:R23)/COUNTIF(P23:R23,">0"),) | AS23: =IFERROR(SUM(S23:T23)/COUNTIF(S23:T23,">0"),) | AT23: =IFERROR(SUM(U23:W23)/COUNTIF(U23:W23,">0"),) | AU23: =IFERROR(SUM(X23:Z23)/COUNTIF(X23:Z23,">0"),) | AV23: =IFERROR(SUM(AA23:AC23)/COUNTIF(AA23:AC23,">0"),) | AW23: =IFERROR(SUM(AD23:AF23)/COUNTIF(AD23:AF23,">0"),) | AX23: =IFERROR(SUM(AG23:AI23)/COUNTIF(AG23:AI23,">0"),) | AY23: =IFERROR(SUM(AJ23:AL23)/COUNTIF(AJ23:AL23,">0"),) | AZ23: =IFERROR(SUM(AM23:AO23)/COUNTIF(AM23:AO23,">0"),)
A24: Apolipoprotein B-100 OS=Homo sapiens GN=APOB PE=1 SV=2 | B24: 6.58 | C24: 516974.08 | D24: 9552.633 | E24: P04114 | F24: 188 | G24: 52.95 | H24: 0 | I24: APOB_HUMAN | J24: 46492.333 | K24: 52638.333 | L24: 54619.333 | M24: 45481 | N24: 49185 | O24: 51606.667 | P24: 77917 | Q24: 82575 | R24: 95576.667 | S24: 78900.333 | T24: 90565.667 | U24: 56917.333 | V24: 66952.333 | W24: 51229 | X24: 83703.333 | Y24: 94914 | Z24: 82729.667 | AA24: 72056 | AB24: 82680.333 | AC24: 68226 | AD24: 33546 | AE24: 40980.667 | AF24: 29927.667 | AG24: 108468.33 | AH24: 135719 | AI24: 155255.33 | AJ24: 69207.333 | AK24: 93791.667 | AL24: 79492.333 | AM24: 112493.67 | AN24: 138006.67 | AO24: 97740.667 | AP24: =IFERROR(SUM(J24:L24)/COUNTIF(J24:L24,">0"),) | AQ24: =IFERROR(SUM(M24:O24)/COUNTIF(M24:O24,">0"),) | AR24: =IFERROR(SUM(P24:R24)/COUNTIF(P24:R24,">0"),) | AS24: =IFERROR(SUM(S24:T24)/COUNTIF(S24:T24,">0"),) | AT24: =IFERROR(SUM(U24:W24)/COUNTIF(U24:W24,">0"),) | AU24: =IFERROR(SUM(X24:Z24)/COUNTIF(X24:Z24,">0"),) | AV24: =IFERROR(SUM(AA24:AC24)/COUNTIF(AA24:AC24,">0"),) | AW24: =IFERROR(SUM(AD24:AF24)/COUNTIF(AD24:AF24,">0"),) | AX24: =IFERROR(SUM(AG24:AI24)/COUNTIF(AG24:AI24,">0"),) | AY24: =IFERROR(SUM(AJ24:AL24)/COUNTIF(AJ24:AL24,">0"),) | AZ24: =IFERROR(SUM(AM24:AO24)/COUNTIF(AM24:AO24,">0"),)
A25: Contaminant, Enolase 1 OS=Saccharomyces cerevisiae GN=ENO1 PE=1 SV=2 | B25: 6.15 | C25: 47332.678 | D25: 9351.432 | E25: P00924 | F25: 17 | G25: 53.06 | H25: 0 | I25: ENO1_YEAST_CONTA | J25: 43363.4 | K25: 46154.422 | L25: 43048.76 | M25: 27552.738 | N25: 29685.322 | O25: 24550.456 | P25: 31418.27 | Q25: 31655.057 | R25: 30440.591 | S25: 34525.081 | T25: 36529.262 | U25: 21067.542 | V25: 21628.187 | W25: 17103.333 | X25: 28274.181 | Y25: 27556.224 | Z25: 22645.248 | AA25: 14067.363 | AB25: 12959.907 | AC25: 12752.682 | AD25: 117579.22 | AE25: 118164.69 | AF25: 79343.655 | AG25: 49581.638 | AH25: 48825.687 | AI25: 47928.956 | AJ25: 54254.08 | AK25: 56207.826 | AL25: 54115.572 | AM25: 26898.293 | AN25: 25570.358 | AO25: 25681.153 | AP25: =IFERROR(SUM(J25:L25)/COUNTIF(J25:L25,">0"),) | AQ25: =IFERROR(SUM(M25:O25)/COUNTIF(M25:O25,">0"),) | AR25: =IFERROR(SUM(P25:R25)/COUNTIF(P25:R25,">0"),) | AS25: =IFERROR(SUM(S25:T25)/COUNTIF(S25:T25,">0"),) | AT25: =IFERROR(SUM(U25:W25)/COUNTIF(U25:W25,">0"),) | AU25: =IFERROR(SUM(X25:Z25)/COUNTIF(X25:Z25,">0"),) | AV25: =IFERROR(SUM(AA25:AC25)/COUNTIF(AA25:AC25,">0"),) | AW25: =IFERROR(SUM(AD25:AF25)/COUNTIF(AD25:AF25,">0"),) | AX25: =IFERROR(SUM(AG25:AI25)/COUNTIF(AG25:AI25,">0"),) | AY25: =IFERROR(SUM(AJ25:AL25)/COUNTIF(AJ25:AL25,">0"),) | AZ25: =IFERROR(SUM(AM25:AO25)/COUNTIF(AM25:AO25,">0"),)
A26: Protein S100-A8 OS=Homo sapiens GN=S100A8 PE=1 SV=1 | B26: 6.62 | C26: 10891.555 | D26: 9255.67 | E26: P05109 | F26: 4 | G26: 38.71 | H26: 0 | I26: S10A8_HUMAN | J26: 5879 | K26: 3679 | L26: 6024 | M26: 2153 | N26: 2599 | O26: 1898 | P26: 1059 | Q26: 797 | R26: 1288 | S26: 6498.3333 | T26: 6236.6667 | U26: 7770 | V26: 8451.6667 | W26: 10661.5 | X26: 4402 | Y26: 2819.5 | Z26: 2868 | AA26: 5802.5 | AB26: 10037 | AC26: 11173 | AG26: 30005 | AH26: 29843.333 | AI26: 33531 | AJ26: 6239 | AK26: 6522 | AL26: 3788 | AM26: 5191 | AN26: 5442.6667 | AO26: 12608 | AP26: =IFERROR(SUM(J26:L26)/COUNTIF(J26:L26,">0"),) | AQ26: =IFERROR(SUM(M26:O26)/COUNTIF(M26:O26,">0"),) | AR26: =IFERROR(SUM(P26:R26)/COUNTIF(P26:R26,">0"),) | AS26: =IFERROR(SUM(S26:T26)/COUNTIF(S26:T26,">0"),) | AT26: =IFERROR(SUM(U26:W26)/COUNTIF(U26:W26,">0"),) | AU26: =IFERROR(SUM(X26:Z26)/COUNTIF(X26:Z26,">0"),) | AV26: =IFERROR(SUM(AA26:AC26)/COUNTIF(AA26:AC26,">0"),) | AW26: =IFERROR(SUM(AD26:AF26)/COUNTIF(AD26:AF26,">0"),) | AX26: =IFERROR(SUM(AG26:AI26)/COUNTIF(AG26:AI26,">0"),) | AY26: =IFERROR(SUM(AJ26:AL26)/COUNTIF(AJ26:AL26,">0"),) | AZ26: =IFERROR(SUM(AM26:AO26)/COUNTIF(AM26:AO26,">0"),)
A27: Thyroxine-binding globulin OS=Homo sapiens GN=SERPINA7 PE=1 SV=2 | B27: 5.85 | C27: 46666.777 | D27: 9011.313 | E27: P05543 | F27: 15 | G27: 44.58 | H27: 0 | I27: THBG_HUMAN | J27: 163476.67 | K27: 174300.33 | L27: 178333.33 | M27: 122909 | N27: 130513.33 | O27: 133910.67 | P27: 78045.333 | Q27: 79955 | R27: 84555.333 | S27: 128962.33 | T27: 135051.33 | U27: 68776.333 | V27: 74574.333 | W27: 53905.333 | X27: 122325.67 | Y27: 129078.67 | Z27: 97611 | AA27: 107345 | AB27: 107312.33 | AC27: 81403 | AD27: 21303 | AE27: 27134.333 | AF27: 14020.333 | AG27: 72457 | AH27: 81650.333 | AI27: 70837 | AJ27: 57890.667 | AK27: 67943.667 | AL27: 50881 | AM27: 76139.667 | AN27: 85148.667 | AO27: 56238 | AP27: =IFERROR(SUM(J27:L27)/COUNTIF(J27:L27,">0"),) | AQ27: =IFERROR(SUM(M27:O27)/COUNTIF(M27:O27,">0"),) | AR27: =IFERROR(SUM(P27:R27)/COUNTIF(P27:R27,">0"),) | AS27: =IFERROR(SUM(S27:T27)/COUNTIF(S27:T27,">0"),) | AT27: =IFERROR(SUM(U27:W27)/COUNTIF(U27:W27,">0"),) | AU27: =IFERROR(SUM(X27:Z27)/COUNTIF(X27:Z27,">0"),) | AV27: =IFERROR(SUM(AA27:AC27)/COUNTIF(AA27:AC27,">0"),) | AW27: =IFERROR(SUM(AD27:AF27)/COUNTIF(AD27:AF27,">0"),) | AX27: =IFERROR(SUM(AG27:AI27)/COUNTIF(AG27:AI27,">0"),) | AY27: =IFERROR(SUM(AJ27:AL27)/COUNTIF(AJ27:AL27,">0"),) | AZ27: =IFERROR(SUM(AM27:AO27)/COUNTIF(AM27:AO27,">0"),)
A28: Protein AMBP OS=Homo sapiens GN=AMBP PE=1 SV=1 | B28: 5.87 | C28: 39911.993 | D28: 8456.749 | E28: P02760 | F28: 6 | G28: 33.52 | H28: 0 | I28: AMBP_HUMAN | J28: 7021.6667 | K28: 7403 | L28: 6833.6667 | M28: 5826.3333 | N28: 6323.6667 | O28: 4906.6667 | P28: 4019 | Q28: 4032.3333 | R28: 4378.6667 | S28: 6584 | T28: 6730.3333 | U28: 27468 | V28: 28602.333 | W28: 20856.667 | X28: 19863.333 | Y28: 20117.333 | Z28: 23231.667 | AA28: 10145 | AB28: 10313.667 | AC28: 12319.667 | AD28: 11202 | AE28: 11564 | AF28: 7452 | AG28: 15382 | AH28: 15055 | AI28: 20133.667 | AJ28: 9966.6667 | AK28: 9698.6667 | AL28: 13541 | AM28: 18099.667 | AN28: 17816 | AO28: 16943 | AP28: =IFERROR(SUM(J28:L28)/COUNTIF(J28:L28,">0"),) | AQ28: =IFERROR(SUM(M28:O28)/COUNTIF(M28:O28,">0"),) | AR28: =IFERROR(SUM(P28:R28)/COUNTIF(P28:R28,">0"),) | AS28: =IFERROR(SUM(S28:T28)/COUNTIF(S28:T28,">0"),) | AT28: =IFERROR(SUM(U28:W28)/COUNTIF(U28:W28,">0"),) | AU28: =IFERROR(SUM(X28:Z28)/COUNTIF(X28:Z28,">0"),) | AV28: =IFERROR(SUM(AA28:AC28)/COUNTIF(AA28:AC28,">0"),) | AW28: =IFERROR(SUM(AD28:AF28)/COUNTIF(AD28:AF28,">0"),) | AX28: =IFERROR(SUM(AG28:AI28)/COUNTIF(AG28:AI28,">0"),) | AY28: =IFERROR(SUM(AJ28:AL28)/COUNTIF(AJ28:AL28,">0"),) | AZ28: =IFERROR(SUM(AM28:AO28)/COUNTIF(AM28:AO28,">0"),)
A29: Peroxiredoxin-2 OS=Homo sapiens GN=PRDX2 PE=1 SV=5 | B29: 5.57 | C29: 22063.017 | D29: 7729.583 | E29: P32119 | F29: 8 | G29: 35.86 | H29: 0 | I29: PRDX2_HUMAN | J29: 1234 | K29: 1009 | M29: 4327.6667 | N29: 4427 | O29: 4747.6667 | P29: 941 | Q29: 799 | R29: 1294.5 | S29: 1444.5 | T29: 1597.5 | U29: 1677 | V29: 1245.3333 | X29: 1205 | Y29: 864.5 | Z29: 868 | AA29: 30762 | AB29: 32061.667 | AC29: 22650.667 | AG29: 1681.5 | AH29: 1523.3333 | AI29: 2075.6667 | AJ29: 1292 | AL29: 810.33333 | AM29: 1281 | AN29: 1101.6667 | AO29: 1217 | AP29: =IFERROR(SUM(J29:L29)/COUNTIF(J29:L29,">0"),) | AQ29: =IFERROR(SUM(M29:O29)/COUNTIF(M29:O29,">0"),) | AR29: =IFERROR(SUM(P29:R29)/COUNTIF(P29:R29,">0"),) | AS29: =IFERROR(SUM(S29:T29)/COUNTIF(S29:T29,">0"),) | AT29: =IFERROR(SUM(U29:W29)/COUNTIF(U29:W29,">0"),) | AU29: =IFERROR(SUM(X29:Z29)/COUNTIF(X29:Z29,">0"),) | AV29: =IFERROR(SUM(AA29:AC29)/COUNTIF(AA29:AC29,">0"),) | AW29: =IFERROR(SUM(AD29:AF29)/COUNTIF(AD29:AF29,">0"),) | AX29: =IFERROR(SUM(AG29:AI29)/COUNTIF(AG29:AI29,">0"),) | AY29: =IFERROR(SUM(AJ29:AL29)/COUNTIF(AJ29:AL29,">0"),) | AZ29: =IFERROR(SUM(AM29:AO29)/COUNTIF(AM29:AO29,">0"),)
A30: Haptoglobin OS=Homo sapiens GN=HP PE=1 SV=1 | B30: 6.12 | C30: 45889.684 | D30: 7623.538 | E30: P00738 | F30: 15 | G30: 41.63 | H30: 0 | I30: HPT_HUMAN | J30: 4527.3333 | K30: 4894.6667 | L30: 3033 | M30: 9367.6667 | N30: 10327 | O30: 9749 | P30: 1399.3333 | Q30: 1621.3333 | R30: 1805 | S30: 31921 | T30: 33694.333 | U30: 889.5 | V30: 2066.3333 | X30: 4270.3333 | Y30: 3721.6667 | Z30: 4216 | AA30: 42443.333 | AB30: 43061 | AC30: 38108.333 | AD30: 10696.667 | AE30: 9778.3333 | AF30: 8781 | AG30: 18049.333 | AH30: 16614.667 | AI30: 18844.333 | AJ30: 69253 | AK30: 61516 | AL30: 64976.333 | AM30: 91123 | AN30: 84260 | AO30: 84756.667 | AP30: =IFERROR(SUM(J30:L30)/COUNTIF(J30:L30,">0"),) | AQ30: =IFERROR(SUM(M30:O30)/COUNTIF(M30:O30,">0"),) | AR30: =IFERROR(SUM(P30:R30)/COUNTIF(P30:R30,">0"),) | AS30: =IFERROR(SUM(S30:T30)/COUNTIF(S30:T30,">0"),) | AT30: =IFERROR(SUM(U30:W30)/COUNTIF(U30:W30,">0"),) | AU30: =IFERROR(SUM(X30:Z30)/COUNTIF(X30:Z30,">0"),) | AV30: =IFERROR(SUM(AA30:AC30)/COUNTIF(AA30:AC30,">0"),) | AW30: =IFERROR(SUM(AD30:AF30)/COUNTIF(AD30:AF30,">0"),) | AX30: =IFERROR(SUM(AG30:AI30)/COUNTIF(AG30:AI30,">0"),) | AY30: =IFERROR(SUM(AJ30:AL30)/COUNTIF(AJ30:AL30,">0"),) | AZ30: =IFERROR(SUM(AM30:AO30)/COUNTIF(AM30:AO30,">0"),)
A31: Immunoglobulin lambda constant 2 OS=Homo sapiens GN=IGLC2 PE=1 SV=1 | B31: 7.07 | C31: 11464.655 | D31: 7495.179 | E31: P0DOY2 | F31: 5 | G31: 63.21 | H31: 0 | I31: IGLC2_HUMAN | N31: 997 | O31: 968 | T31: 503.5 | U31: 840 | V31: 1359 | W31: 1248.25 | X31: 1188.1667 | Y31: 1061.75 | Z31: 1131 | AB31: 492 | AC31: 368 | AH31: 2187.5 | AI31: 3826.3333 | AL31: 334.5 | AM31: 6114.3193 | AN31: 6433.1201 | AO31: 7471.2276 | AP31: =IFERROR(SUM(J31:L31)/COUNTIF(J31:L31,">0"),) | AQ31: =IFERROR(SUM(M31:O31)/COUNTIF(M31:O31,">0"),) | AR31: =IFERROR(SUM(P31:R31)/COUNTIF(P31:R31,">0"),) | AS31: =IFERROR(SUM(S31:T31)/COUNTIF(S31:T31,">0"),) | AT31: =IFERROR(SUM(U31:W31)/COUNTIF(U31:W31,">0"),) | AU31: =IFERROR(SUM(X31:Z31)/COUNTIF(X31:Z31,">0"),) | AV31: =IFERROR(SUM(AA31:AC31)/COUNTIF(AA31:AC31,">0"),) | AW31: =IFERROR(SUM(AD31:AF31)/COUNTIF(AD31:AF31,">0"),) | AX31: =IFERROR(SUM(AG31:AI31)/COUNTIF(AG31:AI31,">0"),) | AY31: =IFERROR(SUM(AJ31:AL31)/COUNTIF(AJ31:AL31,">0"),) | AZ31: =IFERROR(SUM(AM31:AO31)/COUNTIF(AM31:AO31,">0"),)
A32: Monocyte differentiation antigen CD14 OS=Homo sapiens GN=CD14 PE=1 SV=2 | B32: 5.8 | C32: 40703.558 | D32: 7236.671 | E32: P08571 | F32: 9 | G32: 33.87 | H32: 0 | I32: CD14_HUMAN | J32: 13486 | K32: 13828.667 | L32: 13727.333 | M32: 5927 | N32: 6603 | O32: 7358.3333 | P32: 6010.6667 | Q32: 6020.3333 | R32: 7287.3333 | S32: 7938.6667 | T32: 8384.6667 | U32: 12801.333 | V32: 15531 | W32: 8904.6667 | X32: 11392.667 | Y32: 13316 | Z32: 8780.6667 | AA32: 14531.667 | AB32: 21001.667 | AC32: 12457.333 | AG32: 10135.333 | AH32: 12148.667 | AI32: 9474.3333 | AJ32: 9942 | AK32: 12235 | AL32: 13190 | AM32: 12524 | AN32: 14255 | AO32: 8779.3333 | AP32: =IFERROR(SUM(J32:L32)/COUNTIF(J32:L32,">0"),) | AQ32: =IFERROR(SUM(M32:O32)/COUNTIF(M32:O32,">0"),) | AR32: =IFERROR(SUM(P32:R32)/COUNTIF(P32:R32,">0"),) | AS32: =IFERROR(SUM(S32:T32)/COUNTIF(S32:T32,">0"),) | AT32: =IFERROR(SUM(U32:W32)/COUNTIF(U32:W32,">0"),) | AU32: =IFERROR(SUM(X32:Z32)/COUNTIF(X32:Z32,">0"),) | AV32: =IFERROR(SUM(AA32:AC32)/COUNTIF(AA32:AC32,">0"),) | AW32: =IFERROR(SUM(AD32:AF32)/COUNTIF(AD32:AF32,">0"),) | AX32: =IFERROR(SUM(AG32:AI32)/COUNTIF(AG32:AI32,">0"),) | AY32: =IFERROR(SUM(AJ32:AL32)/COUNTIF(AJ32:AL32,">0"),) | AZ32: =IFERROR(SUM(AM32:AO32)/COUNTIF(AM32:AO32,">0"),)
A33: C-reactive protein OS=Homo sapiens GN=CRP PE=1 SV=1 | B33: 5.31 | C33: 25209.685 | D33: 6932.839 | E33: P02741 | F33: 5 | G33: 26.79 | H33: 0 | I33: CRP_HUMAN | J33: 10631.667 | K33: 13977 | L33: 9638 | M33: 17664 | N33: 14447.333 | O33: 14123 | P33: 896.5 | Q33: 942 | R33: 1092 | S33: 30148 | T33: 29027.667 | U33: 1475 | V33: 3357.3333 | X33: 28856.667 | Y33: 26883 | Z33: 24236 | AA33: 28581 | AB33: 29297.333 | AC33: 29836 | AD33: 5089 | AE33: 4411 | AG33: 97030.333 | AH33: 87746 | AI33: 92835.333 | AJ33: 35289.667 | AK33: 36762 | AL33: 41202.667 | AM33: 28377.333 | AN33: 28686.333 | AO33: 23428.667 | AP33: =IFERROR(SUM(J33:L33)/COUNTIF(J33:L33,">0"),) | AQ33: =IFERROR(SUM(M33:O33)/COUNTIF(M33:O33,">0"),) | AR33: =IFERROR(SUM(P33:R33)/COUNTIF(P33:R33,">0"),) | AS33: =IFERROR(SUM(S33:T33)/COUNTIF(S33:T33,">0"),) | AT33: =IFERROR(SUM(U33:W33)/COUNTIF(U33:W33,">0"),) | AU33: =IFERROR(SUM(X33:Z33)/COUNTIF(X33:Z33,">0"),) | AV33: =IFERROR(SUM(AA33:AC33)/COUNTIF(AA33:AC33,">0"),) | AW33: =IFERROR(SUM(AD33:AF33)/COUNTIF(AD33:AF33,">0"),) | AX33: =IFERROR(SUM(AG33:AI33)/COUNTIF(AG33:AI33,">0"),) | AY33: =IFERROR(SUM(AJ33:AL33)/COUNTIF(AJ33:AL33,">0"),) | AZ33: =IFERROR(SUM(AM33:AO33)/COUNTIF(AM33:AO33,">0"),)
A34: Immunoglobulin lambda constant 1 OS=Homo sapiens GN=IGLC1 PE=1 SV=1 | B34: 7.99 | C34: 11518.75 | D34: 6714.919 | E34: P0CG04 | F34: 4 | G34: 53.77 | H34: 0 | I34: IGLC1_HUMAN | N34: 997 | O34: 968 | T34: 503.5 | U34: 840 | V34: 1359 | W34: 1248.25 | X34: 1188.1667 | Y34: 1061.75 | Z34: 1131 | AB34: 492 | AC34: 368 | AL34: 334.5 | AM34: 2787.3474 | AN34: 3595.2132 | AO34: 2914.439 | AP34: =IFERROR(SUM(J34:L34)/COUNTIF(J34:L34,">0"),) | AQ34: =IFERROR(SUM(M34:O34)/COUNTIF(M34:O34,">0"),) | AR34: =IFERROR(SUM(P34:R34)/COUNTIF(P34:R34,">0"),) | AS34: =IFERROR(SUM(S34:T34)/COUNTIF(S34:T34,">0"),) | AT34: =IFERROR(SUM(U34:W34)/COUNTIF(U34:W34,">0"),) | AU34: =IFERROR(SUM(X34:Z34)/COUNTIF(X34:Z34,">0"),) | AV34: =IFERROR(SUM(AA34:AC34)/COUNTIF(AA34:AC34,">0"),) | AW34: =IFERROR(SUM(AD34:AF34)/COUNTIF(AD34:AF34,">0"),) | AX34: =IFERROR(SUM(AG34:AI34)/COUNTIF(AG34:AI34,">0"),) | AY34: =IFERROR(SUM(AJ34:AL34)/COUNTIF(AJ34:AL34,">0"),) | AZ34: =IFERROR(SUM(AM34:AO34)/COUNTIF(AM34:AO34,">0"),)
A35: Complement C1r subcomponent OS=Homo sapiens GN=C1R PE=1 SV=2 | B35: 5.77 | C35: 81658.408 | D35: 6681.72 | E35: P00736 | F35: 17 | G35: 30.64 | H35: 0 | I35: C1R_HUMAN | J35: 23878.667 | K35: 24523.667 | L35: 22281 | M35: 14676 | N35: 14439.667 | O35: 13400.333 | P35: 25127.333 | Q35: 24751.667 | R35: 23591.667 | S35: 34161.667 | T35: 34719.333 | U35: 43595 | V35: 42952.333 | W35: 37389.667 | X35: 36357.667 | Y35: 33688.333 | Z35: 37533.333 | AA35: 48376 | AB35: 45193 | AC35: 49317 | AD35: 5502 | AE35: 6139 | AF35: 6023.5 | AG35: 39420.333 | AH35: 37023 | AI35: 51290.333 | AJ35: 30650.667 | AK35: 29236.667 | AL35: 41043 | AM35: 37358 | AN35: 35333.667 | AO35: 34369.667 | AP35: =IFERROR(SUM(J35:L35)/COUNTIF(J35:L35,">0"),) | AQ35: =IFERROR(SUM(M35:O35)/COUNTIF(M35:O35,">0"),) | AR35: =IFERROR(SUM(P35:R35)/COUNTIF(P35:R35,">0"),) | AS35: =IFERROR(SUM(S35:T35)/COUNTIF(S35:T35,">0"),) | AT35: =IFERROR(SUM(U35:W35)/COUNTIF(U35:W35,">0"),) | AU35: =IFERROR(SUM(X35:Z35)/COUNTIF(X35:Z35,">0"),) | AV35: =IFERROR(SUM(AA35:AC35)/COUNTIF(AA35:AC35,">0"),) | AW35: =IFERROR(SUM(AD35:AF35)/COUNTIF(AD35:AF35,">0"),) | AX35: =IFERROR(SUM(AG35:AI35)/COUNTIF(AG35:AI35,">0"),) | AY35: =IFERROR(SUM(AJ35:AL35)/COUNTIF(AJ35:AL35,">0"),) | AZ35: =IFERROR(SUM(AM35:AO35)/COUNTIF(AM35:AO35,">0"),)
A36: Mannose-binding protein C OS=Homo sapiens GN=MBL2 PE=1 SV=2 | B36: 5.21 | C36: 26542.761 | D36: 6118.232 | E36: P11226 | F36: 8 | G36: 51.61 | H36: 0 | I36: MBL2_HUMAN | J36: 14482.333 | K36: 15464.667 | L36: 14852 | M36: 8355.6667 | N36: 9115.3333 | O36: 8983 | P36: 3877 | Q36: 3847.6667 | R36: 3412.3333 | S36: 29903.667 | T36: 30306.667 | U36: 17887.667 | V36: 17274 | W36: 16151.333 | X36: 12620.333 | Y36: 10852.333 | Z36: 10240.333 | AA36: 12219 | AB36: 11214 | AC36: 11362 | AG36: 14214.667 | AH36: 13265.333 | AI36: 14479.667 | AJ36: 12070.667 | AK36: 10974.333 | AL36: 11552.333 | AM36: 13237.333 | AN36: 13276.333 | AO36: 12262.333 | AP36: =IFERROR(SUM(J36:L36)/COUNTIF(J36:L36,">0"),) | AQ36: =IFERROR(SUM(M36:O36)/COUNTIF(M36:O36,">0"),) | AR36: =IFERROR(SUM(P36:R36)/COUNTIF(P36:R36,">0"),) | AS36: =IFERROR(SUM(S36:T36)/COUNTIF(S36:T36,">0"),) | AT36: =IFERROR(SUM(U36:W36)/COUNTIF(U36:W36,">0"),) | AU36: =IFERROR(SUM(X36:Z36)/COUNTIF(X36:Z36,">0"),) | AV36: =IFERROR(SUM(AA36:AC36)/COUNTIF(AA36:AC36,">0"),) | AW36: =IFERROR(SUM(AD36:AF36)/COUNTIF(AD36:AF36,">0"),) | AX36: =IFERROR(SUM(AG36:AI36)/COUNTIF(AG36:AI36,">0"),) | AY36: =IFERROR(SUM(AJ36:AL36)/COUNTIF(AJ36:AL36,">0"),) | AZ36: =IFERROR(SUM(AM36:AO36)/COUNTIF(AM36:AO36,">0"),)
A37: Pregnancy zone protein OS=Homo sapiens GN=PZP PE=1 SV=4 | B37: 5.93 | C37: 165345.89 | D37: 5989.397 | E37: P20742 | F37: 40 | G37: 36.64 | H37: 0 | I37: PZP_HUMAN | J37: 6185.3802 | K37: 6364.5073 | L37: 5897.2575 | M37: 68301.863 | N37: 71720.668 | O37: 77096.357 | P37: 53524.234 | Q37: 52882.482 | R37: 52995.049 | S37: 9424.8709 | T37: 9901.2352 | U37: 8694.1474 | V37: 9090.2575 | W37: 8279.2431 | X37: 14595.508 | Y37: 14104.736 | Z37: 14315.526 | AA37: 29321.713 | AB37: 27718.581 | AC37: 30571.502 | AD37: 7913.2203 | AE37: 8076.0985 | AF37: 3558.5554 | AG37: 5666.8355 | AH37: 6541.0156 | AI37: 6045.982 | AJ37: 8485.3805 | AK37: 8134.8764 | AL37: 8747.9537 | AM37: 12765.196 | AN37: 13006.302 | AO37: 12776.24 | AP37: =IFERROR(SUM(J37:L37)/COUNTIF(J37:L37,">0"),) | AQ37: =IFERROR(SUM(M37:O37)/COUNTIF(M37:O37,">0"),) | AR37: =IFERROR(SUM(P37:R37)/COUNTIF(P37:R37,">0"),) | AS37: =IFERROR(SUM(S37:T37)/COUNTIF(S37:T37,">0"),) | AT37: =IFERROR(SUM(U37:W37)/COUNTIF(U37:W37,">0"),) | AU37: =IFERROR(SUM(X37:Z37)/COUNTIF(X37:Z37,">0"),) | AV37: =IFERROR(SUM(AA37:AC37)/COUNTIF(AA37:AC37,">0"),) | AW37: =IFERROR(SUM(AD37:AF37)/COUNTIF(AD37:AF37,">0"),) | AX37: =IFERROR(SUM(AG37:AI37)/COUNTIF(AG37:AI37,">0"),) | AY37: =IFERROR(SUM(AJ37:AL37)/COUNTIF(AJ37:AL37,">0"),) | AZ37: =IFERROR(SUM(AM37:AO37)/COUNTIF(AM37:AO37,">0"),)
A38: Complement C2 OS=Homo sapiens GN=C2 PE=1 SV=2 | B38: 7.12 | C38: 84636.647 | D38: 5857.275 | E38: P06681 | F38: 25 | G38: 43.09 | H38: 0 | I38: CO2_HUMAN | J38: 62528.667 | K38: 63799.667 | L38: 52121.333 | M38: 35906 | N38: 36235 | O38: 31590.667 | P38: 25769.333 | Q38: 27408.667 | R38: 21806.667 | S38: 35504 | T38: 34975.333 | U38: 38944.333 | V38: 36393 | W38: 36891.333 | X38: 44231 | Y38: 40617.667 | Z38: 46692.333 | AA38: 37229.333 | AB38: 32504.667 | AC38: 36862 | AD38: 9386 | AE38: 10682.667 | AF38: 7406 | AG38: 40578.667 | AH38: 35432.333 | AI38: 47650.333 | AJ38: 34171.333 | AK38: 29499.333 | AL38: 37907 | AM38: 24641 | AN38: 22368.333 | AO38: 23874.667 | AP38: =IFERROR(SUM(J38:L38)/COUNTIF(J38:L38,">0"),) | AQ38: =IFERROR(SUM(M38:O38)/COUNTIF(M38:O38,">0"),) | AR38: =IFERROR(SUM(P38:R38)/COUNTIF(P38:R38,">0"),) | AS38: =IFERROR(SUM(S38:T38)/COUNTIF(S38:T38,">0"),) | AT38: =IFERROR(SUM(U38:W38)/COUNTIF(U38:W38,">0"),) | AU38: =IFERROR(SUM(X38:Z38)/COUNTIF(X38:Z38,">0"),) | AV38: =IFERROR(SUM(AA38:AC38)/COUNTIF(AA38:AC38,">0"),) | AW38: =IFERROR(SUM(AD38:AF38)/COUNTIF(AD38:AF38,">0"),) | AX38: =IFERROR(SUM(AG38:AI38)/COUNTIF(AG38:AI38,">0"),) | AY38: =IFERROR(SUM(AJ38:AL38)/COUNTIF(AJ38:AL38,">0"),) | AZ38: =IFERROR(SUM(AM38:AO38)/COUNTIF(AM38:AO38,">0"),)
A39: Platelet basic protein OS=Homo sapiens GN=PPBP PE=1 SV=3 | B39: 9.07 | C39: 14179.376 | D39: 5764.809 | E39: P02775 | F39: 3 | G39: 25 | H39: 0 | I39: CXCL7_HUMAN | J39: 10249 | K39: 11414.5 | L39: 10987 | M39: 21487 | N39: 22629.667 | O39: 20878.667 | P39: 9576 | Q39: 6809.6667 | R39: 9601.5 | S39: 31622.333 | T39: 33576 | U39: 8051 | V39: 7084 | W39: 10322.5 | X39: 24847.667 | Y39: 25011 | Z39: 33563 | AA39: 7819 | AB39: 8032.3333 | AC39: 10409.5 | AD39: 12617.5 | AE39: 13131 | AF39: 10486.5 | AG39: 23672.333 | AH39: 23057 | AI39: 33619 | AJ39: 16660.333 | AK39: 17202 | AL39: 26488.5 | AM39: 13668.333 | AN39: 13848 | AO39: 18819.5 | AP39: =IFERROR(SUM(J39:L39)/COUNTIF(J39:L39,">0"),) | AQ39: =IFERROR(SUM(M39:O39)/COUNTIF(M39:O39,">0"),) | AR39: =IFERROR(SUM(P39:R39)/COUNTIF(P39:R39,">0"),) | AS39: =IFERROR(SUM(S39:T39)/COUNTIF(S39:T39,">0"),) | AT39: =IFERROR(SUM(U39:W39)/COUNTIF(U39:W39,">0"),) | AU39: =IFERROR(SUM(X39:Z39)/COUNTIF(X39:Z39,">0"),) | AV39: =IFERROR(SUM(AA39:AC39)/COUNTIF(AA39:AC39,">0"),) | AW39: =IFERROR(SUM(AD39:AF39)/COUNTIF(AD39:AF39,">0"),) | AX39: =IFERROR(SUM(AG39:AI39)/COUNTIF(AG39:AI39,">0"),) | AY39: =IFERROR(SUM(AJ39:AL39)/COUNTIF(AJ39:AL39,">0"),) | AZ39: =IFERROR(SUM(AM39:AO39)/COUNTIF(AM39:AO39,">0"),)
A40: Apolipoprotein A-I OS=Homo sapiens GN=APOA1 PE=1 SV=1 | B40: 5.43 | C40: 30777.869 | D40: 5684.164 | E40: P02647 | F40: 11 | G40: 50.19 | H40: 0 | I40: APOA1_HUMAN | J40: 5275 | K40: 5634.3333 | L40: 6138.3333 | M40: 14236.333 | N40: 14426.667 | O40: 14004 | P40: 7079.6667 | Q40: 7317.6667 | R40: 7807.6667 | S40: 5617 | T40: 5014.3333 | U40: 2211.3333 | V40: 2209.6667 | W40: 2495.5 | X40: 9321.3333 | Y40: 8619 | Z40: 7982 | AA40: 8731.3333 | AB40: 11418.333 | AC40: 9323.3333 | AG40: 4464.6667 | AH40: 4051.6667 | AI40: 4379.6667 | AJ40: 2921 | AK40: 2160 | AL40: 1527.5 | AM40: 5373.3333 | AN40: 4573.3333 | AO40: 3506 | AP40: =IFERROR(SUM(J40:L40)/COUNTIF(J40:L40,">0"),) | AQ40: =IFERROR(SUM(M40:O40)/COUNTIF(M40:O40,">0"),) | AR40: =IFERROR(SUM(P40:R40)/COUNTIF(P40:R40,">0"),) | AS40: =IFERROR(SUM(S40:T40)/COUNTIF(S40:T40,">0"),) | AT40: =IFERROR(SUM(U40:W40)/COUNTIF(U40:W40,">0"),) | AU40: =IFERROR(SUM(X40:Z40)/COUNTIF(X40:Z40,">0"),) | AV40: =IFERROR(SUM(AA40:AC40)/COUNTIF(AA40:AC40,">0"),) | AW40: =IFERROR(SUM(AD40:AF40)/COUNTIF(AD40:AF40,">0"),) | AX40: =IFERROR(SUM(AG40:AI40)/COUNTIF(AG40:AI40,">0"),) | AY40: =IFERROR(SUM(AJ40:AL40)/COUNTIF(AJ40:AL40,">0"),) | AZ40: =IFERROR(SUM(AM40:AO40)/COUNTIF(AM40:AO40,">0"),)
A41: Carboxypeptidase N subunit 2 OS=Homo sapiens GN=CPN2 PE=1 SV=3 | B41: 5.57 | C41: 61412.117 | D41: 5312.852 | E41: P22792 | F41: 9 | G41: 27.71 | H41: 0 | I41: CPN2_HUMAN | J41: 27538 | K41: 31109.667 | L41: 31661.667 | M41: 28065 | N41: 26498.667 | O41: 29554.333 | P41: 30731.333 | Q41: 30203 | R41: 30853.333 | S41: 21178.333 | T41: 20583.333 | U41: 27310.333 | V41: 28265.333 | W41: 19323.667 | X41: 36213 | Y41: 36828.333 | Z41: 27488 | AA41: 51066.667 | AB41: 48605 | AC41: 49594.333 | AD41: 7404 | AE41: 16540 | AG41: 26999.667 | AH41: 31968.333 | AI41: 28785 | AJ41: 23624.333 | AK41: 28994 | AL41: 31815 | AM41: 39479.333 | AN41: 40516 | AO41: 33185.667 | AP41: =IFERROR(SUM(J41:L41)/COUNTIF(J41:L41,">0"),) | AQ41: =IFERROR(SUM(M41:O41)/COUNTIF(M41:O41,">0"),) | AR41: =IFERROR(SUM(P41:R41)/COUNTIF(P41:R41,">0"),) | AS41: =IFERROR(SUM(S41:T41)/COUNTIF(S41:T41,">0"),) | AT41: =IFERROR(SUM(U41:W41)/COUNTIF(U41:W41,">0"),) | AU41: =IFERROR(SUM(X41:Z41)/COUNTIF(X41:Z41,">0"),) | AV41: =IFERROR(SUM(AA41:AC41)/COUNTIF(AA41:AC41,">0"),) | AW41: =IFERROR(SUM(AD41:AF41)/COUNTIF(AD41:AF41,">0"),) | AX41: =IFERROR(SUM(AG41:AI41)/COUNTIF(AG41:AI41,">0"),) | AY41: =IFERROR(SUM(AJ41:AL41)/COUNTIF(AJ41:AL41,">0"),) | AZ41: =IFERROR(SUM(AM41:AO41)/COUNTIF(AM41:AO41,">0"),)
A42: Carbonic anhydrase 1 OS=Homo sapiens GN=CA1 PE=1 SV=2 | B42: 6.67 | C42: 28927.265 | D42: 5282.057 | E42: P00915 | F42: 7 | G42: 39.46 | H42: 0 | I42: CAH1_HUMAN | J42: 8471.6667 | K42: 8853.3333 | L42: 8769 | M42: 22048 | N42: 22353.333 | O42: 22603.667 | P42: 1515 | Q42: 1663.3333 | R42: 1812.3333 | S42: 3768 | T42: 3810.3333 | U42: 6904.6667 | V42: 6739 | W42: 6813.3333 | X42: 3995.3333 | Y42: 3603.3333 | Z42: 3709 | AA42: 43641.333 | AB42: 39241.333 | AC42: 45059.667 | AG42: 8597.6667 | AH42: 8230 | AI42: 8737.6667 | AJ42: 3270 | AK42: 3112.5 | AL42: 2802.3333 | AM42: 3594.3333 | AN42: 3529 | AO42: 3258 | AP42: =IFERROR(SUM(J42:L42)/COUNTIF(J42:L42,">0"),) | AQ42: =IFERROR(SUM(M42:O42)/COUNTIF(M42:O42,">0"),) | AR42: =IFERROR(SUM(P42:R42)/COUNTIF(P42:R42,">0"),) | AS42: =IFERROR(SUM(S42:T42)/COUNTIF(S42:T42,">0"),) | AT42: =IFERROR(SUM(U42:W42)/COUNTIF(U42:W42,">0"),) | AU42: =IFERROR(SUM(X42:Z42)/COUNTIF(X42:Z42,">0"),) | AV42: =IFERROR(SUM(AA42:AC42)/COUNTIF(AA42:AC42,">0"),) | AW42: =IFERROR(SUM(AD42:AF42)/COUNTIF(AD42:AF42,">0"),) | AX42: =IFERROR(SUM(AG42:AI42)/COUNTIF(AG42:AI42,">0"),) | AY42: =IFERROR(SUM(AJ42:AL42)/COUNTIF(AJ42:AL42,">0"),) | AZ42: =IFERROR(SUM(AM42:AO42)/COUNTIF(AM42:AO42,">0"),)
A43: Contaminant, Enolase 2 OS=Saccharomyces cerevisiae GN=ENO2 PE=1 SV=2 | B43: 5.59 | C43: 47444.764 | D43: 5221.279 | E43: P00925 | F43: 14 | G43: 40.59 | H43: 0 | I43: ENO2_YEAST_CONTA | J43: 1847.9785 | K43: 2034.3789 | L43: 1949.6411 | M43: 2711.3009 | N43: 3009.738 | O43: 2915.2092 | P43: 4354.4466 | Q43: 4871.3659 | R43: 4626.2852 | S43: 3833.5484 | T43: 3996.0734 | U43: 13584.799 | V43: 14485.628 | W43: 10936.272 | X43: 4893.8852 | Y43: 4783.3923 | Z43: 4894.4186 | AA43: 4681.7035 | AB43: 4878.5561 | AC43: 4999.9338 | AD43: 3515.3151 | AE43: 3126.012 | AF43: 1116.7909 | AG43: 3018.2043 | AH43: 3319.5453 | AI43: 3640.5701 | AJ43: 6541.0371 | AK43: 6878.8176 | AL43: 6818.3341 | AM43: 3159.7717 | AN43: 4647.937 | AO43: 4157.2167 | AP43: =IFERROR(SUM(J43:L43)/COUNTIF(J43:L43,">0"),) | AQ43: =IFERROR(SUM(M43:O43)/COUNTIF(M43:O43,">0"),) | AR43: =IFERROR(SUM(P43:R43)/COUNTIF(P43:R43,">0"),) | AS43: =IFERROR(SUM(S43:T43)/COUNTIF(S43:T43,">0"),) | AT43: =IFERROR(SUM(U43:W43)/COUNTIF(U43:W43,">0"),) | AU43: =IFERROR(SUM(X43:Z43)/COUNTIF(X43:Z43,">0"),) | AV43: =IFERROR(SUM(AA43:AC43)/COUNTIF(AA43:AC43,">0"),) | AW43: =IFERROR(SUM(AD43:AF43)/COUNTIF(AD43:AF43,">0"),) | AX43: =IFERROR(SUM(AG43:AI43)/COUNTIF(AG43:AI43,">0"),) | AY43: =IFERROR(SUM(AJ43:AL43)/COUNTIF(AJ43:AL43,">0"),) | AZ43: =IFERROR(SUM(AM43:AO43)/COUNTIF(AM43:AO43,">0"),)
A44: Immunoglobulin heavy constant mu OS=Homo sapiens GN=IGHM PE=1 SV=4 | B44: 6.33 | C44: 50124.127 | D44: 4876.392 | E44: P01871 | F44: 13 | G44: 33.11 | H44: 0 | I44: IGHM_HUMAN | J44: 1561 | K44: 1741 | L44: 1614 | M44: 6081.3333 | N44: 7389.3333 | O44: 7323 | P44: 2484 | Q44: 2339.3333 | R44: 2981 | S44: 6194.6667 | T44: 6679.6667 | U44: 13196 | V44: 12340.333 | W44: 13802.333 | X44: 4255.6667 | Y44: 4785.6667 | Z44: 5884 | AA44: 5862.6667 | AB44: 4470.6667 | AC44: 5543.6667 | AG44: 12048 | AH44: 12573.667 | AI44: 18190.667 | AJ44: 2047 | AK44: 1834.6667 | AL44: 2578.3333 | AM44: 54811.667 | AN44: 55210 | AO44: 56950.667 | AP44: =IFERROR(SUM(J44:L44)/COUNTIF(J44:L44,">0"),) | AQ44: =IFERROR(SUM(M44:O44)/COUNTIF(M44:O44,">0"),) | AR44: =IFERROR(SUM(P44:R44)/COUNTIF(P44:R44,">0"),) | AS44: =IFERROR(SUM(S44:T44)/COUNTIF(S44:T44,">0"),) | AT44: =IFERROR(SUM(U44:W44)/COUNTIF(U44:W44,">0"),) | AU44: =IFERROR(SUM(X44:Z44)/COUNTIF(X44:Z44,">0"),) | AV44: =IFERROR(SUM(AA44:AC44)/COUNTIF(AA44:AC44,">0"),) | AW44: =IFERROR(SUM(AD44:AF44)/COUNTIF(AD44:AF44,">0"),) | AX44: =IFERROR(SUM(AG44:AI44)/COUNTIF(AG44:AI44,">0"),) | AY44: =IFERROR(SUM(AJ44:AL44)/COUNTIF(AJ44:AL44,">0"),) | AZ44: =IFERROR(SUM(AM44:AO44)/COUNTIF(AM44:AO44,">0"),)
A45: Keratin, type I cytoskeletal 9 OS=Homo sapiens GN=KRT9 PE=1 SV=3 | B45: 4.96 | C45: 62292.537 | D45: 4868.983 | E45: P35527 | F45: 18 | G45: 46.07 | H45: 0 | I45: K1C9_HUMAN | J45: 8119.6667 | K45: 7143 | L45: 6509.3333 | M45: 2096 | N45: 2173.6667 | O45: 2118.6667 | P45: 3299.3333 | Q45: 3549.3333 | R45: 4481.6667 | S45: 3071.8238 | T45: 3137.3392 | U45: 2880 | V45: 2705 | W45: 2905 | X45: 3905 | Y45: 4110.6667 | Z45: 3630 | AA45: 22979 | AB45: 26985 | AC45: 18437.667 | AD45: 3294 | AE45: 4528.5 | AG45: 3619.3333 | AH45: 3547 | AI45: 3811 | AJ45: 6789.7966 | AK45: 4268.0797 | AL45: 5403.9781 | AM45: 4392.6667 | AN45: 4543 | AO45: 3571.6667 | AP45: =IFERROR(SUM(J45:L45)/COUNTIF(J45:L45,">0"),) | AQ45: =IFERROR(SUM(M45:O45)/COUNTIF(M45:O45,">0"),) | AR45: =IFERROR(SUM(P45:R45)/COUNTIF(P45:R45,">0"),) | AS45: =IFERROR(SUM(S45:T45)/COUNTIF(S45:T45,">0"),) | AT45: =IFERROR(SUM(U45:W45)/COUNTIF(U45:W45,">0"),) | AU45: =IFERROR(SUM(X45:Z45)/COUNTIF(X45:Z45,">0"),) | AV45: =IFERROR(SUM(AA45:AC45)/COUNTIF(AA45:AC45,">0"),) | AW45: =IFERROR(SUM(AD45:AF45)/COUNTIF(AD45:AF45,">0"),) | AX45: =IFERROR(SUM(AG45:AI45)/COUNTIF(AG45:AI45,">0"),) | AY45: =IFERROR(SUM(AJ45:AL45)/COUNTIF(AJ45:AL45,">0"),) | AZ45: =IFERROR(SUM(AM45:AO45)/COUNTIF(AM45:AO45,">0"),)
A46: Keratin, type II cytoskeletal 1 OS=Homo sapiens GN=KRT1 PE=1 SV=6 | B46: 8.27 | C46: 66209.896 | D46: 4622.198 | E46: P04264 | F46: 19 | G46: 42.86 | H46: 0 | I46: K2C1_HUMAN | J46: 26489.603 | K46: 26689.797 | L46: 24068.325 | M46: 22587 | N46: 21852.333 | O46: 18535.333 | P46: 16115.667 | Q46: 15315.333 | R46: 13709 | S46: 15312.667 | T46: 14620 | U46: 9114.6667 | V46: 8400.3333 | W46: 8834 | X46: 14270.667 | Y46: 11604.827 | Z46: 10489.667 | AA46: 36432.333 | AB46: 43489.714 | AC46: 37078.242 | AD46: 14247 | AE46: 17310.333 | AF46: 11616.524 | AG46: 16273.667 | AH46: 14291.69 | AI46: 12435.333 | AJ46: 12267.119 | AK46: 9687.8791 | AL46: 8883.7114 | AM46: 15368.667 | AN46: 13069.212 | AO46: 10225.658 | AP46: =IFERROR(SUM(J46:L46)/COUNTIF(J46:L46,">0"),) | AQ46: =IFERROR(SUM(M46:O46)/COUNTIF(M46:O46,">0"),) | AR46: =IFERROR(SUM(P46:R46)/COUNTIF(P46:R46,">0"),) | AS46: =IFERROR(SUM(S46:T46)/COUNTIF(S46:T46,">0"),) | AT46: =IFERROR(SUM(U46:W46)/COUNTIF(U46:W46,">0"),) | AU46: =IFERROR(SUM(X46:Z46)/COUNTIF(X46:Z46,">0"),) | AV46: =IFERROR(SUM(AA46:AC46)/COUNTIF(AA46:AC46,">0"),) | AW46: =IFERROR(SUM(AD46:AF46)/COUNTIF(AD46:AF46,">0"),) | AX46: =IFERROR(SUM(AG46:AI46)/COUNTIF(AG46:AI46,">0"),) | AY46: =IFERROR(SUM(AJ46:AL46)/COUNTIF(AJ46:AL46,">0"),) | AZ46: =IFERROR(SUM(AM46:AO46)/COUNTIF(AM46:AO46,">0"),)
A47: Galectin-3-binding protein OS=Homo sapiens GN=LGALS3BP PE=1 SV=1 | B47: 4.94 | C47: 66243.522 | D47: 4086.977 | E47: Q08380 | F47: 14 | G47: 31.28 | H47: 0 | I47: LG3BP_HUMAN | J47: 5712.6667 | K47: 6440 | L47: 7513.3333 | M47: 9665.6667 | N47: 9553.3333 | O47: 13955 | P47: 5823.3333 | Q47: 5848.3333 | R47: 7585.6667 | S47: 5560.3333 | T47: 6107.6667 | U47: 6577 | V47: 8029.3333 | W47: 4377.6667 | X47: 6213 | Y47: 7391.3333 | Z47: 8366.3333 | AA47: 24267.333 | AB47: 30018.667 | AC47: 19320.333 | AD47: 7525.3333 | AE47: 10545 | AG47: 3600 | AH47: 5108.6667 | AI47: 4276.3333 | AJ47: 9176 | AK47: 12071.333 | AL47: 9114 | AM47: 8247.6667 | AN47: 10039.333 | AO47: 6396.3333 | AP47: =IFERROR(SUM(J47:L47)/COUNTIF(J47:L47,">0"),) | AQ47: =IFERROR(SUM(M47:O47)/COUNTIF(M47:O47,">0"),) | AR47: =IFERROR(SUM(P47:R47)/COUNTIF(P47:R47,">0"),) | AS47: =IFERROR(SUM(S47:T47)/COUNTIF(S47:T47,">0"),) | AT47: =IFERROR(SUM(U47:W47)/COUNTIF(U47:W47,">0"),) | AU47: =IFERROR(SUM(X47:Z47)/COUNTIF(X47:Z47,">0"),) | AV47: =IFERROR(SUM(AA47:AC47)/COUNTIF(AA47:AC47,">0"),) | AW47: =IFERROR(SUM(AD47:AF47)/COUNTIF(AD47:AF47,">0"),) | AX47: =IFERROR(SUM(AG47:AI47)/COUNTIF(AG47:AI47,">0"),) | AY47: =IFERROR(SUM(AJ47:AL47)/COUNTIF(AJ47:AL47,">0"),) | AZ47: =IFERROR(SUM(AM47:AO47)/COUNTIF(AM47:AO47,">0"),)
A48: Corticosteroid-binding globulin OS=Homo sapiens GN=SERPINA6 PE=1 SV=1 | B48: 5.59 | C48: 45312.064 | D48: 4035.282 | E48: P08185 | F48: 8 | G48: 24.2 | H48: 0 | I48: CBG_HUMAN | J48: 8031.6667 | K48: 8198.6667 | L48: 7679.6667 | M48: 84835 | N48: 82186.667 | O48: 77988.333 | P48: 46241.333 | Q48: 42576 | R48: 40747 | S48: 22278.667 | T48: 22630.667 | U48: 14390.667 | V48: 14141.667 | W48: 12431 | X48: 17700 | Y48: 17190.667 | Z48: 18582.333 | AA48: 18337 | AB48: 22592 | AC48: 19275.333 | AD48: 30006.667 | AE48: 32806 | AF48: 24907.667 | AG48: 16920.667 | AH48: 16322.667 | AI48: 19963.667 | AJ48: 15727 | AK48: 15880 | AL48: 19325.333 | AM48: 13971.667 | AN48: 14958 | AO48: 12652.333 | AP48: =IFERROR(SUM(J48:L48)/COUNTIF(J48:L48,">0"),) | AQ48: =IFERROR(SUM(M48:O48)/COUNTIF(M48:O48,">0"),) | AR48: =IFERROR(SUM(P48:R48)/COUNTIF(P48:R48,">0"),) | AS48: =IFERROR(SUM(S48:T48)/COUNTIF(S48:T48,">0"),) | AT48: =IFERROR(SUM(U48:W48)/COUNTIF(U48:W48,">0"),) | AU48: =IFERROR(SUM(X48:Z48)/COUNTIF(X48:Z48,">0"),) | AV48: =IFERROR(SUM(AA48:AC48)/COUNTIF(AA48:AC48,">0"),) | AW48: =IFERROR(SUM(AD48:AF48)/COUNTIF(AD48:AF48,">0"),) | AX48: =IFERROR(SUM(AG48:AI48)/COUNTIF(AG48:AI48,">0"),) | AY48: =IFERROR(SUM(AJ48:AL48)/COUNTIF(AJ48:AL48,">0"),) | AZ48: =IFERROR(SUM(AM48:AO48)/COUNTIF(AM48:AO48,">0"),)
A49: Alpha-1-antichymotrypsin OS=Homo sapiens GN=SERPINA3 PE=1 SV=2 | B49: 5.18 | C49: 47822.052 | D49: 3943.648 | E49: P01011 | F49: 11 | G49: 32.15 | H49: 0 | I49: AACT_HUMAN | J49: 3367 | K49: 3801 | L49: 3439 | M49: 47807 | N49: 46391 | O49: 41186 | P49: 43733 | Q49: 23035 | R49: 35372 | S49: 6030.5 | T49: 11425 | U49: 20137 | V49: 17469 | W49: 19648 | X49: 6224.3333 | Y49: 7524.6667 | Z49: 6963 | AA49: 18852.667 | AB49: 29100.667 | AC49: 19942.333 | AD49: 6633 | AE49: 5745 | AF49: 5867 | AG49: 5069.3333 | AH49: 5814.3333 | AI49: 5746.3333 | AJ49: 5981.6667 | AK49: 7845 | AL49: 6962.3333 | AM49: 6385 | AN49: 4498 | AO49: 11736 | AP49: =IFERROR(SUM(J49:L49)/COUNTIF(J49:L49,">0"),) | AQ49: =IFERROR(SUM(M49:O49)/COUNTIF(M49:O49,">0"),) | AR49: =IFERROR(SUM(P49:R49)/COUNTIF(P49:R49,">0"),) | AS49: =IFERROR(SUM(S49:T49)/COUNTIF(S49:T49,">0"),) | AT49: =IFERROR(SUM(U49:W49)/COUNTIF(U49:W49,">0"),) | AU49: =IFERROR(SUM(X49:Z49)/COUNTIF(X49:Z49,">0"),) | AV49: =IFERROR(SUM(AA49:AC49)/COUNTIF(AA49:AC49,">0"),) | AW49: =IFERROR(SUM(AD49:AF49)/COUNTIF(AD49:AF49,">0"),) | AX49: =IFERROR(SUM(AG49:AI49)/COUNTIF(AG49:AI49,">0"),) | AY49: =IFERROR(SUM(AJ49:AL49)/COUNTIF(AJ49:AL49,">0"),) | AZ49: =IFERROR(SUM(AM49:AO49)/COUNTIF(AM49:AO49,">0"),)
A50: Glutathione peroxidase 3 OS=Homo sapiens GN=GPX3 PE=1 SV=2 | B50: 8.22 | C50: 25630.453 | D50: 3922.804 | E50: P22352 | F50: 6 | G50: 28.32 | H50: 0 | I50: GPX3_HUMAN | J50: 33251.333 | K50: 33819 | L50: 30694 | M50: 16923.333 | N50: 17050 | O50: 16521.333 | P50: 17131.333 | Q50: 17228.667 | R50: 16578.667 | S50: 13720 | T50: 13019 | U50: 20569.667 | V50: 21203.333 | W50: 16493.667 | X50: 14220 | Y50: 13587 | Z50: 13766.333 | AA50: 32880.667 | AB50: 31095.333 | AC50: 30464.333 | AD50: 67863 | AE50: 66731.667 | AF50: 41096.333 | AG50: 28581 | AH50: 27161 | AI50: 30769.333 | AJ50: 13299.333 | AK50: 15781 | AL50: 17855 | AM50: 15967.667 | AN50: 15815 | AO50: 13708 | AP50: =IFERROR(SUM(J50:L50)/COUNTIF(J50:L50,">0"),) | AQ50: =IFERROR(SUM(M50:O50)/COUNTIF(M50:O50,">0"),) | AR50: =IFERROR(SUM(P50:R50)/COUNTIF(P50:R50,">0"),) | AS50: =IFERROR(SUM(S50:T50)/COUNTIF(S50:T50,">0"),) | AT50: =IFERROR(SUM(U50:W50)/COUNTIF(U50:W50,">0"),) | AU50: =IFERROR(SUM(X50:Z50)/COUNTIF(X50:Z50,">0"),) | AV50: =IFERROR(SUM(AA50:AC50)/COUNTIF(AA50:AC50,">0"),) | AW50: =IFERROR(SUM(AD50:AF50)/COUNTIF(AD50:AF50,">0"),) | AX50: =IFERROR(SUM(AG50:AI50)/COUNTIF(AG50:AI50,">0"),) | AY50: =IFERROR(SUM(AJ50:AL50)/COUNTIF(AJ50:AL50,">0"),) | AZ50: =IFERROR(SUM(AM50:AO50)/COUNTIF(AM50:AO50,">0"),)
A51: Complement factor D OS=Homo sapiens GN=CFD PE=1 SV=5 | B51: 7.55 | C51: 27546.21 | D51: 3328.319 | E51: P00746 | F51: 6 | G51: 34.39 | H51: 0 | I51: CFAD_HUMAN | J51: 4943.3333 | K51: 3431.6667 | L51: 4359.6667 | M51: 1564.6667 | O51: 1813 | P51: 2353 | Q51: 1718.5 | R51: 1894.3333 | S51: 2394.6667 | T51: 2686.3333 | U51: 10680.667 | V51: 13510 | W51: 8151 | X51: 6953.3333 | Y51: 7689.3333 | Z51: 4872 | AA51: 2346 | AB51: 2988 | AC51: 1718.3333 | AE51: 9611 | AG51: 4042 | AH51: 5308 | AI51: 2461 | AJ51: 3074 | AK51: 5857 | AL51: 4793 | AM51: 7179.6667 | AN51: 7472.6667 | AO51: 4470 | AP51: =IFERROR(SUM(J51:L51)/COUNTIF(J51:L51,">0"),) | AQ51: =IFERROR(SUM(M51:O51)/COUNTIF(M51:O51,">0"),) | AR51: =IFERROR(SUM(P51:R51)/COUNTIF(P51:R51,">0"),) | AS51: =IFERROR(SUM(S51:T51)/COUNTIF(S51:T51,">0"),) | AT51: =IFERROR(SUM(U51:W51)/COUNTIF(U51:W51,">0"),) | AU51: =IFERROR(SUM(X51:Z51)/COUNTIF(X51:Z51,">0"),) | AV51: =IFERROR(SUM(AA51:AC51)/COUNTIF(AA51:AC51,">0"),) | AW51: =IFERROR(SUM(AD51:AF51)/COUNTIF(AD51:AF51,">0"),) | AX51: =IFERROR(SUM(AG51:AI51)/COUNTIF(AG51:AI51,">0"),) | AY51: =IFERROR(SUM(AJ51:AL51)/COUNTIF(AJ51:AL51,">0"),) | AZ51: =IFERROR(SUM(AM51:AO51)/COUNTIF(AM51:AO51,">0"),)
A52: Contaminant, Trypsin OS=Sus scrofa PE=1 SV=1 | B52: 6.92 | C52: 25567.316 | D52: 3305.151 | E52: P00761 | F52: 5 | G52: 30.64 | H52: 0 | I52: TRYP_PIG_CONTA | J52: 62750.667 | K52: 58978 | L52: 53031.333 | M52: 35149 | N52: 33705 | O52: 30382 | P52: 36455.333 | Q52: 35518.667 | R52: 33756 | S52: 45005 | T52: 44301 | U52: 32461.667 | V52: 32137 | W52: 25767.333 | X52: 35631.333 | Y52: 32302 | Z52: 27640 | AA52: 18769 | AB52: 24331 | AC52: 17340.667 | AD52: 159855.67 | AE52: 147894.33 | AF52: 75021 | AG52: 69670.667 | AH52: 42782 | AI52: 56367.333 | AJ52: 73947.333 | AK52: 77381.333 | AL52: 84525 | AM52: 34377.667 | AN52: 33931.667 | AO52: 28765.333 | AP52: =IFERROR(SUM(J52:L52)/COUNTIF(J52:L52,">0"),) | AQ52: =IFERROR(SUM(M52:O52)/COUNTIF(M52:O52,">0"),) | AR52: =IFERROR(SUM(P52:R52)/COUNTIF(P52:R52,">0"),) | AS52: =IFERROR(SUM(S52:T52)/COUNTIF(S52:T52,">0"),) | AT52: =IFERROR(SUM(U52:W52)/COUNTIF(U52:W52,">0"),) | AU52: =IFERROR(SUM(X52:Z52)/COUNTIF(X52:Z52,">0"),) | AV52: =IFERROR(SUM(AA52:AC52)/COUNTIF(AA52:AC52,">0"),) | AW52: =IFERROR(SUM(AD52:AF52)/COUNTIF(AD52:AF52,">0"),) | AX52: =IFERROR(SUM(AG52:AI52)/COUNTIF(AG52:AI52,">0"),) | AY52: =IFERROR(SUM(AJ52:AL52)/COUNTIF(AJ52:AL52,">0"),) | AZ52: =IFERROR(SUM(AM52:AO52)/COUNTIF(AM52:AO52,">0"),)
A53: Vitronectin OS=Homo sapiens GN=VTN PE=1 SV=1 | B53: 5.43 | C53: 55104.037 | D53: 3190.479 | E53: P04004 | F53: 9 | G53: 32.64 | H53: 0 | I53: VTNC_HUMAN | J53: 4166.6667 | K53: 4509.3333 | L53: 4244.3333 | M53: 15489.333 | N53: 15949 | O53: 15782.333 | P53: 18630.667 | Q53: 18859.333 | R53: 19835 | S53: 21829.667 | T53: 22835.333 | U53: 12375 | V53: 18841 | W53: 14701.667 | X53: 22132.333 | Y53: 12132.333 | Z53: 20186.667 | AA53: 29006.667 | AB53: 28193 | AC53: 26847 | AD53: 6954 | AE53: 6558 | AG53: 13129 | AH53: 12547.667 | AI53: 14691 | AJ53: 20590 | AK53: 20174.667 | AL53: 22805.667 | AM53: 11007.667 | AN53: 18167.333 | AO53: 13248.667 | AP53: =IFERROR(SUM(J53:L53)/COUNTIF(J53:L53,">0"),) | AQ53: =IFERROR(SUM(M53:O53)/COUNTIF(M53:O53,">0"),) | AR53: =IFERROR(SUM(P53:R53)/COUNTIF(P53:R53,">0"),) | AS53: =IFERROR(SUM(S53:T53)/COUNTIF(S53:T53,">0"),) | AT53: =IFERROR(SUM(U53:W53)/COUNTIF(U53:W53,">0"),) | AU53: =IFERROR(SUM(X53:Z53)/COUNTIF(X53:Z53,">0"),) | AV53: =IFERROR(SUM(AA53:AC53)/COUNTIF(AA53:AC53,">0"),) | AW53: =IFERROR(SUM(AD53:AF53)/COUNTIF(AD53:AF53,">0"),) | AX53: =IFERROR(SUM(AG53:AI53)/COUNTIF(AG53:AI53,">0"),) | AY53: =IFERROR(SUM(AJ53:AL53)/COUNTIF(AJ53:AL53,">0"),) | AZ53: =IFERROR(SUM(AM53:AO53)/COUNTIF(AM53:AO53,">0"),)
A54: Beta-2-microglobulin OS=Homo sapiens GN=B2M PE=1 SV=1 | B54: 6.07 | C54: 13828.637 | D54: 2998.42 | E54: P61769 | F54: 3 | G54: 35.29 | H54: 0 | I54: B2MG_HUMAN | J54: 5921 | K54: 2880.5 | L54: 3522 | M54: 3297 | N54: 2403.5 | O54: 2501 | P54: 2221.5 | Q54: 1516 | R54: 2768 | S54: 2162 | T54: 1924 | U54: 4500 | V54: 4359.5 | X54: 5724 | Y54: 4221.5 | Z54: 5868.5 | AA54: 1973 | AB54: 499 | AC54: 1077 | AG54: 2952 | AH54: 2166 | AI54: 3227.5 | AJ54: 3256 | AK54: 3241 | AL54: 3658 | AM54: 4504 | AN54: 4999 | AO54: 2823 | AP54: =IFERROR(SUM(J54:L54)/COUNTIF(J54:L54,">0"),) | AQ54: =IFERROR(SUM(M54:O54)/COUNTIF(M54:O54,">0"),) | AR54: =IFERROR(SUM(P54:R54)/COUNTIF(P54:R54,">0"),) | AS54: =IFERROR(SUM(S54:T54)/COUNTIF(S54:T54,">0"),) | AT54: =IFERROR(SUM(U54:W54)/COUNTIF(U54:W54,">0"),) | AU54: =IFERROR(SUM(X54:Z54)/COUNTIF(X54:Z54,">0"),) | AV54: =IFERROR(SUM(AA54:AC54)/COUNTIF(AA54:AC54,">0"),) | AW54: =IFERROR(SUM(AD54:AF54)/COUNTIF(AD54:AF54,">0"),) | AX54: =IFERROR(SUM(AG54:AI54)/COUNTIF(AG54:AI54,">0"),) | AY54: =IFERROR(SUM(AJ54:AL54)/COUNTIF(AJ54:AL54,">0"),) | AZ54: =IFERROR(SUM(AM54:AO54)/COUNTIF(AM54:AO54,">0"),)
A55: Serum paraoxonase/arylesterase 1 OS=Homo sapiens GN=PON1 PE=1 SV=3 | B55: 4.92 | C55: 39902.448 | D55: 2971.863 | E55: P27169 | F55: 7 | G55: 28.45 | H55: 0 | I55: PON1_HUMAN | J55: 1551 | K55: 1299 | L55: 1316 | M55: 3278.3333 | N55: 3346.3333 | O55: 3673.6667 | P55: 8134.3333 | Q55: 8018.3333 | R55: 9551 | S55: 1688.3333 | T55: 2106.3333 | U55: 2874.6667 | V55: 3502.3333 | W55: 2877 | X55: 3811.6667 | Y55: 4388.6667 | Z55: 4550 | AA55: 10379 | AB55: 10795.333 | AC55: 12858.667 | AG55: 2447.6667 | AH55: 3012.6667 | AI55: 4180 | AJ55: 2401.3333 | AK55: 2644 | AL55: 3560.3333 | AM55: 5544.6667 | AN55: 5853 | AO55: 4879.3333 | AP55: =IFERROR(SUM(J55:L55)/COUNTIF(J55:L55,">0"),) | AQ55: =IFERROR(SUM(M55:O55)/COUNTIF(M55:O55,">0"),) | AR55: =IFERROR(SUM(P55:R55)/COUNTIF(P55:R55,">0"),) | AS55: =IFERROR(SUM(S55:T55)/COUNTIF(S55:T55,">0"),) | AT55: =IFERROR(SUM(U55:W55)/COUNTIF(U55:W55,">0"),) | AU55: =IFERROR(SUM(X55:Z55)/COUNTIF(X55:Z55,">0"),) | AV55: =IFERROR(SUM(AA55:AC55)/COUNTIF(AA55:AC55,">0"),) | AW55: =IFERROR(SUM(AD55:AF55)/COUNTIF(AD55:AF55,">0"),) | AX55: =IFERROR(SUM(AG55:AI55)/COUNTIF(AG55:AI55,">0"),) | AY55: =IFERROR(SUM(AJ55:AL55)/COUNTIF(AJ55:AL55,">0"),) | AZ55: =IFERROR(SUM(AM55:AO55)/COUNTIF(AM55:AO55,">0"),)
A56: 14-3-3 protein zeta/delta OS=Homo sapiens GN=YWHAZ PE=1 SV=1 | B56: 4.53 | C56: 27916.239 | D56: 2600.078 | E56: P63104 | F56: 9 | G56: 47.35 | H56: 0 | I56: 1433Z_HUMAN | J56: 2306.3333 | K56: 2891.3333 | L56: 2684.3333 | M56: 6950 | N56: 7550 | O56: 7813.3333 | P56: 2926.3333 | Q56: 2515.6667 | R56: 3535.3333 | S56: 7213 | T56: 7581.3333 | U56: 2377.3333 | V56: 2417.3333 | X56: 1313 | Y56: 2817.3333 | Z56: 1921.6667 | AA56: 1943.6667 | AB56: 3115.6667 | AC56: 2549 | AG56: 6328.6667 | AH56: 7638.6667 | AI56: 10124.667 | AJ56: 3689.6667 | AK56: 4092.3333 | AL56: 4845 | AM56: 4049.6667 | AN56: 4037.3333 | AO56: 3560.6667 | AP56: =IFERROR(SUM(J56:L56)/COUNTIF(J56:L56,">0"),) | AQ56: =IFERROR(SUM(M56:O56)/COUNTIF(M56:O56,">0"),) | AR56: =IFERROR(SUM(P56:R56)/COUNTIF(P56:R56,">0"),) | AS56: =IFERROR(SUM(S56:T56)/COUNTIF(S56:T56,">0"),) | AT56: =IFERROR(SUM(U56:W56)/COUNTIF(U56:W56,">0"),) | AU56: =IFERROR(SUM(X56:Z56)/COUNTIF(X56:Z56,">0"),) | AV56: =IFERROR(SUM(AA56:AC56)/COUNTIF(AA56:AC56,">0"),) | AW56: =IFERROR(SUM(AD56:AF56)/COUNTIF(AD56:AF56,">0"),) | AX56: =IFERROR(SUM(AG56:AI56)/COUNTIF(AG56:AI56,">0"),) | AY56: =IFERROR(SUM(AJ56:AL56)/COUNTIF(AJ56:AL56,">0"),) | AZ56: =IFERROR(SUM(AM56:AO56)/COUNTIF(AM56:AO56,">0"),)
A57: Plasma protease C1 inhibitor OS=Homo sapiens GN=SERPING1 PE=1 SV=2 | B57: 6.08 | C57: 55382.402 | D57: 2590.609 | E57: P05155 | F57: 7 | G57: 20.8 | H57: 0 | I57: IC1_HUMAN | J57: 1386.5 | K57: 1283 | L57: 1234.5 | M57: 9721 | N57: 9643.3333 | O57: 9921.3333 | P57: 1361.3333 | Q57: 1346 | R57: 1210 | S57: 12192.333 | T57: 13274.333 | U57: 4379 | V57: 3977 | W57: 4723.6667 | X57: 20163 | Y57: 19474.333 | Z57: 18233.667 | AA57: 5711.3333 | AB57: 5002 | AC57: 6048.6667 | AD57: 7355.6667 | AE57: 7421 | AF57: 9461 | AG57: 9759 | AH57: 9202 | AI57: 9711.3333 | AJ57: 2219 | AK57: 2152 | AL57: 2936.3333 | AM57: 10783.333 | AN57: 10819.667 | AO57: 10132 | AP57: =IFERROR(SUM(J57:L57)/COUNTIF(J57:L57,">0"),) | AQ57: =IFERROR(SUM(M57:O57)/COUNTIF(M57:O57,">0"),) | AR57: =IFERROR(SUM(P57:R57)/COUNTIF(P57:R57,">0"),) | AS57: =IFERROR(SUM(S57:T57)/COUNTIF(S57:T57,">0"),) | AT57: =IFERROR(SUM(U57:W57)/COUNTIF(U57:W57,">0"),) | AU57: =IFERROR(SUM(X57:Z57)/COUNTIF(X57:Z57,">0"),) | AV57: =IFERROR(SUM(AA57:AC57)/COUNTIF(AA57:AC57,">0"),) | AW57: =IFERROR(SUM(AD57:AF57)/COUNTIF(AD57:AF57,">0"),) | AX57: =IFERROR(SUM(AG57:AI57)/COUNTIF(AG57:AI57,">0"),) | AY57: =IFERROR(SUM(AJ57:AL57)/COUNTIF(AJ57:AL57,">0"),) | AZ57: =IFERROR(SUM(AM57:AO57)/COUNTIF(AM57:AO57,">0"),)
A58: Carbonic anhydrase 2 OS=Homo sapiens GN=CA2 PE=1 SV=2 | B58: 7.03 | C58: 29303.108 | D58: 2429.302 | E58: P00918 | F58: 8 | G58: 36.54 | H58: 0 | I58: CAH2_HUMAN | J58: 2579.3333 | K58: 2363 | L58: 2326.3333 | M58: 7990.3333 | N58: 7888 | O58: 6608.6667 | P58: 831.5 | Q58: 949 | R58: 977 | S58: 2639 | T58: 2630.3333 | U58: 2034 | V58: 2165.6667 | W58: 1369 | X58: 1364.6667 | Y58: 1478 | Z58: 1460.5 | AA58: 20059.667 | AB58: 24875.333 | AC58: 18987.667 | AG58: 2543 | AH58: 2593.6667 | AI58: 2829 | AK58: 1099 | AL58: 1279.5 | AM58: 1930.3333 | AN58: 2048.6667 | AO58: 1602 | AP58: =IFERROR(SUM(J58:L58)/COUNTIF(J58:L58,">0"),) | AQ58: =IFERROR(SUM(M58:O58)/COUNTIF(M58:O58,">0"),) | AR58: =IFERROR(SUM(P58:R58)/COUNTIF(P58:R58,">0"),) | AS58: =IFERROR(SUM(S58:T58)/COUNTIF(S58:T58,">0"),) | AT58: =IFERROR(SUM(U58:W58)/COUNTIF(U58:W58,">0"),) | AU58: =IFERROR(SUM(X58:Z58)/COUNTIF(X58:Z58,">0"),) | AV58: =IFERROR(SUM(AA58:AC58)/COUNTIF(AA58:AC58,">0"),) | AW58: =IFERROR(SUM(AD58:AF58)/COUNTIF(AD58:AF58,">0"),) | AX58: =IFERROR(SUM(AG58:AI58)/COUNTIF(AG58:AI58,">0"),) | AY58: =IFERROR(SUM(AJ58:AL58)/COUNTIF(AJ58:AL58,">0"),) | AZ58: =IFERROR(SUM(AM58:AO58)/COUNTIF(AM58:AO58,">0"),)
A59: Kallistatin OS=Homo sapiens GN=SERPINA4 PE=1 SV=3 | B59: 7.56 | C59: 48713.128 | D59: 2311.219 | E59: P29622 | F59: 12 | G59: 32.32 | H59: 0 | I59: KAIN_HUMAN | J59: 9302 | K59: 9570.3333 | L59: 9043.6667 | M59: 12358 | N59: 12415.667 | O59: 12381.333 | P59: 21720 | Q59: 21852.333 | R59: 20790.333 | S59: 9157.3333 | T59: 9196 | U59: 15475 | V59: 14952.333 | W59: 14084.667 | X59: 8524.3333 | Y59: 8373.6667 | Z59: 10111 | AA59: 10629 | AB59: 10268.333 | AC59: 9793.6667 | AD59: 9923.3333 | AE59: 9878.6667 | AF59: 10754 | AG59: 6217 | AH59: 6135 | AI59: 7041.6667 | AJ59: 8926.6667 | AK59: 8089 | AL59: 10659.333 | AM59: 11460 | AN59: 10400.667 | AO59: 10095 | AP59: =IFERROR(SUM(J59:L59)/COUNTIF(J59:L59,">0"),) | AQ59: =IFERROR(SUM(M59:O59)/COUNTIF(M59:O59,">0"),) | AR59: =IFERROR(SUM(P59:R59)/COUNTIF(P59:R59,">0"),) | AS59: =IFERROR(SUM(S59:T59)/COUNTIF(S59:T59,">0"),) | AT59: =IFERROR(SUM(U59:W59)/COUNTIF(U59:W59,">0"),) | AU59: =IFERROR(SUM(X59:Z59)/COUNTIF(X59:Z59,">0"),) | AV59: =IFERROR(SUM(AA59:AC59)/COUNTIF(AA59:AC59,">0"),) | AW59: =IFERROR(SUM(AD59:AF59)/COUNTIF(AD59:AF59,">0"),) | AX59: =IFERROR(SUM(AG59:AI59)/COUNTIF(AG59:AI59,">0"),) | AY59: =IFERROR(SUM(AJ59:AL59)/COUNTIF(AJ59:AL59,">0"),) | AZ59: =IFERROR(SUM(AM59:AO59)/COUNTIF(AM59:AO59,">0"),)
A60: Tropomyosin alpha-4 chain OS=Homo sapiens GN=TPM4 PE=1 SV=3 | B60: 4.47 | C60: 28635.913 | D60: 2238.292 | E60: P67936 | F60: 8 | G60: 38.71 | H60: 0 | I60: TPM4_HUMAN | J60: 1392.8345 | K60: 1862 | L60: 1417 | M60: 4439.8131 | N60: 4395.1982 | O60: 4680.7977 | P60: 4133.0041 | Q60: 4485.8223 | R60: 3791 | S60: 8422.2067 | T60: 8499.4651 | U60: 3162.6667 | V60: 3005.9288 | W60: 4174 | X60: 4152.6667 | Y60: 3783.3333 | Z60: 3347.6667 | AA60: 2175 | AB60: 2051 | AC60: 1792.6667 | AG60: 5151.7605 | AH60: 4743.5652 | AI60: 4646.8648 | AJ60: 5944.1706 | AK60: 5913.6133 | AL60: 6156.9228 | AM60: 4621 | AN60: 4499.3333 | AO60: 3756.3333 | AP60: =IFERROR(SUM(J60:L60)/COUNTIF(J60:L60,">0"),) | AQ60: =IFERROR(SUM(M60:O60)/COUNTIF(M60:O60,">0"),) | AR60: =IFERROR(SUM(P60:R60)/COUNTIF(P60:R60,">0"),) | AS60: =IFERROR(SUM(S60:T60)/COUNTIF(S60:T60,">0"),) | AT60: =IFERROR(SUM(U60:W60)/COUNTIF(U60:W60,">0"),) | AU60: =IFERROR(SUM(X60:Z60)/COUNTIF(X60:Z60,">0"),) | AV60: =IFERROR(SUM(AA60:AC60)/COUNTIF(AA60:AC60,">0"),) | AW60: =IFERROR(SUM(AD60:AF60)/COUNTIF(AD60:AF60,">0"),) | AX60: =IFERROR(SUM(AG60:AI60)/COUNTIF(AG60:AI60,">0"),) | AY60: =IFERROR(SUM(AJ60:AL60)/COUNTIF(AJ60:AL60,">0"),) | AZ60: =IFERROR(SUM(AM60:AO60)/COUNTIF(AM60:AO60,">0"),)
A61: L-lactate dehydrogenase B chain OS=Homo sapiens GN=LDHB PE=1 SV=2 | B61: 5.64 | C61: 36923.703 | D61: 2216.385 | E61: P07195 | F61: 8 | G61: 31.44 | H61: 0 | I61: LDHB_HUMAN | J61: 12316.667 | K61: 10902.667 | L61: 10898.667 | M61: 17275.333 | N61: 21538.333 | O61: 17180.333 | P61: 14504.333 | Q61: 20698.224 | R61: 13425.667 | S61: 12681.333 | T61: 9054.6667 | U61: 23311.845 | V61: 8435 | W61: 20366.627 | X61: 7880.3333 | Y61: 8452 | Z61: 9129.6667 | AA61: 14174.132 | AB61: 17848.667 | AC61: 13641.333 | AD61: 6406 | AE61: 4377 | AG61: 9805 | AH61: 9320.6667 | AI61: 12292.667 | AJ61: 11850.667 | AK61: 8293 | AL61: 11395 | AM61: 6820.6667 | AN61: 5819 | AO61: 9370 | AP61: =IFERROR(SUM(J61:L61)/COUNTIF(J61:L61,">0"),) | AQ61: =IFERROR(SUM(M61:O61)/COUNTIF(M61:O61,">0"),) | AR61: =IFERROR(SUM(P61:R61)/COUNTIF(P61:R61,">0"),) | AS61: =IFERROR(SUM(S61:T61)/COUNTIF(S61:T61,">0"),) | AT61: =IFERROR(SUM(U61:W61)/COUNTIF(U61:W61,">0"),) | AU61: =IFERROR(SUM(X61:Z61)/COUNTIF(X61:Z61,">0"),) | AV61: =IFERROR(SUM(AA61:AC61)/COUNTIF(AA61:AC61,">0"),) | AW61: =IFERROR(SUM(AD61:AF61)/COUNTIF(AD61:AF61,">0"),) | AX61: =IFERROR(SUM(AG61:AI61)/COUNTIF(AG61:AI61,">0"),) | AY61: =IFERROR(SUM(AJ61:AL61)/COUNTIF(AJ61:AL61,">0"),) | AZ61: =IFERROR(SUM(AM61:AO61)/COUNTIF(AM61:AO61,">0"),)
A62: Ficolin-2 OS=Homo sapiens GN=FCN2 PE=1 SV=2 | B62: 6.33 | C62: 34457.415 | D62: 2154.369 | E62: Q15485 | F62: 4 | G62: 22.68 | H62: 0 | I62: FCN2_HUMAN | J62: 10889 | K62: 11075 | L62: 9836.6667 | M62: 5991.6667 | N62: 5884.6667 | O62: 5305.3333 | P62: 4478 | Q62: 4872.6667 | R62: 4454 | S62: 2551 | T62: 2627.6667 | U62: 6188.3333 | V62: 5963.3333 | W62: 3498 | X62: 4833.6667 | Y62: 4353 | Z62: 3735.6667 | AA62: 5637.6667 | AB62: 5438 | AC62: 5235.3333 | AG62: 3239 | AH62: 2798 | AI62: 2622.6667 | AJ62: 5650.6667 | AK62: 4961 | AL62: 5520.6667 | AM62: 4283 | AN62: 3821.6667 | AO62: 2977 | AP62: =IFERROR(SUM(J62:L62)/COUNTIF(J62:L62,">0"),) | AQ62: =IFERROR(SUM(M62:O62)/COUNTIF(M62:O62,">0"),) | AR62: =IFERROR(SUM(P62:R62)/COUNTIF(P62:R62,">0"),) | AS62: =IFERROR(SUM(S62:T62)/COUNTIF(S62:T62,">0"),) | AT62: =IFERROR(SUM(U62:W62)/COUNTIF(U62:W62,">0"),) | AU62: =IFERROR(SUM(X62:Z62)/COUNTIF(X62:Z62,">0"),) | AV62: =IFERROR(SUM(AA62:AC62)/COUNTIF(AA62:AC62,">0"),) | AW62: =IFERROR(SUM(AD62:AF62)/COUNTIF(AD62:AF62,">0"),) | AX62: =IFERROR(SUM(AG62:AI62)/COUNTIF(AG62:AI62,">0"),) | AY62: =IFERROR(SUM(AJ62:AL62)/COUNTIF(AJ62:AL62,">0"),) | AZ62: =IFERROR(SUM(AM62:AO62)/COUNTIF(AM62:AO62,">0"),)
A63: Protein S100-A9 OS=Homo sapiens GN=S100A9 PE=1 SV=1 | B63: 5.68 | C63: 13299.061 | D63: 2075.503 | E63: P06702 | F63: 3 | G63: 30.7 | H63: 0 | I63: S10A9_HUMAN | S63: 4385 | T63: 3601.5 | U63: 2866 | V63: 2859 | W63: 2465 | AA63: 1918 | AB63: 2243 | AC63: 2447.5 | AG63: 15028.667 | AH63: 17403.667 | AI63: 18477 | AK63: 1860 | AL63: 978 | AM63: 2237 | AN63: 2136 | AO63: 1820 | AP63: =IFERROR(SUM(J63:L63)/COUNTIF(J63:L63,">0"),) | AQ63: =IFERROR(SUM(M63:O63)/COUNTIF(M63:O63,">0"),) | AR63: =IFERROR(SUM(P63:R63)/COUNTIF(P63:R63,">0"),) | AS63: =IFERROR(SUM(S63:T63)/COUNTIF(S63:T63,">0"),) | AT63: =IFERROR(SUM(U63:W63)/COUNTIF(U63:W63,">0"),) | AU63: =IFERROR(SUM(X63:Z63)/COUNTIF(X63:Z63,">0"),) | AV63: =IFERROR(SUM(AA63:AC63)/COUNTIF(AA63:AC63,">0"),) | AW63: =IFERROR(SUM(AD63:AF63)/COUNTIF(AD63:AF63,">0"),) | AX63: =IFERROR(SUM(AG63:AI63)/COUNTIF(AG63:AI63,">0"),) | AY63: =IFERROR(SUM(AJ63:AL63)/COUNTIF(AJ63:AL63,">0"),) | AZ63: =IFERROR(SUM(AM63:AO63)/COUNTIF(AM63:AO63,">0"),)
A64: Peroxiredoxin-6 OS=Homo sapiens GN=PRDX6 PE=1 SV=3 | B64: 5.96 | C64: 25149.075 | D64: 2004.492 | E64: P30041 | F64: 4 | G64: 20.54 | H64: 0 | I64: PRDX6_HUMAN | M64: 1444 | N64: 1731 | O64: 811 | P64: 9541 | Q64: 9415 | R64: 9702 | T64: 2480 | U64: 11854 | AA64: 5549 | AB64: 4639 | AC64: 6401 | AI64: 2073 | AJ64: 4981 | AL64: 3531.5 | AM64: 3469 | AP64: =IFERROR(SUM(J64:L64)/COUNTIF(J64:L64,">0"),) | AQ64: =IFERROR(SUM(M64:O64)/COUNTIF(M64:O64,">0"),) | AR64: =IFERROR(SUM(P64:R64)/COUNTIF(P64:R64,">0"),) | AS64: =IFERROR(SUM(S64:T64)/COUNTIF(S64:T64,">0"),) | AT64: =IFERROR(SUM(U64:W64)/COUNTIF(U64:W64,">0"),) | AU64: =IFERROR(SUM(X64:Z64)/COUNTIF(X64:Z64,">0"),) | AV64: =IFERROR(SUM(AA64:AC64)/COUNTIF(AA64:AC64,">0"),) | AW64: =IFERROR(SUM(AD64:AF64)/COUNTIF(AD64:AF64,">0"),) | AX64: =IFERROR(SUM(AG64:AI64)/COUNTIF(AG64:AI64,">0"),) | AY64: =IFERROR(SUM(AJ64:AL64)/COUNTIF(AJ64:AL64,">0"),) | AZ64: =IFERROR(SUM(AM64:AO64)/COUNTIF(AM64:AO64,">0"),)
A65: Cholinesterase OS=Homo sapiens GN=BCHE PE=1 SV=1 | B65: 7.17 | C65: 68988.437 | D65: 1992.598 | E65: P06276 | F65: 11 | G65: 28.74 | H65: 0 | I65: CHLE_HUMAN | J65: 21243.667 | K65: 22436.333 | L65: 20053.667 | M65: 13365 | N65: 14316.333 | O65: 12163.667 | P65: 7043 | Q65: 7001.6667 | R65: 7064 | S65: 20528 | T65: 20498 | U65: 9881.3333 | V65: 10799.667 | W65: 8940.3333 | X65: 16651 | Y65: 17772.333 | Z65: 17419 | AA65: 12548.667 | AB65: 13239.667 | AC65: 12146.333 | AD65: 9033 | AE65: 6548 | AF65: 11185 | AG65: 11804 | AH65: 12237.333 | AI65: 13187 | AJ65: 14174.333 | AK65: 15027.667 | AL65: 18012 | AM65: 15448.333 | AN65: 16005 | AO65: 12256.333 | AP65: =IFERROR(SUM(J65:L65)/COUNTIF(J65:L65,">0"),) | AQ65: =IFERROR(SUM(M65:O65)/COUNTIF(M65:O65,">0"),) | AR65: =IFERROR(SUM(P65:R65)/COUNTIF(P65:R65,">0"),) | AS65: =IFERROR(SUM(S65:T65)/COUNTIF(S65:T65,">0"),) | AT65: =IFERROR(SUM(U65:W65)/COUNTIF(U65:W65,">0"),) | AU65: =IFERROR(SUM(X65:Z65)/COUNTIF(X65:Z65,">0"),) | AV65: =IFERROR(SUM(AA65:AC65)/COUNTIF(AA65:AC65,">0"),) | AW65: =IFERROR(SUM(AD65:AF65)/COUNTIF(AD65:AF65,">0"),) | AX65: =IFERROR(SUM(AG65:AI65)/COUNTIF(AG65:AI65,">0"),) | AY65: =IFERROR(SUM(AJ65:AL65)/COUNTIF(AJ65:AL65,">0"),) | AZ65: =IFERROR(SUM(AM65:AO65)/COUNTIF(AM65:AO65,">0"),)
A66: Carboxypeptidase B2 OS=Homo sapiens GN=CPB2 PE=1 SV=2 | B66: 7.53 | C66: 48994.582 | D66: 1972.392 | E66: Q96IY4 | F66: 10 | G66: 34.99 | H66: 0 | I66: CBPB2_HUMAN | J66: 19998 | K66: 20750.333 | L66: 17958 | M66: 14048.667 | N66: 13879.333 | O66: 13111 | P66: 12262 | Q66: 12229.333 | R66: 11734.333 | S66: 13067.667 | T66: 14123.667 | U66: 17142 | V66: 17326.333 | W66: 13818.333 | X66: 17867.333 | Y66: 16652.333 | Z66: 18438.333 | AA66: 14428.667 | AB66: 15724 | AC66: 14673 | AD66: 9666.5 | AE66: 10129.5 | AF66: 8260 | AG66: 16330.333 | AH66: 15428.333 | AI66: 20716.667 | AJ66: 13460.667 | AK66: 13380.667 | AL66: 17962.333 | AM66: 14625 | AN66: 14428 | AO66: 13402.667 | AP66: =IFERROR(SUM(J66:L66)/COUNTIF(J66:L66,">0"),) | AQ66: =IFERROR(SUM(M66:O66)/COUNTIF(M66:O66,">0"),) | AR66: =IFERROR(SUM(P66:R66)/COUNTIF(P66:R66,">0"),) | AS66: =IFERROR(SUM(S66:T66)/COUNTIF(S66:T66,">0"),) | AT66: =IFERROR(SUM(U66:W66)/COUNTIF(U66:W66,">0"),) | AU66: =IFERROR(SUM(X66:Z66)/COUNTIF(X66:Z66,">0"),) | AV66: =IFERROR(SUM(AA66:AC66)/COUNTIF(AA66:AC66,">0"),) | AW66: =IFERROR(SUM(AD66:AF66)/COUNTIF(AD66:AF66,">0"),) | AX66: =IFERROR(SUM(AG66:AI66)/COUNTIF(AG66:AI66,">0"),) | AY66: =IFERROR(SUM(AJ66:AL66)/COUNTIF(AJ66:AL66,">0"),) | AZ66: =IFERROR(SUM(AM66:AO66)/COUNTIF(AM66:AO66,">0"),)
A67: Carboxypeptidase N catalytic chain OS=Homo sapiens GN=CPN1 PE=1 SV=1 | B67: 6.92 | C67: 52571.45 | D67: 1916.093 | E67: P15169 | F67: 12 | G67: 30.35 | H67: 0 | I67: CBPN_HUMAN | J67: 17905 | K67: 15574.667 | L67: 14368.333 | M67: 15121 | N67: 15936.333 | O67: 14826 | P67: 10545.333 | Q67: 14546.333 | R67: 13476 | S67: 10078.667 | T67: 10295.667 | U67: 9235.3333 | V67: 12167.667 | W67: 17101.333 | X67: 9636 | Y67: 8186.6667 | Z67: 14281 | AA67: 18939.667 | AB67: 16802.667 | AC67: 20541.333 | AG67: 14918 | AH67: 9353.6667 | AI67: 17165.333 | AJ67: 9418 | AK67: 11742.667 | AL67: 9388 | AM67: 11996.333 | AN67: 14849.667 | AO67: 20670 | AP67: =IFERROR(SUM(J67:L67)/COUNTIF(J67:L67,">0"),) | AQ67: =IFERROR(SUM(M67:O67)/COUNTIF(M67:O67,">0"),) | AR67: =IFERROR(SUM(P67:R67)/COUNTIF(P67:R67,">0"),) | AS67: =IFERROR(SUM(S67:T67)/COUNTIF(S67:T67,">0"),) | AT67: =IFERROR(SUM(U67:W67)/COUNTIF(U67:W67,">0"),) | AU67: =IFERROR(SUM(X67:Z67)/COUNTIF(X67:Z67,">0"),) | AV67: =IFERROR(SUM(AA67:AC67)/COUNTIF(AA67:AC67,">0"),) | AW67: =IFERROR(SUM(AD67:AF67)/COUNTIF(AD67:AF67,">0"),) | AX67: =IFERROR(SUM(AG67:AI67)/COUNTIF(AG67:AI67,">0"),) | AY67: =IFERROR(SUM(AJ67:AL67)/COUNTIF(AJ67:AL67,">0"),) | AZ67: =IFERROR(SUM(AM67:AO67)/COUNTIF(AM67:AO67,">0"),)
A68: Ficolin-3 OS=Homo sapiens GN=FCN3 PE=1 SV=2 | B68: 6.21 | C68: 33416.275 | D68: 1888.653 | E68: O75636 | F68: 7 | G68: 30.43 | H68: 0 | I68: FCN3_HUMAN | J68: 11642.333 | K68: 10526 | L68: 9417.6667 | M68: 10395.333 | N68: 11165.667 | O68: 8751.6667 | P68: 9095.3333 | Q68: 9503.6667 | R68: 8113.3333 | S68: 6639.3333 | T68: 6551 | U68: 12653.667 | V68: 10520.667 | W68: 6766.3333 | X68: 10207.333 | Y68: 9316.3333 | Z68: 7078.6667 | AA68: 15130.333 | AB68: 20401.667 | AC68: 12424.667 | AD68: 4827 | AE68: 4389.5 | AG68: 13128 | AH68: 11344.667 | AI68: 11077.333 | AJ68: 9770 | AK68: 9053 | AL68: 7714.3333 | AM68: 4916 | AN68: 4311.6667 | AO68: 2423.5 | AP68: =IFERROR(SUM(J68:L68)/COUNTIF(J68:L68,">0"),) | AQ68: =IFERROR(SUM(M68:O68)/COUNTIF(M68:O68,">0"),) | AR68: =IFERROR(SUM(P68:R68)/COUNTIF(P68:R68,">0"),) | AS68: =IFERROR(SUM(S68:T68)/COUNTIF(S68:T68,">0"),) | AT68: =IFERROR(SUM(U68:W68)/COUNTIF(U68:W68,">0"),) | AU68: =IFERROR(SUM(X68:Z68)/COUNTIF(X68:Z68,">0"),) | AV68: =IFERROR(SUM(AA68:AC68)/COUNTIF(AA68:AC68,">0"),) | AW68: =IFERROR(SUM(AD68:AF68)/COUNTIF(AD68:AF68,">0"),) | AX68: =IFERROR(SUM(AG68:AI68)/COUNTIF(AG68:AI68,">0"),) | AY68: =IFERROR(SUM(AJ68:AL68)/COUNTIF(AJ68:AL68,">0"),) | AZ68: =IFERROR(SUM(AM68:AO68)/COUNTIF(AM68:AO68,">0"),)
A69: Beta-Ala-His dipeptidase OS=Homo sapiens GN=CNDP1 PE=1 SV=4 | B69: 4.98 | C69: 56820.259 | D69: 1850.016 | E69: Q96KN2 | F69: 9 | G69: 31.76 | H69: 0 | I69: CNDP1_HUMAN | J69: 6081.3333 | K69: 6029 | L69: 5412.3333 | M69: 10480.667 | N69: 10230.333 | O69: 11169.667 | P69: 11930 | Q69: 11984.667 | R69: 13602.667 | S69: 8962 | T69: 9451.3333 | U69: 1325.6667 | V69: 1568.6667 | W69: 1897 | X69: 5593 | Y69: 5769 | Z69: 3722.3333 | AA69: 9142.6667 | AB69: 14167.333 | AC69: 8699.3333 | AG69: 7594.6667 | AH69: 7422 | AI69: 8730.6667 | AJ69: 14384.667 | AK69: 16092.667 | AL69: 17380 | AM69: 7611 | AN69: 7469.3333 | AO69: 4501.6667 | AP69: =IFERROR(SUM(J69:L69)/COUNTIF(J69:L69,">0"),) | AQ69: =IFERROR(SUM(M69:O69)/COUNTIF(M69:O69,">0"),) | AR69: =IFERROR(SUM(P69:R69)/COUNTIF(P69:R69,">0"),) | AS69: =IFERROR(SUM(S69:T69)/COUNTIF(S69:T69,">0"),) | AT69: =IFERROR(SUM(U69:W69)/COUNTIF(U69:W69,">0"),) | AU69: =IFERROR(SUM(X69:Z69)/COUNTIF(X69:Z69,">0"),) | AV69: =IFERROR(SUM(AA69:AC69)/COUNTIF(AA69:AC69,">0"),) | AW69: =IFERROR(SUM(AD69:AF69)/COUNTIF(AD69:AF69,">0"),) | AX69: =IFERROR(SUM(AG69:AI69)/COUNTIF(AG69:AI69,">0"),) | AY69: =IFERROR(SUM(AJ69:AL69)/COUNTIF(AJ69:AL69,">0"),) | AZ69: =IFERROR(SUM(AM69:AO69)/COUNTIF(AM69:AO69,">0"),)
A70: Catalase OS=Homo sapiens GN=CAT PE=1 SV=3 | B70: 6.97 | C70: 59984.365 | D70: 1819.932 | E70: P04040 | F70: 10 | G70: 23.15 | H70: 0 | I70: CATA_HUMAN | J70: 2589 | K70: 2544.6667 | L70: 2531.3333 | M70: 4522 | N70: 4788 | O70: 5211 | P70: 988 | Q70: 1132.3333 | R70: 2007.6667 | S70: 1682 | T70: 1828.6667 | U70: 2128 | V70: 3043.3333 | W70: 2658.6667 | X70: 1276 | Y70: 1290 | Z70: 1872 | AA70: 10309.667 | AB70: 11075.667 | AC70: 11766.333 | AG70: 2559 | AH70: 2507.3333 | AI70: 5479.3333 | AJ70: 1651 | AK70: 2498 | AL70: 2485 | AM70: 1466 | AN70: 1387.6667 | AO70: 5785 | AP70: =IFERROR(SUM(J70:L70)/COUNTIF(J70:L70,">0"),) | AQ70: =IFERROR(SUM(M70:O70)/COUNTIF(M70:O70,">0"),) | AR70: =IFERROR(SUM(P70:R70)/COUNTIF(P70:R70,">0"),) | AS70: =IFERROR(SUM(S70:T70)/COUNTIF(S70:T70,">0"),) | AT70: =IFERROR(SUM(U70:W70)/COUNTIF(U70:W70,">0"),) | AU70: =IFERROR(SUM(X70:Z70)/COUNTIF(X70:Z70,">0"),) | AV70: =IFERROR(SUM(AA70:AC70)/COUNTIF(AA70:AC70,">0"),) | AW70: =IFERROR(SUM(AD70:AF70)/COUNTIF(AD70:AF70,">0"),) | AX70: =IFERROR(SUM(AG70:AI70)/COUNTIF(AG70:AI70,">0"),) | AY70: =IFERROR(SUM(AJ70:AL70)/COUNTIF(AJ70:AL70,">0"),) | AZ70: =IFERROR(SUM(AM70:AO70)/COUNTIF(AM70:AO70,">0"),)
A71: Immunoglobulin J chain OS=Homo sapiens GN=JCHAIN PE=1 SV=4 | B71: 4.91 | C71: 18554.827 | D71: 1756.121 | E71: P01591 | F71: 3 | G71: 26.42 | H71: 0 | I71: IGJ_HUMAN | M71: 1156 | N71: 1197 | O71: 1267 | T71: 741 | U71: 1698.5 | V71: 1276.5 | X71: 937.5 | AG71: 2448 | AH71: 2124 | AI71: 1014 | AM71: 4612.5 | AN71: 3122.6667 | AO71: 2971 | AP71: =IFERROR(SUM(J71:L71)/COUNTIF(J71:L71,">0"),) | AQ71: =IFERROR(SUM(M71:O71)/COUNTIF(M71:O71,">0"),) | AR71: =IFERROR(SUM(P71:R71)/COUNTIF(P71:R71,">0"),) | AS71: =IFERROR(SUM(S71:T71)/COUNTIF(S71:T71,">0"),) | AT71: =IFERROR(SUM(U71:W71)/COUNTIF(U71:W71,">0"),) | AU71: =IFERROR(SUM(X71:Z71)/COUNTIF(X71:Z71,">0"),) | AV71: =IFERROR(SUM(AA71:AC71)/COUNTIF(AA71:AC71,">0"),) | AW71: =IFERROR(SUM(AD71:AF71)/COUNTIF(AD71:AF71,">0"),) | AX71: =IFERROR(SUM(AG71:AI71)/COUNTIF(AG71:AI71,">0"),) | AY71: =IFERROR(SUM(AJ71:AL71)/COUNTIF(AJ71:AL71,">0"),) | AZ71: =IFERROR(SUM(AM71:AO71)/COUNTIF(AM71:AO71,">0"),)
A72: Immunoglobulin kappa constant OS=Homo sapiens GN=IGKC PE=1 SV=2 | B72: 6.1 | C72: 11936.129 | D72: 1701.371 | E72: P01834 | F72: 3 | G72: 47.66 | H72: 0 | I72: IGKC_HUMAN | M72: 3996 | N72: 3728 | O72: 4982 | P72: 1718 | Q72: 1380 | R72: 1385.5 | S72: 2512 | T72: 2625 | U72: 5401 | V72: 5104.6667 | W72: 6499 | X72: 3416 | Y72: 2591.6667 | Z72: 4007 | AA72: 2031 | AB72: 1868.6667 | AC72: 2633 | AG72: 5566 | AH72: 4679 | AI72: 5864.5 | AL72: 1014 | AM72: 7407 | AN72: 10675 | AO72: 12271 | AP72: =IFERROR(SUM(J72:L72)/COUNTIF(J72:L72,">0"),) | AQ72: =IFERROR(SUM(M72:O72)/COUNTIF(M72:O72,">0"),) | AR72: =IFERROR(SUM(P72:R72)/COUNTIF(P72:R72,">0"),) | AS72: =IFERROR(SUM(S72:T72)/COUNTIF(S72:T72,">0"),) | AT72: =IFERROR(SUM(U72:W72)/COUNTIF(U72:W72,">0"),) | AU72: =IFERROR(SUM(X72:Z72)/COUNTIF(X72:Z72,">0"),) | AV72: =IFERROR(SUM(AA72:AC72)/COUNTIF(AA72:AC72,">0"),) | AW72: =IFERROR(SUM(AD72:AF72)/COUNTIF(AD72:AF72,">0"),) | AX72: =IFERROR(SUM(AG72:AI72)/COUNTIF(AG72:AI72,">0"),) | AY72: =IFERROR(SUM(AJ72:AL72)/COUNTIF(AJ72:AL72,">0"),) | AZ72: =IFERROR(SUM(AM72:AO72)/COUNTIF(AM72:AO72,">0"),)
A73: Biotinidase OS=Homo sapiens GN=BTD PE=1 SV=2 | B73: 5.79 | C73: 62045.459 | D73: 1698.836 | E73: P43251 | F73: 7 | G73: 20.26 | H73: 0 | I73: BTD_HUMAN | J73: 23855.333 | K73: 25379.333 | L73: 26336.333 | M73: 12228 | N73: 11327.667 | O73: 13311 | P73: 12642.333 | Q73: 13096.333 | R73: 15805 | S73: 17932 | T73: 15301 | U73: 11808.667 | V73: 11633.333 | W73: 9334.3333 | X73: 19917 | Y73: 19230.333 | Z73: 17293.667 | AA73: 13223.667 | AB73: 13261.667 | AC73: 13036.333 | AD73: 6568 | AE73: 10400.5 | AG73: 13735.667 | AH73: 14149 | AI73: 11234.667 | AJ73: 18573 | AK73: 19858 | AL73: 24346 | AM73: 11046.667 | AN73: 10871 | AO73: 6089.6667 | AP73: =IFERROR(SUM(J73:L73)/COUNTIF(J73:L73,">0"),) | AQ73: =IFERROR(SUM(M73:O73)/COUNTIF(M73:O73,">0"),) | AR73: =IFERROR(SUM(P73:R73)/COUNTIF(P73:R73,">0"),) | AS73: =IFERROR(SUM(S73:T73)/COUNTIF(S73:T73,">0"),) | AT73: =IFERROR(SUM(U73:W73)/COUNTIF(U73:W73,">0"),) | AU73: =IFERROR(SUM(X73:Z73)/COUNTIF(X73:Z73,">0"),) | AV73: =IFERROR(SUM(AA73:AC73)/COUNTIF(AA73:AC73,">0"),) | AW73: =IFERROR(SUM(AD73:AF73)/COUNTIF(AD73:AF73,">0"),) | AX73: =IFERROR(SUM(AG73:AI73)/COUNTIF(AG73:AI73,">0"),) | AY73: =IFERROR(SUM(AJ73:AL73)/COUNTIF(AJ73:AL73,">0"),) | AZ73: =IFERROR(SUM(AM73:AO73)/COUNTIF(AM73:AO73,">0"),)
A74: Complement factor I OS=Homo sapiens GN=CFI PE=1 SV=2 | B74: 7.31 | C74: 68145.505 | D74: 1630.996 | E74: P05156 | F74: 14 | G74: 32.08 | H74: 0 | I74: CFAI_HUMAN | J74: 5238.6667 | K74: 5719.6667 | L74: 5706.6667 | M74: 4671.3333 | N74: 4645.6667 | O74: 4896.3333 | P74: 4417 | Q74: 4378 | R74: 5063.3333 | S74: 7679 | T74: 8190.6667 | U74: 5780 | V74: 6604 | W74: 4306.6667 | X74: 8251.3333 | Y74: 9197.3333 | Z74: 9494 | AA74: 11132 | AB74: 10506.333 | AC74: 11268 | AD74: 6233 | AE74: 9598 | AG74: 8086 | AH74: 8671.3333 | AI74: 8579 | AJ74: 6180 | AK74: 7111 | AL74: 7958 | AM74: 10128.333 | AN74: 11153.667 | AO74: 10533.333 | AP74: =IFERROR(SUM(J74:L74)/COUNTIF(J74:L74,">0"),) | AQ74: =IFERROR(SUM(M74:O74)/COUNTIF(M74:O74,">0"),) | AR74: =IFERROR(SUM(P74:R74)/COUNTIF(P74:R74,">0"),) | AS74: =IFERROR(SUM(S74:T74)/COUNTIF(S74:T74,">0"),) | AT74: =IFERROR(SUM(U74:W74)/COUNTIF(U74:W74,">0"),) | AU74: =IFERROR(SUM(X74:Z74)/COUNTIF(X74:Z74,">0"),) | AV74: =IFERROR(SUM(AA74:AC74)/COUNTIF(AA74:AC74,">0"),) | AW74: =IFERROR(SUM(AD74:AF74)/COUNTIF(AD74:AF74,">0"),) | AX74: =IFERROR(SUM(AG74:AI74)/COUNTIF(AG74:AI74,">0"),) | AY74: =IFERROR(SUM(AJ74:AL74)/COUNTIF(AJ74:AL74,">0"),) | AZ74: =IFERROR(SUM(AM74:AO74)/COUNTIF(AM74:AO74,">0"),)
A75: Keratin, type I cytoskeletal 10 OS=Homo sapiens GN=KRT10 PE=1 SV=6 | B75: 4.96 | C75: 59055.27 | D75: 1573.214 | E75: P13645 | F75: 12 | G75: 24.83 | H75: 0 | I75: K1C10_HUMAN | J75: 5303.6667 | K75: 5039 | L75: 4886.3333 | M75: 2003.6667 | N75: 1935 | O75: 1901 | P75: 1313.6667 | Q75: 1729.3333 | R75: 1451 | S75: 1802.6667 | T75: 1884 | U75: 1592 | V75: 1117 | W75: 1159.5 | X75: 2209.6667 | Y75: 1769.6667 | Z75: 1819.3333 | AA75: 5535.3333 | AB75: 6337.3333 | AC75: 6033 | AD75: 4573.6667 | AE75: 4835 | AF75: 4464 | AG75: 3043.6667 | AH75: 3212.6667 | AI75: 3595.6667 | AJ75: 2302 | AK75: 2256 | AL75: 2616.3333 | AM75: 2408.6667 | AN75: 2211.6667 | AO75: 2121 | AP75: =IFERROR(SUM(J75:L75)/COUNTIF(J75:L75,">0"),) | AQ75: =IFERROR(SUM(M75:O75)/COUNTIF(M75:O75,">0"),) | AR75: =IFERROR(SUM(P75:R75)/COUNTIF(P75:R75,">0"),) | AS75: =IFERROR(SUM(S75:T75)/COUNTIF(S75:T75,">0"),) | AT75: =IFERROR(SUM(U75:W75)/COUNTIF(U75:W75,">0"),) | AU75: =IFERROR(SUM(X75:Z75)/COUNTIF(X75:Z75,">0"),) | AV75: =IFERROR(SUM(AA75:AC75)/COUNTIF(AA75:AC75,">0"),) | AW75: =IFERROR(SUM(AD75:AF75)/COUNTIF(AD75:AF75,">0"),) | AX75: =IFERROR(SUM(AG75:AI75)/COUNTIF(AG75:AI75,">0"),) | AY75: =IFERROR(SUM(AJ75:AL75)/COUNTIF(AJ75:AL75,">0"),) | AZ75: =IFERROR(SUM(AM75:AO75)/COUNTIF(AM75:AO75,">0"),)
A76: Flavin reductase (NADPH) OS=Homo sapiens GN=BLVRB PE=1 SV=3 | B76: 7.49 | C76: 22233.447 | D76: 1556.831 | E76: P30043 | F76: 2 | G76: 11.65 | H76: 0 | I76: BLVRB_HUMAN | J76: 1710 | K76: 1571 | M76: 4528 | N76: 4493 | O76: 4630 | T76: 739 | V76: 1809 | W76: 1056 | Z76: 893 | AA76: 9363.5 | AB76: 10233 | AC76: 13087 | AG76: 1986 | AH76: 2278 | AI76: 2956 | AP76: =IFERROR(SUM(J76:L76)/COUNTIF(J76:L76,">0"),) | AQ76: =IFERROR(SUM(M76:O76)/COUNTIF(M76:O76,">0"),) | AR76: =IFERROR(SUM(P76:R76)/COUNTIF(P76:R76,">0"),) | AS76: =IFERROR(SUM(S76:T76)/COUNTIF(S76:T76,">0"),) | AT76: =IFERROR(SUM(U76:W76)/COUNTIF(U76:W76,">0"),) | AU76: =IFERROR(SUM(X76:Z76)/COUNTIF(X76:Z76,">0"),) | AV76: =IFERROR(SUM(AA76:AC76)/COUNTIF(AA76:AC76,">0"),) | AW76: =IFERROR(SUM(AD76:AF76)/COUNTIF(AD76:AF76,">0"),) | AX76: =IFERROR(SUM(AG76:AI76)/COUNTIF(AG76:AI76,">0"),) | AY76: =IFERROR(SUM(AJ76:AL76)/COUNTIF(AJ76:AL76,">0"),) | AZ76: =IFERROR(SUM(AM76:AO76)/COUNTIF(AM76:AO76,">0"),)
A77: Coagulation factor X OS=Homo sapiens GN=F10 PE=1 SV=2 | B77: 5.58 | C77: 56100.424 | D77: 1556.676 | E77: P00742 | F77: 15 | G77: 50.61 | H77: 0 | I77: FA10_HUMAN | J77: 17965 | K77: 18353.667 | L77: 15742 | M77: 13607.667 | N77: 12943.333 | O77: 11560.333 | P77: 12190.333 | Q77: 12346.667 | R77: 14071 | S77: 10092 | T77: 10952.333 | U77: 10507.667 | V77: 10391.667 | W77: 9312.3333 | X77: 12155.667 | Y77: 13120 | Z77: 11301.333 | AA77: 14154.333 | AB77: 17847 | AC77: 13102.333 | AG77: 13690.667 | AH77: 14179.667 | AI77: 15400 | AJ77: 11401.333 | AK77: 12173 | AL77: 11431.333 | AM77: 15165 | AN77: 15341.333 | AO77: 12881.667 | AP77: =IFERROR(SUM(J77:L77)/COUNTIF(J77:L77,">0"),) | AQ77: =IFERROR(SUM(M77:O77)/COUNTIF(M77:O77,">0"),) | AR77: =IFERROR(SUM(P77:R77)/COUNTIF(P77:R77,">0"),) | AS77: =IFERROR(SUM(S77:T77)/COUNTIF(S77:T77,">0"),) | AT77: =IFERROR(SUM(U77:W77)/COUNTIF(U77:W77,">0"),) | AU77: =IFERROR(SUM(X77:Z77)/COUNTIF(X77:Z77,">0"),) | AV77: =IFERROR(SUM(AA77:AC77)/COUNTIF(AA77:AC77,">0"),) | AW77: =IFERROR(SUM(AD77:AF77)/COUNTIF(AD77:AF77,">0"),) | AX77: =IFERROR(SUM(AG77:AI77)/COUNTIF(AG77:AI77,">0"),) | AY77: =IFERROR(SUM(AJ77:AL77)/COUNTIF(AJ77:AL77,">0"),) | AZ77: =IFERROR(SUM(AM77:AO77)/COUNTIF(AM77:AO77,">0"),)
A78: Hepatocyte growth factor activator OS=Homo sapiens GN=HGFAC PE=1 SV=1 | B78: 6.89 | C78: 72905.947 | D78: 1539.153 | E78: Q04756 | F78: 10 | G78: 28.09 | H78: 0 | I78: HGFA_HUMAN | J78: 15873 | K78: 17313 | L78: 19133.333 | M78: 7953 | N78: 7650.3333 | O78: 8889 | P78: 5968 | Q78: 6279.6667 | R78: 6598.6667 | S78: 7600 | T78: 8113 | U78: 10888.667 | V78: 12566.333 | W78: 7709.3333 | X78: 9088.3333 | Y78: 10070.333 | Z78: 10725 | AA78: 7503.3333 | AB78: 7693 | AC78: 7418 | AD78: 6969 | AE78: 4592 | AF78: 4478 | AG78: 6862 | AH78: 7305.3333 | AI78: 7174 | AJ78: 5767 | AK78: 6801 | AL78: 7109.6667 | AM78: 8089.3333 | AN78: 8620.3333 | AO78: 5875 | AP78: =IFERROR(SUM(J78:L78)/COUNTIF(J78:L78,">0"),) | AQ78: =IFERROR(SUM(M78:O78)/COUNTIF(M78:O78,">0"),) | AR78: =IFERROR(SUM(P78:R78)/COUNTIF(P78:R78,">0"),) | AS78: =IFERROR(SUM(S78:T78)/COUNTIF(S78:T78,">0"),) | AT78: =IFERROR(SUM(U78:W78)/COUNTIF(U78:W78,">0"),) | AU78: =IFERROR(SUM(X78:Z78)/COUNTIF(X78:Z78,">0"),) | AV78: =IFERROR(SUM(AA78:AC78)/COUNTIF(AA78:AC78,">0"),) | AW78: =IFERROR(SUM(AD78:AF78)/COUNTIF(AD78:AF78,">0"),) | AX78: =IFERROR(SUM(AG78:AI78)/COUNTIF(AG78:AI78,">0"),) | AY78: =IFERROR(SUM(AJ78:AL78)/COUNTIF(AJ78:AL78,">0"),) | AZ78: =IFERROR(SUM(AM78:AO78)/COUNTIF(AM78:AO78,">0"),)
A79: Phosphatidylinositol-glycan-specific phospholipase D OS=Homo sapiens GN=GPLD1 PE=1 SV=3 | B79: 5.89 | C79: 92963.898 | D79: 1360.3 | E79: P80108 | F79: 16 | G79: 26.67 | H79: 0 | I79: PHLD_HUMAN | J79: 7693.3333 | K79: 8382.6667 | L79: 5459.3333 | M79: 13473.333 | N79: 18259.333 | O79: 15135.667 | P79: 11922 | Q79: 13504.333 | R79: 11324.333 | S79: 10846 | T79: 10484 | U79: 26481.667 | V79: 14462.667 | W79: 44279.667 | X79: 11614.333 | Y79: 11029 | Z79: 17633 | AA79: 21142.333 | AB79: 14768 | AC79: 22153.667 | AG79: 6332.6667 | AH79: 6269.3333 | AI79: 9474.3333 | AJ79: 8150.3333 | AK79: 7171.3333 | AL79: 9092 | AM79: 13377.667 | AN79: 13365.667 | AO79: 12301 | AP79: =IFERROR(SUM(J79:L79)/COUNTIF(J79:L79,">0"),) | AQ79: =IFERROR(SUM(M79:O79)/COUNTIF(M79:O79,">0"),) | AR79: =IFERROR(SUM(P79:R79)/COUNTIF(P79:R79,">0"),) | AS79: =IFERROR(SUM(S79:T79)/COUNTIF(S79:T79,">0"),) | AT79: =IFERROR(SUM(U79:W79)/COUNTIF(U79:W79,">0"),) | AU79: =IFERROR(SUM(X79:Z79)/COUNTIF(X79:Z79,">0"),) | AV79: =IFERROR(SUM(AA79:AC79)/COUNTIF(AA79:AC79,">0"),) | AW79: =IFERROR(SUM(AD79:AF79)/COUNTIF(AD79:AF79,">0"),) | AX79: =IFERROR(SUM(AG79:AI79)/COUNTIF(AG79:AI79,">0"),) | AY79: =IFERROR(SUM(AJ79:AL79)/COUNTIF(AJ79:AL79,">0"),) | AZ79: =IFERROR(SUM(AM79:AO79)/COUNTIF(AM79:AO79,">0"),)
A80: Fetuin-B OS=Homo sapiens GN=FETUB PE=1 SV=2 | B80: 6.47 | C80: 42910.409 | D80: 1306.635 | E80: Q9UGM5 | F80: 8 | G80: 32.2 | H80: 0 | I80: FETUB_HUMAN | J80: 2678.5 | K80: 2728 | L80: 2423 | M80: 9296 | N80: 7794.6667 | O80: 7554 | P80: 13585 | Q80: 14964.667 | R80: 12804.667 | S80: 8665.3333 | T80: 9171 | U80: 3745 | V80: 4140.6667 | W80: 3580.3333 | X80: 6099 | Y80: 6195.6667 | Z80: 7716 | AA80: 8726.6667 | AB80: 8100 | AC80: 10282.667 | AG80: 4444.3333 | AH80: 4649.6667 | AI80: 6202 | AJ80: 6597.6667 | AK80: 6654.3333 | AL80: 8475 | AM80: 7948 | AN80: 7886.3333 | AO80: 7067.6667 | AP80: =IFERROR(SUM(J80:L80)/COUNTIF(J80:L80,">0"),) | AQ80: =IFERROR(SUM(M80:O80)/COUNTIF(M80:O80,">0"),) | AR80: =IFERROR(SUM(P80:R80)/COUNTIF(P80:R80,">0"),) | AS80: =IFERROR(SUM(S80:T80)/COUNTIF(S80:T80,">0"),) | AT80: =IFERROR(SUM(U80:W80)/COUNTIF(U80:W80,">0"),) | AU80: =IFERROR(SUM(X80:Z80)/COUNTIF(X80:Z80,">0"),) | AV80: =IFERROR(SUM(AA80:AC80)/COUNTIF(AA80:AC80,">0"),) | AW80: =IFERROR(SUM(AD80:AF80)/COUNTIF(AD80:AF80,">0"),) | AX80: =IFERROR(SUM(AG80:AI80)/COUNTIF(AG80:AI80,">0"),) | AY80: =IFERROR(SUM(AJ80:AL80)/COUNTIF(AJ80:AL80,">0"),) | AZ80: =IFERROR(SUM(AM80:AO80)/COUNTIF(AM80:AO80,">0"),)
A81: L-lactate dehydrogenase A chain OS=Homo sapiens GN=LDHA PE=1 SV=2 | B81: 8.37 | C81: 36973.93 | D81: 1301.032 | E81: P00338 | F81: 7 | G81: 28.31 | H81: 0 | I81: LDHA_HUMAN | J81: 2734 | K81: 3204.3333 | L81: 3506.3333 | M81: 2107.6667 | N81: 1722.4367 | O81: 1949.6667 | P81: 1074.6719 | Q81: 946.16413 | R81: 1484.3333 | S81: 3797.6667 | T81: 3672.6667 | U81: 1957.6667 | V81: 2252.3333 | W81: 1114.0598 | X81: 1897.3333 | Y81: 1928.3333 | Z81: 1366.0914 | AA81: 4205.6667 | AB81: 3683 | AC81: 3824 | AG81: 6273.2333 | AH81: 6179 | AI81: 5632.7737 | AJ81: 2129 | AK81: 2627.6667 | AL81: 1986.5885 | AM81: 1967 | AN81: 2342.3333 | AO81: 1633.6667 | AP81: =IFERROR(SUM(J81:L81)/COUNTIF(J81:L81,">0"),) | AQ81: =IFERROR(SUM(M81:O81)/COUNTIF(M81:O81,">0"),) | AR81: =IFERROR(SUM(P81:R81)/COUNTIF(P81:R81,">0"),) | AS81: =IFERROR(SUM(S81:T81)/COUNTIF(S81:T81,">0"),) | AT81: =IFERROR(SUM(U81:W81)/COUNTIF(U81:W81,">0"),) | AU81: =IFERROR(SUM(X81:Z81)/COUNTIF(X81:Z81,">0"),) | AV81: =IFERROR(SUM(AA81:AC81)/COUNTIF(AA81:AC81,">0"),) | AW81: =IFERROR(SUM(AD81:AF81)/COUNTIF(AD81:AF81,">0"),) | AX81: =IFERROR(SUM(AG81:AI81)/COUNTIF(AG81:AI81,">0"),) | AY81: =IFERROR(SUM(AJ81:AL81)/COUNTIF(AJ81:AL81,">0"),) | AZ81: =IFERROR(SUM(AM81:AO81)/COUNTIF(AM81:AO81,">0"),)
A82: Prostaglandin-H2 D-isomerase OS=Homo sapiens GN=PTGDS PE=1 SV=1 | B82: 7.83 | C82: 21256.975 | D82: 1299.709 | E82: P41222 | F82: 2 | G82: 27.89 | H82: 0 | I82: PTGDS_HUMAN | J82: 4724 | K82: 4468 | L82: 4327 | M82: 1273 | N82: 1302.5 | O82: 1563.5 | P82: 2320 | Q82: 1688.5 | R82: 2887 | S82: 2536 | T82: 1808 | U82: 5631 | V82: 9373 | W82: 4731 | X82: 5178 | Y82: 5657.5 | Z82: 4865.5 | AA82: 3532 | AB82: 2808 | AC82: 2241.5 | AD82: 3644 | AE82: 4849 | AG82: 2127 | AH82: 2380 | AI82: 2162.5 | AJ82: 3102 | AK82: 3022 | AL82: 2598.5 | AM82: 4342.5 | AN82: 4747.5 | AO82: 4309 | AP82: =IFERROR(SUM(J82:L82)/COUNTIF(J82:L82,">0"),) | AQ82: =IFERROR(SUM(M82:O82)/COUNTIF(M82:O82,">0"),) | AR82: =IFERROR(SUM(P82:R82)/COUNTIF(P82:R82,">0"),) | AS82: =IFERROR(SUM(S82:T82)/COUNTIF(S82:T82,">0"),) | AT82: =IFERROR(SUM(U82:W82)/COUNTIF(U82:W82,">0"),) | AU82: =IFERROR(SUM(X82:Z82)/COUNTIF(X82:Z82,">0"),) | AV82: =IFERROR(SUM(AA82:AC82)/COUNTIF(AA82:AC82,">0"),) | AW82: =IFERROR(SUM(AD82:AF82)/COUNTIF(AD82:AF82,">0"),) | AX82: =IFERROR(SUM(AG82:AI82)/COUNTIF(AG82:AI82,">0"),) | AY82: =IFERROR(SUM(AJ82:AL82)/COUNTIF(AJ82:AL82,">0"),) | AZ82: =IFERROR(SUM(AM82:AO82)/COUNTIF(AM82:AO82,">0"),)
A83: Tropomyosin alpha-3 chain OS=Homo sapiens GN=TPM3 PE=1 SV=2 | B83: 4.49 | C83: 33007.066 | D83: 1246.63 | E83: P06753 | F83: 3 | G83: 10.18 | H83: 0 | I83: TPM3_HUMAN | M83: 2039.0757 | N83: 1943.4406 | O83: 1542.4223 | P83: 891.32709 | Q83: 873.82133 | R83: 757.2385 | S83: 7010.9678 | T83: 7577.0644 | AG83: 2482.5506 | AH83: 3249.2759 | AI83: 2255.0015 | AJ83: 2320.3834 | AK83: 2355.3632 | AL83: 2429.6795 | AM83: 1702.175 | AN83: 1628.5243 | AO83: 1556.8798 | AP83: =IFERROR(SUM(J83:L83)/COUNTIF(J83:L83,">0"),) | AQ83: =IFERROR(SUM(M83:O83)/COUNTIF(M83:O83,">0"),) | AR83: =IFERROR(SUM(P83:R83)/COUNTIF(P83:R83,">0"),) | AS83: =IFERROR(SUM(S83:T83)/COUNTIF(S83:T83,">0"),) | AT83: =IFERROR(SUM(U83:W83)/COUNTIF(U83:W83,">0"),) | AU83: =IFERROR(SUM(X83:Z83)/COUNTIF(X83:Z83,">0"),) | AV83: =IFERROR(SUM(AA83:AC83)/COUNTIF(AA83:AC83,">0"),) | AW83: =IFERROR(SUM(AD83:AF83)/COUNTIF(AD83:AF83,">0"),) | AX83: =IFERROR(SUM(AG83:AI83)/COUNTIF(AG83:AI83,">0"),) | AY83: =IFERROR(SUM(AJ83:AL83)/COUNTIF(AJ83:AL83,">0"),) | AZ83: =IFERROR(SUM(AM83:AO83)/COUNTIF(AM83:AO83,">0"),)
A84: Tropomyosin beta chain OS=Homo sapiens GN=TPM2 PE=1 SV=1 | B84: 4.46 | C84: 32964.846 | D84: 1246.581 | E84: P07951 | F84: 4 | G84: 13.38 | H84: 0 | I84: TPM2_HUMAN | J84: 1067.6655 | K84: 2150 | L84: 3443 | M84: 1369.2426 | N84: 1157.3949 | O84: 1899.8811 | P84: 2403.1668 | Q84: 2902.356 | R84: 2893.7993 | S84: 1977.4814 | T84: 2471.8253 | U84: 698.36276 | V84: 1702.1068 | X84: 2753.6968 | Y84: 3374.7479 | Z84: 4590.7105 | AA84: 1555.3037 | AB84: 1810.6001 | AC84: 3578 | AG84: 854.92088 | AH84: 1336.0286 | AI84: 1353.5153 | AJ84: 2694.0737 | AK84: 4361.2169 | AL84: 3439.2908 | AM84: 2934.5161 | AN84: 2407.4286 | AO84: 4415.7361 | AP84: =IFERROR(SUM(J84:L84)/COUNTIF(J84:L84,">0"),) | AQ84: =IFERROR(SUM(M84:O84)/COUNTIF(M84:O84,">0"),) | AR84: =IFERROR(SUM(P84:R84)/COUNTIF(P84:R84,">0"),) | AS84: =IFERROR(SUM(S84:T84)/COUNTIF(S84:T84,">0"),) | AT84: =IFERROR(SUM(U84:W84)/COUNTIF(U84:W84,">0"),) | AU84: =IFERROR(SUM(X84:Z84)/COUNTIF(X84:Z84,">0"),) | AV84: =IFERROR(SUM(AA84:AC84)/COUNTIF(AA84:AC84,">0"),) | AW84: =IFERROR(SUM(AD84:AF84)/COUNTIF(AD84:AF84,">0"),) | AX84: =IFERROR(SUM(AG84:AI84)/COUNTIF(AG84:AI84,">0"),) | AY84: =IFERROR(SUM(AJ84:AL84)/COUNTIF(AJ84:AL84,">0"),) | AZ84: =IFERROR(SUM(AM84:AO84)/COUNTIF(AM84:AO84,">0"),)
A85: Protein Z-dependent protease inhibitor OS=Homo sapiens GN=SERPINA10 PE=1 SV=1 | B85: 8.55 | C85: 50821.157 | D85: 1237.965 | E85: Q9UK55 | F85: 11 | G85: 35.59 | H85: 0 | I85: ZPI_HUMAN | J85: 5590 | K85: 6017.3333 | L85: 6099 | M85: 6618 | N85: 6768.6667 | O85: 6846.3333 | P85: 6816 | Q85: 6809.6667 | R85: 7199 | S85: 6114.6667 | T85: 6492.3333 | U85: 5111.3333 | V85: 6124.6667 | W85: 6125 | X85: 8607.6667 | Y85: 8510.3333 | Z85: 8975.6667 | AA85: 10442 | AB85: 10120.333 | AC85: 11173 | AG85: 8268.6667 | AH85: 8320 | AI85: 9268.6667 | AJ85: 10941.667 | AK85: 8586 | AL85: 11057 | AM85: 8932 | AN85: 8379.6667 | AO85: 8991 | AP85: =IFERROR(SUM(J85:L85)/COUNTIF(J85:L85,">0"),) | AQ85: =IFERROR(SUM(M85:O85)/COUNTIF(M85:O85,">0"),) | AR85: =IFERROR(SUM(P85:R85)/COUNTIF(P85:R85,">0"),) | AS85: =IFERROR(SUM(S85:T85)/COUNTIF(S85:T85,">0"),) | AT85: =IFERROR(SUM(U85:W85)/COUNTIF(U85:W85,">0"),) | AU85: =IFERROR(SUM(X85:Z85)/COUNTIF(X85:Z85,">0"),) | AV85: =IFERROR(SUM(AA85:AC85)/COUNTIF(AA85:AC85,">0"),) | AW85: =IFERROR(SUM(AD85:AF85)/COUNTIF(AD85:AF85,">0"),) | AX85: =IFERROR(SUM(AG85:AI85)/COUNTIF(AG85:AI85,">0"),) | AY85: =IFERROR(SUM(AJ85:AL85)/COUNTIF(AJ85:AL85,">0"),) | AZ85: =IFERROR(SUM(AM85:AO85)/COUNTIF(AM85:AO85,">0"),)
A86: Dopamine beta-hydroxylase OS=Homo sapiens GN=DBH PE=1 SV=3 | B86: 5.95 | C86: 69920.509 | D86: 1165.658 | E86: P09172 | F86: 9 | G86: 23.82 | H86: 0 | I86: DOPO_HUMAN | J86: 1605.5 | K86: 1903 | L86: 1375 | M86: 2175.6667 | N86: 2675.6667 | O86: 936 | P86: 3899 | Q86: 4114.3333 | R86: 4334.3333 | S86: 3854 | T86: 3697.6667 | U86: 7127.3333 | V86: 7072.3333 | W86: 5947.6667 | X86: 3398.6667 | Y86: 4001.3333 | Z86: 3534.6667 | AA86: 6001.3333 | AB86: 8106.3333 | AC86: 6580 | AG86: 8350.6667 | AH86: 7874.6667 | AI86: 9830.6667 | AJ86: 2883 | AK86: 2648 | AL86: 3565 | AM86: 1092 | AN86: 753 | AP86: =IFERROR(SUM(J86:L86)/COUNTIF(J86:L86,">0"),) | AQ86: =IFERROR(SUM(M86:O86)/COUNTIF(M86:O86,">0"),) | AR86: =IFERROR(SUM(P86:R86)/COUNTIF(P86:R86,">0"),) | AS86: =IFERROR(SUM(S86:T86)/COUNTIF(S86:T86,">0"),) | AT86: =IFERROR(SUM(U86:W86)/COUNTIF(U86:W86,">0"),) | AU86: =IFERROR(SUM(X86:Z86)/COUNTIF(X86:Z86,">0"),) | AV86: =IFERROR(SUM(AA86:AC86)/COUNTIF(AA86:AC86,">0"),) | AW86: =IFERROR(SUM(AD86:AF86)/COUNTIF(AD86:AF86,">0"),) | AX86: =IFERROR(SUM(AG86:AI86)/COUNTIF(AG86:AI86,">0"),) | AY86: =IFERROR(SUM(AJ86:AL86)/COUNTIF(AJ86:AL86,">0"),) | AZ86: =IFERROR(SUM(AM86:AO86)/COUNTIF(AM86:AO86,">0"),)
A87: Keratin, type II cytoskeletal 2 epidermal OS=Homo sapiens GN=KRT2 PE=1 SV=2 | B87: 8.05 | C87: 65718.102 | D87: 1133.464 | E87: P35908 | F87: 5 | G87: 13.3 | H87: 0 | I87: K22E_HUMAN | J87: 1271.0791 | K87: 1292.0681 | L87: 1290.0996 | X87: 658.68932 | Y87: 798.20468 | Z87: 717.32984 | AA87: 2181.0929 | AB87: 2422.7849 | AC87: 2031.0849 | AD87: 2158.0068 | AE87: 2990.2832 | AF87: 2332.7152 | AG87: 1615.0633 | AH87: 1703.7942 | AI87: 1750.0984 | AJ87: 789.94086 | AK87: 1126.6214 | AL87: 840.56134 | AM87: 795.45547 | AN87: 878.95401 | AO87: 750.54061 | AP87: =IFERROR(SUM(J87:L87)/COUNTIF(J87:L87,">0"),) | AQ87: =IFERROR(SUM(M87:O87)/COUNTIF(M87:O87,">0"),) | AR87: =IFERROR(SUM(P87:R87)/COUNTIF(P87:R87,">0"),) | AS87: =IFERROR(SUM(S87:T87)/COUNTIF(S87:T87,">0"),) | AT87: =IFERROR(SUM(U87:W87)/COUNTIF(U87:W87,">0"),) | AU87: =IFERROR(SUM(X87:Z87)/COUNTIF(X87:Z87,">0"),) | AV87: =IFERROR(SUM(AA87:AC87)/COUNTIF(AA87:AC87,">0"),) | AW87: =IFERROR(SUM(AD87:AF87)/COUNTIF(AD87:AF87,">0"),) | AX87: =IFERROR(SUM(AG87:AI87)/COUNTIF(AG87:AI87,">0"),) | AY87: =IFERROR(SUM(AJ87:AL87)/COUNTIF(AJ87:AL87,">0"),) | AZ87: =IFERROR(SUM(AM87:AO87)/COUNTIF(AM87:AO87,">0"),)
A88: L-selectin OS=Homo sapiens GN=SELL PE=1 SV=2 | B88: 6.17 | C88: 43669.868 | D88: 1109.675 | E88: P14151 | F88: 5 | G88: 24.46 | H88: 0 | I88: LYAM1_HUMAN | J88: 10688 | K88: 9728 | L88: 8603 | M88: 8364.6667 | N88: 8526 | O88: 5781.5 | P88: 7054.3333 | Q88: 7047.3333 | R88: 6958.6667 | S88: 6898.3333 | T88: 6874.3333 | U88: 9726.3333 | V88: 10405 | W88: 10006.333 | X88: 7970.3333 | Y88: 7668 | Z88: 8129 | AA88: 4634 | AB88: 3831.6667 | AC88: 4049.6667 | AG88: 4825 | AH88: 5945 | AI88: 6247 | AJ88: 5951 | AK88: 4584.6667 | AL88: 4896.6667 | AM88: 4332 | AN88: 3723.3333 | AO88: 3457.6667 | AP88: =IFERROR(SUM(J88:L88)/COUNTIF(J88:L88,">0"),) | AQ88: =IFERROR(SUM(M88:O88)/COUNTIF(M88:O88,">0"),) | AR88: =IFERROR(SUM(P88:R88)/COUNTIF(P88:R88,">0"),) | AS88: =IFERROR(SUM(S88:T88)/COUNTIF(S88:T88,">0"),) | AT88: =IFERROR(SUM(U88:W88)/COUNTIF(U88:W88,">0"),) | AU88: =IFERROR(SUM(X88:Z88)/COUNTIF(X88:Z88,">0"),) | AV88: =IFERROR(SUM(AA88:AC88)/COUNTIF(AA88:AC88,">0"),) | AW88: =IFERROR(SUM(AD88:AF88)/COUNTIF(AD88:AF88,">0"),) | AX88: =IFERROR(SUM(AG88:AI88)/COUNTIF(AG88:AI88,">0"),) | AY88: =IFERROR(SUM(AJ88:AL88)/COUNTIF(AJ88:AL88,">0"),) | AZ88: =IFERROR(SUM(AM88:AO88)/COUNTIF(AM88:AO88,">0"),)
A89: Triosephosphate isomerase OS=Homo sapiens GN=TPI1 PE=1 SV=3 | B89: 5.55 | C89: 31076.173 | D89: 1060.186 | E89: P60174 | F89: 3 | G89: 25.17 | H89: 0 | I89: TPIS_HUMAN | J89: 1458 | K89: 1368 | M89: 2976 | N89: 3022.3333 | O89: 2541.6667 | Q89: 951 | R89: 874.5 | S89: 2849 | T89: 2834 | X89: 1058.5 | Y89: 958.5 | AA89: 2624.6667 | AB89: 2418.6667 | AC89: 2318.3333 | AG89: 2224.3333 | AH89: 2222.6667 | AI89: 2985.6667 | AJ89: 1485 | AK89: 1253 | AL89: 2286.6667 | AM89: 855 | AN89: 989 | AO89: 1035 | AP89: =IFERROR(SUM(J89:L89)/COUNTIF(J89:L89,">0"),) | AQ89: =IFERROR(SUM(M89:O89)/COUNTIF(M89:O89,">0"),) | AR89: =IFERROR(SUM(P89:R89)/COUNTIF(P89:R89,">0"),) | AS89: =IFERROR(SUM(S89:T89)/COUNTIF(S89:T89,">0"),) | AT89: =IFERROR(SUM(U89:W89)/COUNTIF(U89:W89,">0"),) | AU89: =IFERROR(SUM(X89:Z89)/COUNTIF(X89:Z89,">0"),) | AV89: =IFERROR(SUM(AA89:AC89)/COUNTIF(AA89:AC89,">0"),) | AW89: =IFERROR(SUM(AD89:AF89)/COUNTIF(AD89:AF89,">0"),) | AX89: =IFERROR(SUM(AG89:AI89)/COUNTIF(AG89:AI89,">0"),) | AY89: =IFERROR(SUM(AJ89:AL89)/COUNTIF(AJ89:AL89,">0"),) | AZ89: =IFERROR(SUM(AM89:AO89)/COUNTIF(AM89:AO89,">0"),)
A90: Complement C1r subcomponent-like protein OS=Homo sapiens GN=C1RL PE=1 SV=2 | B90: 6.78 | C90: 54239.77 | D90: 1038.242 | E90: Q9NZP8 | F90: 6 | G90: 12.11 | H90: 0 | I90: C1RL_HUMAN | J90: 6344 | K90: 6291 | L90: 5929.3333 | M90: 5960.9073 | N90: 5958.2082 | O90: 5996.2389 | P90: 5118 | Q90: 5477.3912 | R90: 5111.3333 | S90: 6394.6667 | T90: 6807 | U90: 7812.3333 | V90: 7464.3333 | W90: 8479.6667 | X90: 7476.3333 | Y90: 7388 | Z90: 8561 | AA90: 8297.3333 | AB90: 8680.253 | AC90: 7304.6667 | AG90: 7940.6667 | AH90: 6966.3333 | AI90: 8102.6667 | AJ90: 7066 | AK90: 6522.3333 | AL90: 7483.6667 | AM90: 4297.6667 | AN90: 7038 | AO90: 6332 | AP90: =IFERROR(SUM(J90:L90)/COUNTIF(J90:L90,">0"),) | AQ90: =IFERROR(SUM(M90:O90)/COUNTIF(M90:O90,">0"),) | AR90: =IFERROR(SUM(P90:R90)/COUNTIF(P90:R90,">0"),) | AS90: =IFERROR(SUM(S90:T90)/COUNTIF(S90:T90,">0"),) | AT90: =IFERROR(SUM(U90:W90)/COUNTIF(U90:W90,">0"),) | AU90: =IFERROR(SUM(X90:Z90)/COUNTIF(X90:Z90,">0"),) | AV90: =IFERROR(SUM(AA90:AC90)/COUNTIF(AA90:AC90,">0"),) | AW90: =IFERROR(SUM(AD90:AF90)/COUNTIF(AD90:AF90,">0"),) | AX90: =IFERROR(SUM(AG90:AI90)/COUNTIF(AG90:AI90,">0"),) | AY90: =IFERROR(SUM(AJ90:AL90)/COUNTIF(AJ90:AL90,">0"),) | AZ90: =IFERROR(SUM(AM90:AO90)/COUNTIF(AM90:AO90,">0"),)
A91: Mannan-binding lectin serine protease 1 OS=Homo sapiens GN=MASP1 PE=1 SV=3 | B91: 5.15 | C91: 80900.595 | D91: 1037.749 | E91: P48740 | F91: 11 | G91: 25.04 | H91: 0 | I91: MASP1_HUMAN | J91: 8531.3333 | K91: 11154.667 | L91: 6734.6667 | M91: 7077 | N91: 7440.6667 | O91: 6727.6667 | P91: 7329.3333 | Q91: 5554.3333 | R91: 7546.3333 | S91: 7457.3333 | T91: 7365.6667 | U91: 6441 | V91: 9683 | W91: 6788.3333 | X91: 7492 | Y91: 9566 | Z91: 7356 | AA91: 14235.333 | AB91: 9009.6667 | AC91: 13343 | AG91: 8231.3333 | AH91: 9789 | AI91: 11064.333 | AJ91: 5128.6667 | AK91: 6376.6667 | AL91: 9103 | AM91: 6458.3333 | AN91: 6750.3333 | AO91: 5855.6667 | AP91: =IFERROR(SUM(J91:L91)/COUNTIF(J91:L91,">0"),) | AQ91: =IFERROR(SUM(M91:O91)/COUNTIF(M91:O91,">0"),) | AR91: =IFERROR(SUM(P91:R91)/COUNTIF(P91:R91,">0"),) | AS91: =IFERROR(SUM(S91:T91)/COUNTIF(S91:T91,">0"),) | AT91: =IFERROR(SUM(U91:W91)/COUNTIF(U91:W91,">0"),) | AU91: =IFERROR(SUM(X91:Z91)/COUNTIF(X91:Z91,">0"),) | AV91: =IFERROR(SUM(AA91:AC91)/COUNTIF(AA91:AC91,">0"),) | AW91: =IFERROR(SUM(AD91:AF91)/COUNTIF(AD91:AF91,">0"),) | AX91: =IFERROR(SUM(AG91:AI91)/COUNTIF(AG91:AI91,">0"),) | AY91: =IFERROR(SUM(AJ91:AL91)/COUNTIF(AJ91:AL91,">0"),) | AZ91: =IFERROR(SUM(AM91:AO91)/COUNTIF(AM91:AO91,">0"),)
A92: Cofilin-1 OS=Homo sapiens GN=CFL1 PE=1 SV=3 | B92: 8.22 | C92: 18730.634 | D92: 1030.71 | E92: P23528 | F92: 3 | G92: 23.49 | H92: 0 | I92: COF1_HUMAN | J92: 2666 | K92: 3570.5 | L92: 3963 | M92: 5842.3333 | N92: 6204.3333 | O92: 6727.6667 | P92: 2008.6667 | Q92: 2032 | R92: 2577.6667 | S92: 6634.6667 | T92: 6872.3333 | U92: 1651 | V92: 1827.3333 | X92: 2236 | Y92: 2742.6667 | Z92: 1945.6667 | AA92: 2612 | AB92: 2952 | AC92: 2119 | AG92: 3700.3333 | AH92: 3995.6667 | AI92: 3533.3333 | AJ92: 3191 | AK92: 3446.6667 | AL92: 3948.3333 | AM92: 3033.3333 | AN92: 3265.3333 | AO92: 1574 | AP92: =IFERROR(SUM(J92:L92)/COUNTIF(J92:L92,">0"),) | AQ92: =IFERROR(SUM(M92:O92)/COUNTIF(M92:O92,">0"),) | AR92: =IFERROR(SUM(P92:R92)/COUNTIF(P92:R92,">0"),) | AS92: =IFERROR(SUM(S92:T92)/COUNTIF(S92:T92,">0"),) | AT92: =IFERROR(SUM(U92:W92)/COUNTIF(U92:W92,">0"),) | AU92: =IFERROR(SUM(X92:Z92)/COUNTIF(X92:Z92,">0"),) | AV92: =IFERROR(SUM(AA92:AC92)/COUNTIF(AA92:AC92,">0"),) | AW92: =IFERROR(SUM(AD92:AF92)/COUNTIF(AD92:AF92,">0"),) | AX92: =IFERROR(SUM(AG92:AI92)/COUNTIF(AG92:AI92,">0"),) | AY92: =IFERROR(SUM(AJ92:AL92)/COUNTIF(AJ92:AL92,">0"),) | AZ92: =IFERROR(SUM(AM92:AO92)/COUNTIF(AM92:AO92,">0"),)
A93: Insulin-like growth factor-binding protein 3 OS=Homo sapiens GN=IGFBP3 PE=1 SV=2 | B93: 8.66 | C93: 32700.734 | D93: 1007.868 | E93: P17936 | F93: 5 | G93: 27.15 | H93: 0 | I93: IBP3_HUMAN | J93: 3298.5 | K93: 2656 | L93: 4341 | M93: 9472 | N93: 8470 | O93: 8665.3333 | P93: 7725 | Q93: 9077.3333 | R93: 7152 | S93: 10540 | T93: 10489.667 | U93: 3847 | V93: 5348 | W93: 2223.5 | X93: 5723 | Y93: 8187.3333 | Z93: 8801.3333 | AA93: 6736.3333 | AB93: 7483.6667 | AC93: 8594.6667 | AG93: 3466.5 | AH93: 4053 | AI93: 4311 | AJ93: 6296.6667 | AK93: 6739 | AL93: 7914 | AM93: 9980 | AN93: 9320.3333 | AO93: 9516 | AP93: =IFERROR(SUM(J93:L93)/COUNTIF(J93:L93,">0"),) | AQ93: =IFERROR(SUM(M93:O93)/COUNTIF(M93:O93,">0"),) | AR93: =IFERROR(SUM(P93:R93)/COUNTIF(P93:R93,">0"),) | AS93: =IFERROR(SUM(S93:T93)/COUNTIF(S93:T93,">0"),) | AT93: =IFERROR(SUM(U93:W93)/COUNTIF(U93:W93,">0"),) | AU93: =IFERROR(SUM(X93:Z93)/COUNTIF(X93:Z93,">0"),) | AV93: =IFERROR(SUM(AA93:AC93)/COUNTIF(AA93:AC93,">0"),) | AW93: =IFERROR(SUM(AD93:AF93)/COUNTIF(AD93:AF93,">0"),) | AX93: =IFERROR(SUM(AG93:AI93)/COUNTIF(AG93:AI93,">0"),) | AY93: =IFERROR(SUM(AJ93:AL93)/COUNTIF(AJ93:AL93,">0"),) | AZ93: =IFERROR(SUM(AM93:AO93)/COUNTIF(AM93:AO93,">0"),)
A94: Coagulation factor IX OS=Homo sapiens GN=F9 PE=1 SV=2 | B94: 5.19 | C94: 53147.149 | D94: 1002.898 | E94: P00740 | F94: 10 | G94: 33.41 | H94: 0 | I94: FA9_HUMAN | J94: 3504.6667 | K94: 3959.6667 | L94: 3142.3333 | M94: 2727.3333 | N94: 3193 | O94: 2845 | P94: 3608.3333 | Q94: 3520 | R94: 3325.3333 | S94: 4236.6667 | T94: 5164.3333 | U94: 9023.6667 | V94: 9936.3333 | W94: 11073 | X94: 6733.6667 | Y94: 6470.3333 | Z94: 7979.3333 | AA94: 7679.3333 | AB94: 6983 | AC94: 7869 | AG94: 7570.6667 | AH94: 7207.6667 | AI94: 9832.6667 | AJ94: 8766 | AK94: 9125 | AL94: 11304.333 | AM94: 9362.6667 | AN94: 9466.3333 | AO94: 11247.667 | AP94: =IFERROR(SUM(J94:L94)/COUNTIF(J94:L94,">0"),) | AQ94: =IFERROR(SUM(M94:O94)/COUNTIF(M94:O94,">0"),) | AR94: =IFERROR(SUM(P94:R94)/COUNTIF(P94:R94,">0"),) | AS94: =IFERROR(SUM(S94:T94)/COUNTIF(S94:T94,">0"),) | AT94: =IFERROR(SUM(U94:W94)/COUNTIF(U94:W94,">0"),) | AU94: =IFERROR(SUM(X94:Z94)/COUNTIF(X94:Z94,">0"),) | AV94: =IFERROR(SUM(AA94:AC94)/COUNTIF(AA94:AC94,">0"),) | AW94: =IFERROR(SUM(AD94:AF94)/COUNTIF(AD94:AF94,">0"),) | AX94: =IFERROR(SUM(AG94:AI94)/COUNTIF(AG94:AI94,">0"),) | AY94: =IFERROR(SUM(AJ94:AL94)/COUNTIF(AJ94:AL94,">0"),) | AZ94: =IFERROR(SUM(AM94:AO94)/COUNTIF(AM94:AO94,">0"),)
A95: Vasorin OS=Homo sapiens GN=VASN PE=1 SV=1 | B95: 7.09 | C95: 72796.246 | D95: 1001.444 | E95: Q6EMK4 | F95: 6 | G95: 14.41 | H95: 0 | I95: VASN_HUMAN | J95: 9081.6667 | K95: 9834.6667 | L95: 11500.333 | M95: 3059 | N95: 1886.5 | O95: 2269 | P95: 2814 | Q95: 2560 | R95: 2956.6667 | S95: 5115 | T95: 4618.3333 | U95: 6503.3333 | V95: 6997.6667 | W95: 6364 | X95: 6498 | Y95: 6893.3333 | Z95: 4002.3333 | AA95: 4307.3333 | AB95: 4994.6667 | AC95: 2707.3333 | AG95: 6065.3333 | AH95: 7684.3333 | AI95: 4448.3333 | AJ95: 4023 | AK95: 5716.6667 | AL95: 3297.6667 | AM95: 4624 | AN95: 5114 | AO95: 3349 | AP95: =IFERROR(SUM(J95:L95)/COUNTIF(J95:L95,">0"),) | AQ95: =IFERROR(SUM(M95:O95)/COUNTIF(M95:O95,">0"),) | AR95: =IFERROR(SUM(P95:R95)/COUNTIF(P95:R95,">0"),) | AS95: =IFERROR(SUM(S95:T95)/COUNTIF(S95:T95,">0"),) | AT95: =IFERROR(SUM(U95:W95)/COUNTIF(U95:W95,">0"),) | AU95: =IFERROR(SUM(X95:Z95)/COUNTIF(X95:Z95,">0"),) | AV95: =IFERROR(SUM(AA95:AC95)/COUNTIF(AA95:AC95,">0"),) | AW95: =IFERROR(SUM(AD95:AF95)/COUNTIF(AD95:AF95,">0"),) | AX95: =IFERROR(SUM(AG95:AI95)/COUNTIF(AG95:AI95,">0"),) | AY95: =IFERROR(SUM(AJ95:AL95)/COUNTIF(AJ95:AL95,">0"),) | AZ95: =IFERROR(SUM(AM95:AO95)/COUNTIF(AM95:AO95,">0"),)
A96: Vitamin K-dependent protein C OS=Homo sapiens GN=PROC PE=1 SV=1 | B96: 5.82 | C96: 53440.009 | D96: 1001.402 | E96: P04070 | F96: 6 | G96: 27.77 | H96: 0 | I96: PROC_HUMAN | J96: 3505 | K96: 4157 | L96: 6465.6667 | M96: 3791 | N96: 3860.6667 | O96: 6070.3333 | P96: 3966 | Q96: 4491.6667 | R96: 5845.3333 | S96: 5340.3333 | T96: 4851.6667 | U96: 4026 | V96: 5381.6667 | W96: 2645 | X96: 6512 | Y96: 8403.6667 | Z96: 8110 | AA96: 6805.6667 | AB96: 10936 | AC96: 6623 | AG96: 4592 | AH96: 5762 | AI96: 3985.6667 | AJ96: 9845.3333 | AK96: 10449.667 | AL96: 15424.333 | AM96: 4681.6667 | AN96: 6605.3333 | AO96: 3922.6667 | AP96: =IFERROR(SUM(J96:L96)/COUNTIF(J96:L96,">0"),) | AQ96: =IFERROR(SUM(M96:O96)/COUNTIF(M96:O96,">0"),) | AR96: =IFERROR(SUM(P96:R96)/COUNTIF(P96:R96,">0"),) | AS96: =IFERROR(SUM(S96:T96)/COUNTIF(S96:T96,">0"),) | AT96: =IFERROR(SUM(U96:W96)/COUNTIF(U96:W96,">0"),) | AU96: =IFERROR(SUM(X96:Z96)/COUNTIF(X96:Z96,">0"),) | AV96: =IFERROR(SUM(AA96:AC96)/COUNTIF(AA96:AC96,">0"),) | AW96: =IFERROR(SUM(AD96:AF96)/COUNTIF(AD96:AF96,">0"),) | AX96: =IFERROR(SUM(AG96:AI96)/COUNTIF(AG96:AI96,">0"),) | AY96: =IFERROR(SUM(AJ96:AL96)/COUNTIF(AJ96:AL96,">0"),) | AZ96: =IFERROR(SUM(AM96:AO96)/COUNTIF(AM96:AO96,">0"),)
A97: Glyceraldehyde-3-phosphate dehydrogenase OS=Homo sapiens GN=GAPDH PE=1 SV=3 | B97: 8.7 | C97: 36224.368 | D97: 979.876 | E97: P04406 | F97: 3 | G97: 12.84 | H97: 0 | I97: G3P_HUMAN | J97: 3821 | K97: 2977.6667 | L97: 4502 | M97: 8182.5 | N97: 8692.5 | O97: 6929 | P97: 4166.5 | Q97: 5219 | R97: 5070.5 | S97: 11537.333 | T97: 12404 | U97: 2430 | V97: 3487 | W97: 3689 | X97: 2780 | Y97: 2756 | Z97: 2505.5 | AA97: 7176.6667 | AB97: 7384.6667 | AC97: 7806.6667 | AG97: 6381.3333 | AH97: 6949.3333 | AI97: 6913 | AJ97: 4976 | AK97: 5490 | AL97: 6265.6667 | AM97: 4363 | AN97: 5147.6667 | AO97: 4741.5 | AP97: =IFERROR(SUM(J97:L97)/COUNTIF(J97:L97,">0"),) | AQ97: =IFERROR(SUM(M97:O97)/COUNTIF(M97:O97,">0"),) | AR97: =IFERROR(SUM(P97:R97)/COUNTIF(P97:R97,">0"),) | AS97: =IFERROR(SUM(S97:T97)/COUNTIF(S97:T97,">0"),) | AT97: =IFERROR(SUM(U97:W97)/COUNTIF(U97:W97,">0"),) | AU97: =IFERROR(SUM(X97:Z97)/COUNTIF(X97:Z97,">0"),) | AV97: =IFERROR(SUM(AA97:AC97)/COUNTIF(AA97:AC97,">0"),) | AW97: =IFERROR(SUM(AD97:AF97)/COUNTIF(AD97:AF97,">0"),) | AX97: =IFERROR(SUM(AG97:AI97)/COUNTIF(AG97:AI97,">0"),) | AY97: =IFERROR(SUM(AJ97:AL97)/COUNTIF(AJ97:AL97,">0"),) | AZ97: =IFERROR(SUM(AM97:AO97)/COUNTIF(AM97:AO97,">0"),)
A98: Selenoprotein P OS=Homo sapiens GN=SELENOP PE=1 SV=3 | B98: 7.72 | C98: 42642.758 | D98: 966.3715 | E98: P49908 | F98: 3 | G98: 11.81 | H98: 0 | I98: SEPP1_HUMAN | J98: 5240.3333 | K98: 5553.6667 | L98: 5090.3333 | M98: 5156 | N98: 5151 | O98: 4995.6667 | P98: 7399 | Q98: 7690 | R98: 7339 | S98: 8168.3333 | T98: 8230.6667 | U98: 7007.3333 | V98: 6778.3333 | W98: 6713.3333 | X98: 5517 | Y98: 5480.3333 | Z98: 5521 | AA98: 6208.3333 | AB98: 6141.3333 | AC98: 6956.3333 | AD98: 3484 | AG98: 7206.3333 | AH98: 6840.6667 | AI98: 7479.6667 | AJ98: 6705.3333 | AK98: 6201 | AL98: 7396.3333 | AM98: 6480 | AN98: 6025.6667 | AO98: 5737.3333 | AP98: =IFERROR(SUM(J98:L98)/COUNTIF(J98:L98,">0"),) | AQ98: =IFERROR(SUM(M98:O98)/COUNTIF(M98:O98,">0"),) | AR98: =IFERROR(SUM(P98:R98)/COUNTIF(P98:R98,">0"),) | AS98: =IFERROR(SUM(S98:T98)/COUNTIF(S98:T98,">0"),) | AT98: =IFERROR(SUM(U98:W98)/COUNTIF(U98:W98,">0"),) | AU98: =IFERROR(SUM(X98:Z98)/COUNTIF(X98:Z98,">0"),) | AV98: =IFERROR(SUM(AA98:AC98)/COUNTIF(AA98:AC98,">0"),) | AW98: =IFERROR(SUM(AD98:AF98)/COUNTIF(AD98:AF98,">0"),) | AX98: =IFERROR(SUM(AG98:AI98)/COUNTIF(AG98:AI98,">0"),) | AY98: =IFERROR(SUM(AJ98:AL98)/COUNTIF(AJ98:AL98,">0"),) | AZ98: =IFERROR(SUM(AM98:AO98)/COUNTIF(AM98:AO98,">0"),)
A99: Secreted phosphoprotein 24 OS=Homo sapiens GN=SPP2 PE=1 SV=1 | B99: 8.39 | C99: 24622.873 | D99: 951.4333 | E99: Q13103 | F99: 4 | G99: 42.18 | H99: 0 | I99: SPP24_HUMAN | J99: 1569 | K99: 1485 | L99: 1520 | M99: 1500 | N99: 1722 | O99: 1803 | P99: 1537.3333 | Q99: 1657.3333 | R99: 1674.3333 | S99: 1112 | T99: 1054.5 | U99: 1364.3333 | V99: 1469 | W99: 1704 | X99: 1375.6667 | Y99: 1290.6667 | Z99: 1522.3333 | AA99: 4117.3333 | AB99: 3479 | AC99: 3772.3333 | AG99: 1697 | AH99: 1329 | AI99: 1354 | AL99: 1055.3333 | AM99: 1757.3333 | AN99: 1631 | AO99: 1655.3333 | AP99: =IFERROR(SUM(J99:L99)/COUNTIF(J99:L99,">0"),) | AQ99: =IFERROR(SUM(M99:O99)/COUNTIF(M99:O99,">0"),) | AR99: =IFERROR(SUM(P99:R99)/COUNTIF(P99:R99,">0"),) | AS99: =IFERROR(SUM(S99:T99)/COUNTIF(S99:T99,">0"),) | AT99: =IFERROR(SUM(U99:W99)/COUNTIF(U99:W99,">0"),) | AU99: =IFERROR(SUM(X99:Z99)/COUNTIF(X99:Z99,">0"),) | AV99: =IFERROR(SUM(AA99:AC99)/COUNTIF(AA99:AC99,">0"),) | AW99: =IFERROR(SUM(AD99:AF99)/COUNTIF(AD99:AF99,">0"),) | AX99: =IFERROR(SUM(AG99:AI99)/COUNTIF(AG99:AI99,">0"),) | AY99: =IFERROR(SUM(AJ99:AL99)/COUNTIF(AJ99:AL99,">0"),) | AZ99: =IFERROR(SUM(AM99:AO99)/COUNTIF(AM99:AO99,">0"),)
A100: Filamin-A OS=Homo sapiens GN=FLNA PE=1 SV=4 | B100: 5.64 | C100: 283476.61 | D100: 939.2613 | E100: P21333 | F100: 39 | G100: 22.4 | H100: 0 | I100: FLNA_HUMAN | J100: 4783 | K100: 4782.5 | L100: 8302 | M100: 2258.5 | N100: 1844 | O100: 1871.5 | P100: 7785 | Q100: 6805.3333 | R100: 6361.3333 | S100: 13274.333 | T100: 14544 | U100: 2491.3333 | V100: 2143.3333 | X100: 1420 | Y100: 2061 | Z100: 2326.5 | AA100: 3347.6667 | AB100: 2279 | AC100: 2832.5 | AG100: 10707.667 | AH100: 11134.333 | AI100: 7976.6667 | AJ100: 6645.3333 | AK100: 6422 | AL100: 8011.6667 | AM100: 7666.6667 | AN100: 7076.6667 | AO100: 4705.6667 | AP100: =IFERROR(SUM(J100:L100)/COUNTIF(J100:L100,">0"),) | AQ100: =IFERROR(SUM(M100:O100)/COUNTIF(M100:O100,">0"),) | AR100: =IFERROR(SUM(P100:R100)/COUNTIF(P100:R100,">0"),) | AS100: =IFERROR(SUM(S100:T100)/COUNTIF(S100:T100,">0"),) | AT100: =IFERROR(SUM(U100:W100)/COUNTIF(U100:W100,">0"),) | AU100: =IFERROR(SUM(X100:Z100)/COUNTIF(X100:Z100,">0"),) | AV100: =IFERROR(SUM(AA100:AC100)/COUNTIF(AA100:AC100,">0"),) | AW100: =IFERROR(SUM(AD100:AF100)/COUNTIF(AD100:AF100,">0"),) | AX100: =IFERROR(SUM(AG100:AI100)/COUNTIF(AG100:AI100,">0"),) | AY100: =IFERROR(SUM(AJ100:AL100)/COUNTIF(AJ100:AL100,">0"),) | AZ100: =IFERROR(SUM(AM100:AO100)/COUNTIF(AM100:AO100,">0"),)
...

Sheet correlation
J1: Alex Kontrolle 6 +enolase 25fmol/ul | K1: Alex Kontrolle 6 +enolase 25fmol/ul | L1: Alex Kontrolle 6 +enolase 25fmol/ul | M1: Alex Kontrolle 2 +enolase 25fmol/ul | N1: Alex Kontrolle 2 +enolase 25fmol/ul | O1: Alex Kontrolle 2 +enolase 25fmol/ul | P1: Alex Kontrolle 35 +enolase 25fmol/ul | Q1: Alex Kontrolle 35 +enolase 25fmol/ul | R1: Alex Kontrolle 35 +enolase 25fmol/ul | S1: Alex Kontrolle 37 +enolase 25fmol/ul | T1: Alex Kontrolle 37 +enolase 25fmol/ul | U1: Alex Poly 43 +enolase 25fmol/ul | V1: Alex Poly 43 +enolase 25fmol/ul | W1: Alex Poly 43 +enolase 25fmol/ul | X1: Alex Poly 30 +enolase 25fmol/ul | Y1: Alex Poly 30 +enolase 25fmol/ul | Z1: Alex Poly 30 +enolase 25fmol/ul | AA1: Alex Poly 19 +enolase 25fmol/ul | AB1: Alex Poly 19 +enolase 25fmol/ul | AC1: Alex Poly 19 +enolase 25fmol/ul | AD1: Alex Poly 44 +enolase 25fmol/ul | AE1: Alex Poly 44 +enolase 25fmol/ul | AF1: Alex Poly 44 +enolase 25fmol/ul | AG1: Alex Karz 42 +enolase 25fmol/ul | AH1: Alex Karz 42 +enolase 25fmol/ul | AI1: Alex Karz 42 +enolase 25fmol/ul | AJ1: Alex Karz 41 +enolase 25fmol/ul | AK1: Alex Karz 41 +enolase 25fmol/ul | AL1: Alex Karz 41 +enolase 25fmol/ul | AM1: Alex Karz 34 +enolase 25fmol/ul | AN1: Alex Karz 34 +enolase 25fmol/ul | AO1: Alex Karz 34 +enolase 25fmol/ul
J2: 101 Kontrolle 6 1 | K2: 101 Kontrolle 6 2 | L2: 101 Kontrolle 6 3 | M2: 102 Kontrolle 2 1 | N2: 102 Kontrolle 2 2 | O2: 102 Kontrolle 2 3 | P2: 103 Kontrolle 35 1 | Q2: 103 Kontrolle 35 2 | R2: 103 Kontrolle 35 3 | S2: 104 Kontrolle 37 1 | T2: 104 Kontrolle 37 2 | U2: 108 Polyp 43 1 | V2: 108 Polyp 43 2 | W2: 108 Polyp 43 3 | X2: 109 Polyp 30 1 | Y2: 109 Polyp 30 2 | Z2: 109 Polyp 30 3 | AA2: 110 Polyp 19 1 | AB2: 110 Polyp 19 2 | AC2: 110 Polyp 19 3 | AD2: 111 Polyp 44 1 | AE2: 111 Polyp 44 2 | AF2: 111 Polyp 44 3 | AG2: 107 Karz 42 1 | AH2: 107 Karz 42 2 | AI2: 107 Karz 42 3 | AJ2: 106 Karz 41 1 | AK2: 106 Karz 41 2 | AL2: 106 Karz 41 3 | AM2: 105 Karz 34 1 | AN2: 105 Karz 34 2 | AO2: 105 Karz 34 3
I3: 101 Kontrolle 6 1 | J3: =CORREL('TOP3 quantification'!J3:J142,'TOP3 quantification'!J3:J142) | K3: =CORREL('TOP3 quantification'!J3:J142,'TOP3 quantification'!K3:K142) | L3: =CORREL('TOP3 quantification'!J3:J142,'TOP3 quantification'!L3:L142) | M3: =CORREL('TOP3 quantification'!J3:J142,'TOP3 quantification'!M3:M142) | N3: =CORREL('TOP3 quantification'!J3:J142,'TOP3 quantification'!N3:N142) | O3: =CORREL('TOP3 quantification'!J3:J142,'TOP3 quantification'!O3:O142) | P3: =CORREL('TOP3 quantification'!J3:J142,'TOP3 quantification'!P3:P142) | Q3: =CORREL('TOP3 quantification'!J3:J142,'TOP3 quantification'!Q3:Q142) | R3: =CORREL('TOP3 quantification'!J3:J142,'TOP3 quantification'!R3:R142) | S3: =CORREL('TOP3 quantification'!J3:J142,'TOP3 quantification'!S3:S142) | T3: =CORREL('TOP3 quantification'!J3:J142,'TOP3 quantification'!T3:T142) | U3: =CORREL('TOP3 quantification'!J3:J142,'TOP3 quantification'!U3:U142) | V3: =CORREL('TOP3 quantification'!J3:J142,'TOP3 quantification'!V3:V142) | W3: =CORREL('TOP3 quantification'!J3:J142,'TOP3 quantification'!W3:W142) | X3: =CORREL('TOP3 quantification'!J3:J142,'TOP3 quantification'!X3:X142) | Y3: =CORREL('TOP3 quantification'!J3:J142,'TOP3 quantification'!Y3:Y142) | Z3: =CORREL('TOP3 quantification'!J3:J142,'TOP3 quantification'!Z3:Z142) | AA3: =CORREL('TOP3 quantification'!J3:J142,'TOP3 quantification'!AA3:AA142) | AB3: =CORREL('TOP3 quantification'!J3:J142,'TOP3 quantification'!AB3:AB142) | AC3: =CORREL('TOP3 quantification'!J3:J142,'TOP3 quantification'!AC3:AC142) | AD3: =CORREL('TOP3 quantification'!J3:J142,'TOP3 quantification'!AD3:AD142) | AE3: =CORREL('TOP3 quantification'!J3:J142,'TOP3 quantification'!AE3:AE142) | AF3: =CORREL('TOP3 quantification'!J3:J142,'TOP3 quantification'!AF3:AF142) | AG3: =CORREL('TOP3 quantification'!J3:J142,'TOP3 quantification'!AG3:AG142) | AH3: =CORREL('TOP3 quantification'!J3:J142,'TOP3 quantification'!AH3:AH142) | AI3: =CORREL('TOP3 quantification'!J3:J142,'TOP3 quantification'!AI3:AI142) | AJ3: =CORREL('TOP3 quantification'!J3:J142,'TOP3 quantification'!AJ3:AJ142) | AK3: =CORREL('TOP3 quantification'!J3:J142,'TOP3 quantification'!AK3:AK142) | AL3: =CORREL('TOP3 quantification'!J3:J142,'TOP3 quantification'!AL3:AL142) | AM3: =CORREL('TOP3 quantification'!J3:J142,'TOP3 quantification'!AM3:AM142) | AN3: =CORREL('TOP3 quantification'!J3:J142,'TOP3 quantification'!AN3:AN142) | AO3: =CORREL('TOP3 quantification'!J3:J142,'TOP3 quantification'!AO3:AO142)
I4: 101 Kontrolle 6 2 | J4: =CORREL('TOP3 quantification'!K3:K142,'TOP3 quantification'!J3:J142) | K4: =CORREL('TOP3 quantification'!K3:K142,'TOP3 quantification'!K3:K142) | L4: =CORREL('TOP3 quantification'!K3:K142,'TOP3 quantification'!L3:L142) | M4: =CORREL('TOP3 quantification'!K3:K142,'TOP3 quantification'!M3:M142) | N4: =CORREL('TOP3 quantification'!K3:K142,'TOP3 quantification'!N3:N142) | O4: =CORREL('TOP3 quantification'!K3:K142,'TOP3 quantification'!O3:O142) | P4: =CORREL('TOP3 quantification'!K3:K142,'TOP3 quantification'!P3:P142) | Q4: =CORREL('TOP3 quantification'!K3:K142,'TOP3 quantification'!Q3:Q142) | R4: =CORREL('TOP3 quantification'!K3:K142,'TOP3 quantification'!R3:R142) | S4: =CORREL('TOP3 quantification'!K3:K142,'TOP3 quantification'!S3:S142) | T4: =CORREL('TOP3 quantification'!K3:K142,'TOP3 quantification'!T3:T142) | U4: =CORREL('TOP3 quantification'!K3:K142,'TOP3 quantification'!U3:U142) | V4: =CORREL('TOP3 quantification'!K3:K142,'TOP3 quantification'!V3:V142) | W4: =CORREL('TOP3 quantification'!K3:K142,'TOP3 quantification'!W3:W142) | X4: =CORREL('TOP3 quantification'!K3:K142,'TOP3 quantification'!X3:X142) | Y4: =CORREL('TOP3 quantification'!K3:K142,'TOP3 quantification'!Y3:Y142) | Z4: =CORREL('TOP3 quantification'!K3:K142,'TOP3 quantification'!Z3:Z142) | AA4: =CORREL('TOP3 quantification'!K3:K142,'TOP3 quantification'!AA3:AA142) | AB4: =CORREL('TOP3 quantification'!K3:K142,'TOP3 quantification'!AB3:AB142) | AC4: =CORREL('TOP3 quantification'!K3:K142,'TOP3 quantification'!AC3:AC142) | AD4: =CORREL('TOP3 quantification'!K3:K142,'TOP3 quantification'!AD3:AD142) | AE4: =CORREL('TOP3 quantification'!K3:K142,'TOP3 quantification'!AE3:AE142) | AF4: =CORREL('TOP3 quantification'!K3:K142,'TOP3 quantification'!AF3:AF142) | AG4: =CORREL('TOP3 quantification'!K3:K142,'TOP3 quantification'!AG3:AG142) | AH4: =CORREL('TOP3 quantification'!K3:K142,'TOP3 quantification'!AH3:AH142) | AI4: =CORREL('TOP3 quantification'!K3:K142,'TOP3 quantification'!AI3:AI142) | AJ4: =CORREL('TOP3 quantification'!K3:K142,'TOP3 quantification'!AJ3:AJ142) | AK4: =CORREL('TOP3 quantification'!K3:K142,'TOP3 quantification'!AK3:AK142) | AL4: =CORREL('TOP3 quantification'!K3:K142,'TOP3 quantification'!AL3:AL142) | AM4: =CORREL('TOP3 quantification'!K3:K142,'TOP3 quantification'!AM3:AM142) | AN4: =CORREL('TOP3 quantification'!K3:K142,'TOP3 quantification'!AN3:AN142) | AO4: =CORREL('TOP3 quantification'!K3:K142,'TOP3 quantification'!AO3:AO142)
I5: 101 Kontrolle 6 3 | J5: =CORREL('TOP3 quantification'!L3:L142,'TOP3 quantification'!J3:J142) | K5: =CORREL('TOP3 quantification'!L3:L142,'TOP3 quantification'!K3:K142) | L5: =CORREL('TOP3 quantification'!L3:L142,'TOP3 quantification'!L3:L142) | M5: =CORREL('TOP3 quantification'!L3:L142,'TOP3 quantification'!M3:M142) | N5: =CORREL('TOP3 quantification'!L3:L142,'TOP3 quantification'!N3:N142) | O5: =CORREL('TOP3 quantification'!L3:L142,'TOP3 quantification'!O3:O142) | P5: =CORREL('TOP3 quantification'!L3:L142,'TOP3 quantification'!P3:P142) | Q5: =CORREL('TOP3 quantification'!L3:L142,'TOP3 quantification'!Q3:Q142) | R5: =CORREL('TOP3 quantification'!L3:L142,'TOP3 quantification'!R3:R142) | S5: =CORREL('TOP3 quantification'!L3:L142,'TOP3 quantification'!S3:S142) | T5: =CORREL('TOP3 quantification'!L3:L142,'TOP3 quantification'!T3:T142) | U5: =CORREL('TOP3 quantification'!L3:L142,'TOP3 quantification'!U3:U142) | V5: =CORREL('TOP3 quantification'!L3:L142,'TOP3 quantification'!V3:V142) | W5: =CORREL('TOP3 quantification'!L3:L142,'TOP3 quantification'!W3:W142) | X5: =CORREL('TOP3 quantification'!L3:L142,'TOP3 quantification'!X3:X142) | Y5: =CORREL('TOP3 quantification'!L3:L142,'TOP3 quantification'!Y3:Y142) | Z5: =CORREL('TOP3 quantification'!L3:L142,'TOP3 quantification'!Z3:Z142) | AA5: =CORREL('TOP3 quantification'!L3:L142,'TOP3 quantification'!AA3:AA142) | AB5: =CORREL('TOP3 quantification'!L3:L142,'TOP3 quantification'!AB3:AB142) | AC5: =CORREL('TOP3 quantification'!L3:L142,'TOP3 quantification'!AC3:AC142) | AD5: =CORREL('TOP3 quantification'!L3:L142,'TOP3 quantification'!AD3:AD142) | AE5: =CORREL('TOP3 quantification'!L3:L142,'TOP3 quantification'!AE3:AE142) | AF5: =CORREL('TOP3 quantification'!L3:L142,'TOP3 quantification'!AF3:AF142) | AG5: =CORREL('TOP3 quantification'!L3:L142,'TOP3 quantification'!AG3:AG142) | AH5: =CORREL('TOP3 quantification'!L3:L142,'TOP3 quantification'!AH3:AH142) | AI5: =CORREL('TOP3 quantification'!L3:L142,'TOP3 quantification'!AI3:AI142) | AJ5: =CORREL('TOP3 quantification'!L3:L142,'TOP3 quantification'!AJ3:AJ142) | AK5: =CORREL('TOP3 quantification'!L3:L142,'TOP3 quantification'!AK3:AK142) | AL5: =CORREL('TOP3 quantification'!L3:L142,'TOP3 quantification'!AL3:AL142) | AM5: =CORREL('TOP3 quantification'!L3:L142,'TOP3 quantification'!AM3:AM142) | AN5: =CORREL('TOP3 quantification'!L3:L142,'TOP3 quantification'!AN3:AN142) | AO5: =CORREL('TOP3 quantification'!L3:L142,'TOP3 quantification'!AO3:AO142)
I6: 102 Kontrolle 2 1 | J6: =CORREL('TOP3 quantification'!M3:M142,'TOP3 quantification'!J3:J142) | K6: =CORREL('TOP3 quantification'!M3:M142,'TOP3 quantification'!K3:K142) | L6: =CORREL('TOP3 quantification'!M3:M142,'TOP3 quantification'!L3:L142) | M6: =CORREL('TOP3 quantification'!M3:M142,'TOP3 quantification'!M3:M142) | N6: =CORREL('TOP3 quantification'!M3:M142,'TOP3 quantification'!N3:N142) | O6: =CORREL('TOP3 quantification'!M3:M142,'TOP3 quantification'!O3:O142) | P6: =CORREL('TOP3 quantification'!M3:M142,'TOP3 quantification'!P3:P142) | Q6: =CORREL('TOP3 quantification'!M3:M142,'TOP3 quantification'!Q3:Q142) | R6: =CORREL('TOP3 quantification'!M3:M142,'TOP3 quantification'!R3:R142) | S6: =CORREL('TOP3 quantification'!M3:M142,'TOP3 quantification'!S3:S142) | T6: =CORREL('TOP3 quantification'!M3:M142,'TOP3 quantification'!T3:T142) | U6: =CORREL('TOP3 quantification'!M3:M142,'TOP3 quantification'!U3:U142) | V6: =CORREL('TOP3 quantification'!M3:M142,'TOP3 quantification'!V3:V142) | W6: =CORREL('TOP3 quantification'!M3:M142,'TOP3 quantification'!W3:W142) | X6: =CORREL('TOP3 quantification'!M3:M142,'TOP3 quantification'!X3:X142) | Y6: =CORREL('TOP3 quantification'!M3:M142,'TOP3 quantification'!Y3:Y142) | Z6: =CORREL('TOP3 quantification'!M3:M142,'TOP3 quantification'!Z3:Z142) | AA6: =CORREL('TOP3 quantification'!M3:M142,'TOP3 quantification'!AA3:AA142) | AB6: =CORREL('TOP3 quantification'!M3:M142,'TOP3 quantification'!AB3:AB142) | AC6: =CORREL('TOP3 quantification'!M3:M142,'TOP3 quantification'!AC3:AC142) | AD6: =CORREL('TOP3 quantification'!M3:M142,'TOP3 quantification'!AD3:AD142) | AE6: =CORREL('TOP3 quantification'!M3:M142,'TOP3 quantification'!AE3:AE142) | AF6: =CORREL('TOP3 quantification'!M3:M142,'TOP3 quantification'!AF3:AF142) | AG6: =CORREL('TOP3 quantification'!M3:M142,'TOP3 quantification'!AG3:AG142) | AH6: =CORREL('TOP3 quantification'!M3:M142,'TOP3 quantification'!AH3:AH142) | AI6: =CORREL('TOP3 quantification'!M3:M142,'TOP3 quantification'!AI3:AI142) | AJ6: =CORREL('TOP3 quantification'!M3:M142,'TOP3 quantification'!AJ3:AJ142) | AK6: =CORREL('TOP3 quantification'!M3:M142,'TOP3 quantification'!AK3:AK142) | AL6: =CORREL('TOP3 quantification'!M3:M142,'TOP3 quantification'!AL3:AL142) | AM6: =CORREL('TOP3 quantification'!M3:M142,'TOP3 quantification'!AM3:AM142) | AN6: =CORREL('TOP3 quantification'!M3:M142,'TOP3 quantification'!AN3:AN142) | AO6: =CORREL('TOP3 quantification'!M3:M142,'TOP3 quantification'!AO3:AO142)
I7: 102 Kontrolle 2 2 | J7: =CORREL('TOP3 quantification'!N3:N142,'TOP3 quantification'!J3:J142) | K7: =CORREL('TOP3 quantification'!N3:N142,'TOP3 quantification'!K3:K142) | L7: =CORREL('TOP3 quantification'!N3:N142,'TOP3 quantification'!L3:L142) | M7: =CORREL('TOP3 quantification'!N3:N142,'TOP3 quantification'!M3:M142) | N7: =CORREL('TOP3 quantification'!N3:N142,'TOP3 quantification'!N3:N142) | O7: =CORREL('TOP3 quantification'!N3:N142,'TOP3 quantification'!O3:O142) | P7: =CORREL('TOP3 quantification'!N3:N142,'TOP3 quantification'!P3:P142) | Q7: =CORREL('TOP3 quantification'!N3:N142,'TOP3 quantification'!Q3:Q142) | R7: =CORREL('TOP3 quantification'!N3:N142,'TOP3 quantification'!R3:R142) | S7: =CORREL('TOP3 quantification'!N3:N142,'TOP3 quantification'!S3:S142) | T7: =CORREL('TOP3 quantification'!N3:N142,'TOP3 quantification'!T3:T142) | U7: =CORREL('TOP3 quantification'!N3:N142,'TOP3 quantification'!U3:U142) | V7: =CORREL('TOP3 quantification'!N3:N142,'TOP3 quantification'!V3:V142) | W7: =CORREL('TOP3 quantification'!N3:N142,'TOP3 quantification'!W3:W142) | X7: =CORREL('TOP3 quantification'!N3:N142,'TOP3 quantification'!X3:X142) | Y7: =CORREL('TOP3 quantification'!N3:N142,'TOP3 quantification'!Y3:Y142) | Z7: =CORREL('TOP3 quantification'!N3:N142,'TOP3 quantification'!Z3:Z142) | AA7: =CORREL('TOP3 quantification'!N3:N142,'TOP3 quantification'!AA3:AA142) | AB7: =CORREL('TOP3 quantification'!N3:N142,'TOP3 quantification'!AB3:AB142) | AC7: =CORREL('TOP3 quantification'!N3:N142,'TOP3 quantification'!AC3:AC142) | AD7: =CORREL('TOP3 quantification'!N3:N142,'TOP3 quantification'!AD3:AD142) | AE7: =CORREL('TOP3 quantification'!N3:N142,'TOP3 quantification'!AE3:AE142) | AF7: =CORREL('TOP3 quantification'!N3:N142,'TOP3 quantification'!AF3:AF142) | AG7: =CORREL('TOP3 quantification'!N3:N142,'TOP3 quantification'!AG3:AG142) | AH7: =CORREL('TOP3 quantification'!N3:N142,'TOP3 quantification'!AH3:AH142) | AI7: =CORREL('TOP3 quantification'!N3:N142,'TOP3 quantification'!AI3:AI142) | AJ7: =CORREL('TOP3 quantification'!N3:N142,'TOP3 quantification'!AJ3:AJ142) | AK7: =CORREL('TOP3 quantification'!N3:N142,'TOP3 quantification'!AK3:AK142) | AL7: =CORREL('TOP3 quantification'!N3:N142,'TOP3 quantification'!AL3:AL142) | AM7: =CORREL('TOP3 quantification'!N3:N142,'TOP3 quantification'!AM3:AM142) | AN7: =CORREL('TOP3 quantification'!N3:N142,'TOP3 quantification'!AN3:AN142) | AO7: =CORREL('TOP3 quantification'!N3:N142,'TOP3 quantification'!AO3:AO142)
I8: 102 Kontrolle 2 3 | J8: =CORREL('TOP3 quantification'!O3:O142,'TOP3 quantification'!J3:J142) | K8: =CORREL('TOP3 quantification'!O3:O142,'TOP3 quantification'!K3:K142) | L8: =CORREL('TOP3 quantification'!O3:O142,'TOP3 quantification'!L3:L142) | M8: =CORREL('TOP3 quantification'!O3:O142,'TOP3 quantification'!M3:M142) | N8: =CORREL('TOP3 quantification'!O3:O142,'TOP3 quantification'!N3:N142) | O8: =CORREL('TOP3 quantification'!O3:O142,'TOP3 quantification'!O3:O142) | P8: =CORREL('TOP3 quantification'!O3:O142,'TOP3 quantification'!P3:P142) | Q8: =CORREL('TOP3 quantification'!O3:O142,'TOP3 quantification'!Q3:Q142) | R8: =CORREL('TOP3 quantification'!O3:O142,'TOP3 quantification'!R3:R142) | S8: =CORREL('TOP3 quantification'!O3:O142,'TOP3 quantification'!S3:S142) | T8: =CORREL('TOP3 quantification'!O3:O142,'TOP3 quantification'!T3:T142) | U8: =CORREL('TOP3 quantification'!O3:O142,'TOP3 quantification'!U3:U142) | V8: =CORREL('TOP3 quantification'!O3:O142,'TOP3 quantification'!V3:V142) | W8: =CORREL('TOP3 quantification'!O3:O142,'TOP3 quantification'!W3:W142) | X8: =CORREL('TOP3 quantification'!O3:O142,'TOP3 quantification'!X3:X142) | Y8: =CORREL('TOP3 quantification'!O3:O142,'TOP3 quantification'!Y3:Y142) | Z8: =CORREL('TOP3 quantification'!O3:O142,'TOP3 quantification'!Z3:Z142) | AA8: =CORREL('TOP3 quantification'!O3:O142,'TOP3 quantification'!AA3:AA142) | AB8: =CORREL('TOP3 quantification'!O3:O142,'TOP3 quantification'!AB3:AB142) | AC8: =CORREL('TOP3 quantification'!O3:O142,'TOP3 quantification'!AC3:AC142) | AD8: =CORREL('TOP3 quantification'!O3:O142,'TOP3 quantification'!AD3:AD142) | AE8: =CORREL('TOP3 quantification'!O3:O142,'TOP3 quantification'!AE3:AE142) | AF8: =CORREL('TOP3 quantification'!O3:O142,'TOP3 quantification'!AF3:AF142) | AG8: =CORREL('TOP3 quantification'!O3:O142,'TOP3 quantification'!AG3:AG142) | AH8: =CORREL('TOP3 quantification'!O3:O142,'TOP3 quantification'!AH3:AH142) | AI8: =CORREL('TOP3 quantification'!O3:O142,'TOP3 quantification'!AI3:AI142) | AJ8: =CORREL('TOP3 quantification'!O3:O142,'TOP3 quantification'!AJ3:AJ142) | AK8: =CORREL('TOP3 quantification'!O3:O142,'TOP3 quantification'!AK3:AK142) | AL8: =CORREL('TOP3 quantification'!O3:O142,'TOP3 quantification'!AL3:AL142) | AM8: =CORREL('TOP3 quantification'!O3:O142,'TOP3 quantification'!AM3:AM142) | AN8: =CORREL('TOP3 quantification'!O3:O142,'TOP3 quantification'!AN3:AN142) | AO8: =CORREL('TOP3 quantification'!O3:O142,'TOP3 quantification'!AO3:AO142)
I9: 103 Kontrolle 35 1 | J9: =CORREL('TOP3 quantification'!P3:P142,'TOP3 quantification'!J3:J142) | K9: =CORREL('TOP3 quantification'!P3:P142,'TOP3 quantification'!K3:K142) | L9: =CORREL('TOP3 quantification'!P3:P142,'TOP3 quantification'!L3:L142) | M9: =CORREL('TOP3 quantification'!P3:P142,'TOP3 quantification'!M3:M142) | N9: =CORREL('TOP3 quantification'!P3:P142,'TOP3 quantification'!N3:N142) | O9: =CORREL('TOP3 quantification'!P3:P142,'TOP3 quantification'!O3:O142) | P9: =CORREL('TOP3 quantification'!P3:P142,'TOP3 quantification'!P3:P142) | Q9: =CORREL('TOP3 quantification'!P3:P142,'TOP3 quantification'!Q3:Q142) | R9: =CORREL('TOP3 quantification'!P3:P142,'TOP3 quantification'!R3:R142) | S9: =CORREL('TOP3 quantification'!P3:P142,'TOP3 quantification'!S3:S142) | T9: =CORREL('TOP3 quantification'!P3:P142,'TOP3 quantification'!T3:T142) | U9: =CORREL('TOP3 quantification'!P3:P142,'TOP3 quantification'!U3:U142) | V9: =CORREL('TOP3 quantification'!P3:P142,'TOP3 quantification'!V3:V142) | W9: =CORREL('TOP3 quantification'!P3:P142,'TOP3 quantification'!W3:W142) | X9: =CORREL('TOP3 quantification'!P3:P142,'TOP3 quantification'!X3:X142) | Y9: =CORREL('TOP3 quantification'!P3:P142,'TOP3 quantification'!Y3:Y142) | Z9: =CORREL('TOP3 quantification'!P3:P142,'TOP3 quantification'!Z3:Z142) | AA9: =CORREL('TOP3 quantification'!P3:P142,'TOP3 quantification'!AA3:AA142) | AB9: =CORREL('TOP3 quantification'!P3:P142,'TOP3 quantification'!AB3:AB142) | AC9: =CORREL('TOP3 quantification'!P3:P142,'TOP3 quantification'!AC3:AC142) | AD9: =CORREL('TOP3 quantification'!P3:P142,'TOP3 quantification'!AD3:AD142) | AE9: =CORREL('TOP3 quantification'!P3:P142,'TOP3 quantification'!AE3:AE142) | AF9: =CORREL('TOP3 quantification'!P3:P142,'TOP3 quantification'!AF3:AF142) | AG9: =CORREL('TOP3 quantification'!P3:P142,'TOP3 quantification'!AG3:AG142) | AH9: =CORREL('TOP3 quantification'!P3:P142,'TOP3 quantification'!AH3:AH142) | AI9: =CORREL('TOP3 quantification'!P3:P142,'TOP3 quantification'!AI3:AI142) | AJ9: =CORREL('TOP3 quantification'!P3:P142,'TOP3 quantification'!AJ3:AJ142) | AK9: =CORREL('TOP3 quantification'!P3:P142,'TOP3 quantification'!AK3:AK142) | AL9: =CORREL('TOP3 quantification'!P3:P142,'TOP3 quantification'!AL3:AL142) | AM9: =CORREL('TOP3 quantification'!P3:P142,'TOP3 quantification'!AM3:AM142) | AN9: =CORREL('TOP3 quantification'!P3:P142,'TOP3 quantification'!AN3:AN142) | AO9: =CORREL('TOP3 quantification'!P3:P142,'TOP3 quantification'!AO3:AO142)
I10: 103 Kontrolle 35 2 | J10: =CORREL('TOP3 quantification'!Q3:Q142,'TOP3 quantification'!J3:J142) | K10: =CORREL('TOP3 quantification'!Q3:Q142,'TOP3 quantification'!K3:K142) | L10: =CORREL('TOP3 quantification'!Q3:Q142,'TOP3 quantification'!L3:L142) | M10: =CORREL('TOP3 quantification'!Q3:Q142,'TOP3 quantification'!M3:M142) | N10: =CORREL('TOP3 quantification'!Q3:Q142,'TOP3 quantification'!N3:N142) | O10: =CORREL('TOP3 quantification'!Q3:Q142,'TOP3 quantification'!O3:O142) | P10: =CORREL('TOP3 quantification'!Q3:Q142,'TOP3 quantification'!P3:P142) | Q10: =CORREL('TOP3 quantification'!Q3:Q142,'TOP3 quantification'!Q3:Q142) | R10: =CORREL('TOP3 quantification'!Q3:Q142,'TOP3 quantification'!R3:R142) | S10: =CORREL('TOP3 quantification'!Q3:Q142,'TOP3 quantification'!S3:S142) | T10: =CORREL('TOP3 quantification'!Q3:Q142,'TOP3 quantification'!T3:T142) | U10: =CORREL('TOP3 quantification'!Q3:Q142,'TOP3 quantification'!U3:U142) | V10: =CORREL('TOP3 quantification'!Q3:Q142,'TOP3 quantification'!V3:V142) | W10: =CORREL('TOP3 quantification'!Q3:Q142,'TOP3 quantification'!W3:W142) | X10: =CORREL('TOP3 quantification'!Q3:Q142,'TOP3 quantification'!X3:X142) | Y10: =CORREL('TOP3 quantification'!Q3:Q142,'TOP3 quantification'!Y3:Y142) | Z10: =CORREL('TOP3 quantification'!Q3:Q142,'TOP3 quantification'!Z3:Z142) | AA10: =CORREL('TOP3 quantification'!Q3:Q142,'TOP3 quantification'!AA3:AA142) | AB10: =CORREL('TOP3 quantification'!Q3:Q142,'TOP3 quantification'!AB3:AB142) | AC10: =CORREL('TOP3 quantification'!Q3:Q142,'TOP3 quantification'!AC3:AC142) | AD10: =CORREL('TOP3 quantification'!Q3:Q142,'TOP3 quantification'!AD3:AD142) | AE10: =CORREL('TOP3 quantification'!Q3:Q142,'TOP3 quantification'!AE3:AE142) | AF10: =CORREL('TOP3 quantification'!Q3:Q142,'TOP3 quantification'!AF3:AF142) | AG10: =CORREL('TOP3 quantification'!Q3:Q142,'TOP3 quantification'!AG3:AG142) | AH10: =CORREL('TOP3 quantification'!Q3:Q142,'TOP3 quantification'!AH3:AH142) | AI10: =CORREL('TOP3 quantification'!Q3:Q142,'TOP3 quantification'!AI3:AI142) | AJ10: =CORREL('TOP3 quantification'!Q3:Q142,'TOP3 quantification'!AJ3:AJ142) | AK10: =CORREL('TOP3 quantification'!Q3:Q142,'TOP3 quantification'!AK3:AK142) | AL10: =CORREL('TOP3 quantification'!Q3:Q142,'TOP3 quantification'!AL3:AL142) | AM10: =CORREL('TOP3 quantification'!Q3:Q142,'TOP3 quantification'!AM3:AM142) | AN10: =CORREL('TOP3 quantification'!Q3:Q142,'TOP3 quantification'!AN3:AN142) | AO10: =CORREL('TOP3 quantification'!Q3:Q142,'TOP3 quantification'!AO3:AO142)
I11: 103 Kontrolle 35 3 | J11: =CORREL('TOP3 quantification'!R3:R142,'TOP3 quantification'!J3:J142) | K11: =CORREL('TOP3 quantification'!R3:R142,'TOP3 quantification'!K3:K142) | L11: =CORREL('TOP3 quantification'!R3:R142,'TOP3 quantification'!L3:L142) | M11: =CORREL('TOP3 quantification'!R3:R142,'TOP3 quantification'!M3:M142) | N11: =CORREL('TOP3 quantification'!R3:R142,'TOP3 quantification'!N3:N142) | O11: =CORREL('TOP3 quantification'!R3:R142,'TOP3 quantification'!O3:O142) | P11: =CORREL('TOP3 quantification'!R3:R142,'TOP3 quantification'!P3:P142) | Q11: =CORREL('TOP3 quantification'!R3:R142,'TOP3 quantification'!Q3:Q142) | R11: =CORREL('TOP3 quantification'!R3:R142,'TOP3 quantification'!R3:R142) | S11: =CORREL('TOP3 quantification'!R3:R142,'TOP3 quantification'!S3:S142) | T11: =CORREL('TOP3 quantification'!R3:R142,'TOP3 quantification'!T3:T142) | U11: =CORREL('TOP3 quantification'!R3:R142,'TOP3 quantification'!U3:U142) | V11: =CORREL('TOP3 quantification'!R3:R142,'TOP3 quantification'!V3:V142) | W11: =CORREL('TOP3 quantification'!R3:R142,'TOP3 quantification'!W3:W142) | X11: =CORREL('TOP3 quantification'!R3:R142,'TOP3 quantification'!X3:X142) | Y11: =CORREL('TOP3 quantification'!R3:R142,'TOP3 quantification'!Y3:Y142) | Z11: =CORREL('TOP3 quantification'!R3:R142,'TOP3 quantification'!Z3:Z142) | AA11: =CORREL('TOP3 quantification'!R3:R142,'TOP3 quantification'!AA3:AA142) | AB11: =CORREL('TOP3 quantification'!R3:R142,'TOP3 quantification'!AB3:AB142) | AC11: =CORREL('TOP3 quantification'!R3:R142,'TOP3 quantification'!AC3:AC142) | AD11: =CORREL('TOP3 quantification'!R3:R142,'TOP3 quantification'!AD3:AD142) | AE11: =CORREL('TOP3 quantification'!R3:R142,'TOP3 quantification'!AE3:AE142) | AF11: =CORREL('TOP3 quantification'!R3:R142,'TOP3 quantification'!AF3:AF142) | AG11: =CORREL('TOP3 quantification'!R3:R142,'TOP3 quantification'!AG3:AG142) | AH11: =CORREL('TOP3 quantification'!R3:R142,'TOP3 quantification'!AH3:AH142) | AI11: =CORREL('TOP3 quantification'!R3:R142,'TOP3 quantification'!AI3:AI142) | AJ11: =CORREL('TOP3 quantification'!R3:R142,'TOP3 quantification'!AJ3:AJ142) | AK11: =CORREL('TOP3 quantification'!R3:R142,'TOP3 quantification'!AK3:AK142) | AL11: =CORREL('TOP3 quantification'!R3:R142,'TOP3 quantification'!AL3:AL142) | AM11: =CORREL('TOP3 quantification'!R3:R142,'TOP3 quantification'!AM3:AM142) | AN11: =CORREL('TOP3 quantification'!R3:R142,'TOP3 quantification'!AN3:AN142) | AO11: =CORREL('TOP3 quantification'!R3:R142,'TOP3 quantification'!AO3:AO142)
I12: 104 Kontrolle 37 1 | J12: =CORREL('TOP3 quantification'!S3:S142,'TOP3 quantification'!J3:J142) | K12: =CORREL('TOP3 quantification'!S3:S142,'TOP3 quantification'!K3:K142) | L12: =CORREL('TOP3 quantification'!S3:S142,'TOP3 quantification'!L3:L142) | M12: =CORREL('TOP3 quantification'!S3:S142,'TOP3 quantification'!M3:M142) | N12: =CORREL('TOP3 quantification'!S3:S142,'TOP3 quantification'!N3:N142) | O12: =CORREL('TOP3 quantification'!S3:S142,'TOP3 quantification'!O3:O142) | P12: =CORREL('TOP3 quantification'!S3:S142,'TOP3 quantification'!P3:P142) | Q12: =CORREL('TOP3 quantification'!S3:S142,'TOP3 quantification'!Q3:Q142) | R12: =CORREL('TOP3 quantification'!S3:S142,'TOP3 quantification'!R3:R142) | S12: =CORREL('TOP3 quantification'!S3:S142,'TOP3 quantification'!S3:S142) | T12: =CORREL('TOP3 quantification'!S3:S142,'TOP3 quantification'!T3:T142) | U12: =CORREL('TOP3 quantification'!S3:S142,'TOP3 quantification'!U3:U142) | V12: =CORREL('TOP3 quantification'!S3:S142,'TOP3 quantification'!V3:V142) | W12: =CORREL('TOP3 quantification'!S3:S142,'TOP3 quantification'!W3:W142) | X12: =CORREL('TOP3 quantification'!S3:S142,'TOP3 quantification'!X3:X142) | Y12: =CORREL('TOP3 quantification'!S3:S142,'TOP3 quantification'!Y3:Y142) | Z12: =CORREL('TOP3 quantification'!S3:S142,'TOP3 quantification'!Z3:Z142) | AA12: =CORREL('TOP3 quantification'!S3:S142,'TOP3 quantification'!AA3:AA142) | AB12: =CORREL('TOP3 quantification'!S3:S142,'TOP3 quantification'!AB3:AB142) | AC12: =CORREL('TOP3 quantification'!S3:S142,'TOP3 quantification'!AC3:AC142) | AD12: =CORREL('TOP3 quantification'!S3:S142,'TOP3 quantification'!AD3:AD142) | AE12: =CORREL('TOP3 quantification'!S3:S142,'TOP3 quantification'!AE3:AE142) | AF12: =CORREL('TOP3 quantification'!S3:S142,'TOP3 quantification'!AF3:AF142) | AG12: =CORREL('TOP3 quantification'!S3:S142,'TOP3 quantification'!AG3:AG142) | AH12: =CORREL('TOP3 quantification'!S3:S142,'TOP3 quantification'!AH3:AH142) | AI12: =CORREL('TOP3 quantification'!S3:S142,'TOP3 quantification'!AI3:AI142) | AJ12: =CORREL('TOP3 quantification'!S3:S142,'TOP3 quantification'!AJ3:AJ142) | AK12: =CORREL('TOP3 quantification'!S3:S142,'TOP3 quantification'!AK3:AK142) | AL12: =CORREL('TOP3 quantification'!S3:S142,'TOP3 quantification'!AL3:AL142) | AM12: =CORREL('TOP3 quantification'!S3:S142,'TOP3 quantification'!AM3:AM142) | AN12: =CORREL('TOP3 quantification'!S3:S142,'TOP3 quantification'!AN3:AN142) | AO12: =CORREL('TOP3 quantification'!S3:S142,'TOP3 quantification'!AO3:AO142)
I13: 104 Kontrolle 37 2 | J13: =CORREL('TOP3 quantification'!T3:T142,'TOP3 quantification'!J3:J142) | K13: =CORREL('TOP3 quantification'!T3:T142,'TOP3 quantification'!K3:K142) | L13: =CORREL('TOP3 quantification'!T3:T142,'TOP3 quantification'!L3:L142) | M13: =CORREL('TOP3 quantification'!T3:T142,'TOP3 quantification'!M3:M142) | N13: =CORREL('TOP3 quantification'!T3:T142,'TOP3 quantification'!N3:N142) | O13: =CORREL('TOP3 quantification'!T3:T142,'TOP3 quantification'!O3:O142) | P13: =CORREL('TOP3 quantification'!T3:T142,'TOP3 quantification'!P3:P142) | Q13: =CORREL('TOP3 quantification'!T3:T142,'TOP3 quantification'!Q3:Q142) | R13: =CORREL('TOP3 quantification'!T3:T142,'TOP3 quantification'!R3:R142) | S13: =CORREL('TOP3 quantification'!T3:T142,'TOP3 quantification'!S3:S142) | T13: =CORREL('TOP3 quantification'!T3:T142,'TOP3 quantification'!T3:T142) | U13: =CORREL('TOP3 quantification'!T3:T142,'TOP3 quantification'!U3:U142) | V13: =CORREL('TOP3 quantification'!T3:T142,'TOP3 quantification'!V3:V142) | W13: =CORREL('TOP3 quantification'!T3:T142,'TOP3 quantification'!W3:W142) | X13: =CORREL('TOP3 quantification'!T3:T142,'TOP3 quantification'!X3:X142) | Y13: =CORREL('TOP3 quantification'!T3:T142,'TOP3 quantification'!Y3:Y142) | Z13: =CORREL('TOP3 quantification'!T3:T142,'TOP3 quantification'!Z3:Z142) | AA13: =CORREL('TOP3 quantification'!T3:T142,'TOP3 quantification'!AA3:AA142) | AB13: =CORREL('TOP3 quantification'!T3:T142,'TOP3 quantification'!AB3:AB142) | AC13: =CORREL('TOP3 quantification'!T3:T142,'TOP3 quantification'!AC3:AC142) | AD13: =CORREL('TOP3 quantification'!T3:T142,'TOP3 quantification'!AD3:AD142) | AE13: =CORREL('TOP3 quantification'!T3:T142,'TOP3 quantification'!AE3:AE142) | AF13: =CORREL('TOP3 quantification'!T3:T142,'TOP3 quantification'!AF3:AF142) | AG13: =CORREL('TOP3 quantification'!T3:T142,'TOP3 quantification'!AG3:AG142) | AH13: =CORREL('TOP3 quantification'!T3:T142,'TOP3 quantification'!AH3:AH142) | AI13: =CORREL('TOP3 quantification'!T3:T142,'TOP3 quantification'!AI3:AI142) | AJ13: =CORREL('TOP3 quantification'!T3:T142,'TOP3 quantification'!AJ3:AJ142) | AK13: =CORREL('TOP3 quantification'!T3:T142,'TOP3 quantification'!AK3:AK142) | AL13: =CORREL('TOP3 quantification'!T3:T142,'TOP3 quantification'!AL3:AL142) | AM13: =CORREL('TOP3 quantification'!T3:T142,'TOP3 quantification'!AM3:AM142) | AN13: =CORREL('TOP3 quantification'!T3:T142,'TOP3 quantification'!AN3:AN142) | AO13: =CORREL('TOP3 quantification'!T3:T142,'TOP3 quantification'!AO3:AO142)
I14: 108 Polyp 43 1 | J14: =CORREL('TOP3 quantification'!U3:U142,'TOP3 quantification'!J3:J142) | K14: =CORREL('TOP3 quantification'!U3:U142,'TOP3 quantification'!K3:K142) | L14: =CORREL('TOP3 quantification'!U3:U142,'TOP3 quantification'!L3:L142) | M14: =CORREL('TOP3 quantification'!U3:U142,'TOP3 quantification'!M3:M142) | N14: =CORREL('TOP3 quantification'!U3:U142,'TOP3 quantification'!N3:N142) | O14: =CORREL('TOP3 quantification'!U3:U142,'TOP3 quantification'!O3:O142) | P14: =CORREL('TOP3 quantification'!U3:U142,'TOP3 quantification'!P3:P142) | Q14: =CORREL('TOP3 quantification'!U3:U142,'TOP3 quantification'!Q3:Q142) | R14: =CORREL('TOP3 quantification'!U3:U142,'TOP3 quantification'!R3:R142) | S14: =CORREL('TOP3 quantification'!U3:U142,'TOP3 quantification'!S3:S142) | T14: =CORREL('TOP3 quantification'!U3:U142,'TOP3 quantification'!T3:T142) | U14: =CORREL('TOP3 quantification'!U3:U142,'TOP3 quantification'!U3:U142) | V14: =CORREL('TOP3 quantification'!U3:U142,'TOP3 quantification'!V3:V142) | W14: =CORREL('TOP3 quantification'!U3:U142,'TOP3 quantification'!W3:W142) | X14: =CORREL('TOP3 quantification'!U3:U142,'TOP3 quantification'!X3:X142) | Y14: =CORREL('TOP3 quantification'!U3:U142,'TOP3 quantification'!Y3:Y142) | Z14: =CORREL('TOP3 quantification'!U3:U142,'TOP3 quantification'!Z3:Z142) | AA14: =CORREL('TOP3 quantification'!U3:U142,'TOP3 quantification'!AA3:AA142) | AB14: =CORREL('TOP3 quantification'!U3:U142,'TOP3 quantification'!AB3:AB142) | AC14: =CORREL('TOP3 quantification'!U3:U142,'TOP3 quantification'!AC3:AC142) | AD14: =CORREL('TOP3 quantification'!U3:U142,'TOP3 quantification'!AD3:AD142) | AE14: =CORREL('TOP3 quantification'!U3:U142,'TOP3 quantification'!AE3:AE142) | AF14: =CORREL('TOP3 quantification'!U3:U142,'TOP3 quantification'!AF3:AF142) | AG14: =CORREL('TOP3 quantification'!U3:U142,'TOP3 quantification'!AG3:AG142) | AH14: =CORREL('TOP3 quantification'!U3:U142,'TOP3 quantification'!AH3:AH142) | AI14: =CORREL('TOP3 quantification'!U3:U142,'TOP3 quantification'!AI3:AI142) | AJ14: =CORREL('TOP3 quantification'!U3:U142,'TOP3 quantification'!AJ3:AJ142) | AK14: =CORREL('TOP3 quantification'!U3:U142,'TOP3 quantification'!AK3:AK142) | AL14: =CORREL('TOP3 quantification'!U3:U142,'TOP3 quantification'!AL3:AL142) | AM14: =CORREL('TOP3 quantification'!U3:U142,'TOP3 quantification'!AM3:AM142) | AN14: =CORREL('TOP3 quantification'!U3:U142,'TOP3 quantification'!AN3:AN142) | AO14: =CORREL('TOP3 quantification'!U3:U142,'TOP3 quantification'!AO3:AO142)
I15: 108 Polyp 43 2 | J15: =CORREL('TOP3 quantification'!V3:V142,'TOP3 quantification'!J3:J142) | K15: =CORREL('TOP3 quantification'!V3:V142,'TOP3 quantification'!K3:K142) | L15: =CORREL('TOP3 quantification'!V3:V142,'TOP3 quantification'!L3:L142) | M15: =CORREL('TOP3 quantification'!V3:V142,'TOP3 quantification'!M3:M142) | N15: =CORREL('TOP3 quantification'!V3:V142,'TOP3 quantification'!N3:N142) | O15: =CORREL('TOP3 quantification'!V3:V142,'TOP3 quantification'!O3:O142) | P15: =CORREL('TOP3 quantification'!V3:V142,'TOP3 quantification'!P3:P142) | Q15: =CORREL('TOP3 quantification'!V3:V142,'TOP3 quantification'!Q3:Q142) | R15: =CORREL('TOP3 quantification'!V3:V142,'TOP3 quantification'!R3:R142) | S15: =CORREL('TOP3 quantification'!V3:V142,'TOP3 quantification'!S3:S142) | T15: =CORREL('TOP3 quantification'!V3:V142,'TOP3 quantification'!T3:T142) | U15: =CORREL('TOP3 quantification'!V3:V142,'TOP3 quantification'!U3:U142) | V15: =CORREL('TOP3 quantification'!V3:V142,'TOP3 quantification'!V3:V142) | W15: =CORREL('TOP3 quantification'!V3:V142,'TOP3 quantification'!W3:W142) | X15: =CORREL('TOP3 quantification'!V3:V142,'TOP3 quantification'!X3:X142) | Y15: =CORREL('TOP3 quantification'!V3:V142,'TOP3 quantification'!Y3:Y142) | Z15: =CORREL('TOP3 quantification'!V3:V142,'TOP3 quantification'!Z3:Z142) | AA15: =CORREL('TOP3 quantification'!V3:V142,'TOP3 quantification'!AA3:AA142) | AB15: =CORREL('TOP3 quantification'!V3:V142,'TOP3 quantification'!AB3:AB142) | AC15: =CORREL('TOP3 quantification'!V3:V142,'TOP3 quantification'!AC3:AC142) | AD15: =CORREL('TOP3 quantification'!V3:V142,'TOP3 quantification'!AD3:AD142) | AE15: =CORREL('TOP3 quantification'!V3:V142,'TOP3 quantification'!AE3:AE142) | AF15: =CORREL('TOP3 quantification'!V3:V142,'TOP3 quantification'!AF3:AF142) | AG15: =CORREL('TOP3 quantification'!V3:V142,'TOP3 quantification'!AG3:AG142) | AH15: =CORREL('TOP3 quantification'!V3:V142,'TOP3 quantification'!AH3:AH142) | AI15: =CORREL('TOP3 quantification'!V3:V142,'TOP3 quantification'!AI3:AI142) | AJ15: =CORREL('TOP3 quantification'!V3:V142,'TOP3 quantification'!AJ3:AJ142) | AK15: =CORREL('TOP3 quantification'!V3:V142,'TOP3 quantification'!AK3:AK142) | AL15: =CORREL('TOP3 quantification'!V3:V142,'TOP3 quantification'!AL3:AL142) | AM15: =CORREL('TOP3 quantification'!V3:V142,'TOP3 quantification'!AM3:AM142) | AN15: =CORREL('TOP3 quantification'!V3:V142,'TOP3 quantification'!AN3:AN142) | AO15: =CORREL('TOP3 quantification'!V3:V142,'TOP3 quantification'!AO3:AO142)
I16: 108 Polyp 43 3 | J16: =CORREL('TOP3 quantification'!W3:W142,'TOP3 quantification'!J3:J142) | K16: =CORREL('TOP3 quantification'!W3:W142,'TOP3 quantification'!K3:K142) | L16: =CORREL('TOP3 quantification'!W3:W142,'TOP3 quantification'!L3:L142) | M16: =CORREL('TOP3 quantification'!W3:W142,'TOP3 quantification'!M3:M142) | N16: =CORREL('TOP3 quantification'!W3:W142,'TOP3 quantification'!N3:N142) | O16: =CORREL('TOP3 quantification'!W3:W142,'TOP3 quantification'!O3:O142) | P16: =CORREL('TOP3 quantification'!W3:W142,'TOP3 quantification'!P3:P142) | Q16: =CORREL('TOP3 quantification'!W3:W142,'TOP3 quantification'!Q3:Q142) | R16: =CORREL('TOP3 quantification'!W3:W142,'TOP3 quantification'!R3:R142) | S16: =CORREL('TOP3 quantification'!W3:W142,'TOP3 quantification'!S3:S142) | T16: =CORREL('TOP3 quantification'!W3:W142,'TOP3 quantification'!T3:T142) | U16: =CORREL('TOP3 quantification'!W3:W142,'TOP3 quantification'!U3:U142) | V16: =CORREL('TOP3 quantification'!W3:W142,'TOP3 quantification'!V3:V142) | W16: =CORREL('TOP3 quantification'!W3:W142,'TOP3 quantification'!W3:W142) | X16: =CORREL('TOP3 quantification'!W3:W142,'TOP3 quantification'!X3:X142) | Y16: =CORREL('TOP3 quantification'!W3:W142,'TOP3 quantification'!Y3:Y142) | Z16: =CORREL('TOP3 quantification'!W3:W142,'TOP3 quantification'!Z3:Z142) | AA16: =CORREL('TOP3 quantification'!W3:W142,'TOP3 quantification'!AA3:AA142) | AB16: =CORREL('TOP3 quantification'!W3:W142,'TOP3 quantification'!AB3:AB142) | AC16: =CORREL('TOP3 quantification'!W3:W142,'TOP3 quantification'!AC3:AC142) | AD16: =CORREL('TOP3 quantification'!W3:W142,'TOP3 quantification'!AD3:AD142) | AE16: =CORREL('TOP3 quantification'!W3:W142,'TOP3 quantification'!AE3:AE142) | AF16: =CORREL('TOP3 quantification'!W3:W142,'TOP3 quantification'!AF3:AF142) | AG16: =CORREL('TOP3 quantification'!W3:W142,'TOP3 quantification'!AG3:AG142) | AH16: =CORREL('TOP3 quantification'!W3:W142,'TOP3 quantification'!AH3:AH142) | AI16: =CORREL('TOP3 quantification'!W3:W142,'TOP3 quantification'!AI3:AI142) | AJ16: =CORREL('TOP3 quantification'!W3:W142,'TOP3 quantification'!AJ3:AJ142) | AK16: =CORREL('TOP3 quantification'!W3:W142,'TOP3 quantification'!AK3:AK142) | AL16: =CORREL('TOP3 quantification'!W3:W142,'TOP3 quantification'!AL3:AL142) | AM16: =CORREL('TOP3 quantification'!W3:W142,'TOP3 quantification'!AM3:AM142) | AN16: =CORREL('TOP3 quantification'!W3:W142,'TOP3 quantification'!AN3:AN142) | AO16: =CORREL('TOP3 quantification'!W3:W142,'TOP3 quantification'!AO3:AO142)
I17: 109 Polyp 30 1 | J17: =CORREL('TOP3 quantification'!X3:X142,'TOP3 quantification'!J3:J142) | K17: =CORREL('TOP3 quantification'!X3:X142,'TOP3 quantification'!K3:K142) | L17: =CORREL('TOP3 quantification'!X3:X142,'TOP3 quantification'!L3:L142) | M17: =CORREL('TOP3 quantification'!X3:X142,'TOP3 quantification'!M3:M142) | N17: =CORREL('TOP3 quantification'!X3:X142,'TOP3 quantification'!N3:N142) | O17: =CORREL('TOP3 quantification'!X3:X142,'TOP3 quantification'!O3:O142) | P17: =CORREL('TOP3 quantification'!X3:X142,'TOP3 quantification'!P3:P142) | Q17: =CORREL('TOP3 quantification'!X3:X142,'TOP3 quantification'!Q3:Q142) | R17: =CORREL('TOP3 quantification'!X3:X142,'TOP3 quantification'!R3:R142) | S17: =CORREL('TOP3 quantification'!X3:X142,'TOP3 quantification'!S3:S142) | T17: =CORREL('TOP3 quantification'!X3:X142,'TOP3 quantification'!T3:T142) | U17: =CORREL('TOP3 quantification'!X3:X142,'TOP3 quantification'!U3:U142) | V17: =CORREL('TOP3 quantification'!X3:X142,'TOP3 quantification'!V3:V142) | W17: =CORREL('TOP3 quantification'!X3:X142,'TOP3 quantification'!W3:W142) | X17: =CORREL('TOP3 quantification'!X3:X142,'TOP3 quantification'!X3:X142) | Y17: =CORREL('TOP3 quantification'!X3:X142,'TOP3 quantification'!Y3:Y142) | Z17: =CORREL('TOP3 quantification'!X3:X142,'TOP3 quantification'!Z3:Z142) | AA17: =CORREL('TOP3 quantification'!X3:X142,'TOP3 quantification'!AA3:AA142) | AB17: =CORREL('TOP3 quantification'!X3:X142,'TOP3 quantification'!AB3:AB142) | AC17: =CORREL('TOP3 quantification'!X3:X142,'TOP3 quantification'!AC3:AC142) | AD17: =CORREL('TOP3 quantification'!X3:X142,'TOP3 quantification'!AD3:AD142) | AE17: =CORREL('TOP3 quantification'!X3:X142,'TOP3 quantification'!AE3:AE142) | AF17: =CORREL('TOP3 quantification'!X3:X142,'TOP3 quantification'!AF3:AF142) | AG17: =CORREL('TOP3 quantification'!X3:X142,'TOP3 quantification'!AG3:AG142) | AH17: =CORREL('TOP3 quantification'!X3:X142,'TOP3 quantification'!AH3:AH142) | AI17: =CORREL('TOP3 quantification'!X3:X142,'TOP3 quantification'!AI3:AI142) | AJ17: =CORREL('TOP3 quantification'!X3:X142,'TOP3 quantification'!AJ3:AJ142) | AK17: =CORREL('TOP3 quantification'!X3:X142,'TOP3 quantification'!AK3:AK142) | AL17: =CORREL('TOP3 quantification'!X3:X142,'TOP3 quantification'!AL3:AL142) | AM17: =CORREL('TOP3 quantification'!X3:X142,'TOP3 quantification'!AM3:AM142) | AN17: =CORREL('TOP3 quantification'!X3:X142,'TOP3 quantification'!AN3:AN142) | AO17: =CORREL('TOP3 quantification'!X3:X142,'TOP3 quantification'!AO3:AO142)
I18: 109 Polyp 30 2 | J18: =CORREL('TOP3 quantification'!Y3:Y142,'TOP3 quantification'!J3:J142) | K18: =CORREL('TOP3 quantification'!Y3:Y142,'TOP3 quantification'!K3:K142) | L18: =CORREL('TOP3 quantification'!Y3:Y142,'TOP3 quantification'!L3:L142) | M18: =CORREL('TOP3 quantification'!Y3:Y142,'TOP3 quantification'!M3:M142) | N18: =CORREL('TOP3 quantification'!Y3:Y142,'TOP3 quantification'!N3:N142) | O18: =CORREL('TOP3 quantification'!Y3:Y142,'TOP3 quantification'!O3:O142) | P18: =CORREL('TOP3 quantification'!Y3:Y142,'TOP3 quantification'!P3:P142) | Q18: =CORREL('TOP3 quantification'!Y3:Y142,'TOP3 quantification'!Q3:Q142) | R18: =CORREL('TOP3 quantification'!Y3:Y142,'TOP3 quantification'!R3:R142) | S18: =CORREL('TOP3 quantification'!Y3:Y142,'TOP3 quantification'!S3:S142) | T18: =CORREL('TOP3 quantification'!Y3:Y142,'TOP3 quantification'!T3:T142) | U18: =CORREL('TOP3 quantification'!Y3:Y142,'TOP3 quantification'!U3:U142) | V18: =CORREL('TOP3 quantification'!Y3:Y142,'TOP3 quantification'!V3:V142) | W18: =CORREL('TOP3 quantification'!Y3:Y142,'TOP3 quantification'!W3:W142) | X18: =CORREL('TOP3 quantification'!Y3:Y142,'TOP3 quantification'!X3:X142) | Y18: =CORREL('TOP3 quantification'!Y3:Y142,'TOP3 quantification'!Y3:Y142) | Z18: =CORREL('TOP3 quantification'!Y3:Y142,'TOP3 quantification'!Z3:Z142) | AA18: =CORREL('TOP3 quantification'!Y3:Y142,'TOP3 quantification'!AA3:AA142) | AB18: =CORREL('TOP3 quantification'!Y3:Y142,'TOP3 quantification'!AB3:AB142) | AC18: =CORREL('TOP3 quantification'!Y3:Y142,'TOP3 quantification'!AC3:AC142) | AD18: =CORREL('TOP3 quantification'!Y3:Y142,'TOP3 quantification'!AD3:AD142) | AE18: =CORREL('TOP3 quantification'!Y3:Y142,'TOP3 quantification'!AE3:AE142) | AF18: =CORREL('TOP3 quantification'!Y3:Y142,'TOP3 quantification'!AF3:AF142) | AG18: =CORREL('TOP3 quantification'!Y3:Y142,'TOP3 quantification'!AG3:AG142) | AH18: =CORREL('TOP3 quantification'!Y3:Y142,'TOP3 quantification'!AH3:AH142) | AI18: =CORREL('TOP3 quantification'!Y3:Y142,'TOP3 quantification'!AI3:AI142) | AJ18: =CORREL('TOP3 quantification'!Y3:Y142,'TOP3 quantification'!AJ3:AJ142) | AK18: =CORREL('TOP3 quantification'!Y3:Y142,'TOP3 quantification'!AK3:AK142) | AL18: =CORREL('TOP3 quantification'!Y3:Y142,'TOP3 quantification'!AL3:AL142) | AM18: =CORREL('TOP3 quantification'!Y3:Y142,'TOP3 quantification'!AM3:AM142) | AN18: =CORREL('TOP3 quantification'!Y3:Y142,'TOP3 quantification'!AN3:AN142) | AO18: =CORREL('TOP3 quantification'!Y3:Y142,'TOP3 quantification'!AO3:AO142)
I19: 109 Polyp 30 3 | J19: =CORREL('TOP3 quantification'!Z3:Z142,'TOP3 quantification'!J3:J142) | K19: =CORREL('TOP3 quantification'!Z3:Z142,'TOP3 quantification'!K3:K142) | L19: =CORREL('TOP3 quantification'!Z3:Z142,'TOP3 quantification'!L3:L142) | M19: =CORREL('TOP3 quantification'!Z3:Z142,'TOP3 quantification'!M3:M142) | N19: =CORREL('TOP3 quantification'!Z3:Z142,'TOP3 quantification'!N3:N142) | O19: =CORREL('TOP3 quantification'!Z3:Z142,'TOP3 quantification'!O3:O142) | P19: =CORREL('TOP3 quantification'!Z3:Z142,'TOP3 quantification'!P3:P142) | Q19: =CORREL('TOP3 quantification'!Z3:Z142,'TOP3 quantification'!Q3:Q142) | R19: =CORREL('TOP3 quantification'!Z3:Z142,'TOP3 quantification'!R3:R142) | S19: =CORREL('TOP3 quantification'!Z3:Z142,'TOP3 quantification'!S3:S142) | T19: =CORREL('TOP3 quantification'!Z3:Z142,'TOP3 quantification'!T3:T142) | U19: =CORREL('TOP3 quantification'!Z3:Z142,'TOP3 quantification'!U3:U142) | V19: =CORREL('TOP3 quantification'!Z3:Z142,'TOP3 quantification'!V3:V142) | W19: =CORREL('TOP3 quantification'!Z3:Z142,'TOP3 quantification'!W3:W142) | X19: =CORREL('TOP3 quantification'!Z3:Z142,'TOP3 quantification'!X3:X142) | Y19: =CORREL('TOP3 quantification'!Z3:Z142,'TOP3 quantification'!Y3:Y142) | Z19: =CORREL('TOP3 quantification'!Z3:Z142,'TOP3 quantification'!Z3:Z142) | AA19: =CORREL('TOP3 quantification'!Z3:Z142,'TOP3 quantification'!AA3:AA142) | AB19: =CORREL('TOP3 quantification'!Z3:Z142,'TOP3 quantification'!AB3:AB142) | AC19: =CORREL('TOP3 quantification'!Z3:Z142,'TOP3 quantification'!AC3:AC142) | AD19: =CORREL('TOP3 quantification'!Z3:Z142,'TOP3 quantification'!AD3:AD142) | AE19: =CORREL('TOP3 quantification'!Z3:Z142,'TOP3 quantification'!AE3:AE142) | AF19: =CORREL('TOP3 quantification'!Z3:Z142,'TOP3 quantification'!AF3:AF142) | AG19: =CORREL('TOP3 quantification'!Z3:Z142,'TOP3 quantification'!AG3:AG142) | AH19: =CORREL('TOP3 quantification'!Z3:Z142,'TOP3 quantification'!AH3:AH142) | AI19: =CORREL('TOP3 quantification'!Z3:Z142,'TOP3 quantification'!AI3:AI142) | AJ19: =CORREL('TOP3 quantification'!Z3:Z142,'TOP3 quantification'!AJ3:AJ142) | AK19: =CORREL('TOP3 quantification'!Z3:Z142,'TOP3 quantification'!AK3:AK142) | AL19: =CORREL('TOP3 quantification'!Z3:Z142,'TOP3 quantification'!AL3:AL142) | AM19: =CORREL('TOP3 quantification'!Z3:Z142,'TOP3 quantification'!AM3:AM142) | AN19: =CORREL('TOP3 quantification'!Z3:Z142,'TOP3 quantification'!AN3:AN142) | AO19: =CORREL('TOP3 quantification'!Z3:Z142,'TOP3 quantification'!AO3:AO142)
I20: 110 Polyp 19 1 | J20: =CORREL('TOP3 quantification'!AA3:AA142,'TOP3 quantification'!J3:J142) | K20: =CORREL('TOP3 quantification'!AA3:AA142,'TOP3 quantification'!K3:K142) | L20: =CORREL('TOP3 quantification'!AA3:AA142,'TOP3 quantification'!L3:L142) | M20: =CORREL('TOP3 quantification'!AA3:AA142,'TOP3 quantification'!M3:M142) | N20: =CORREL('TOP3 quantification'!AA3:AA142,'TOP3 quantification'!N3:N142) | O20: =CORREL('TOP3 quantification'!AA3:AA142,'TOP3 quantification'!O3:O142) | P20: =CORREL('TOP3 quantification'!AA3:AA142,'TOP3 quantification'!P3:P142) | Q20: =CORREL('TOP3 quantification'!AA3:AA142,'TOP3 quantification'!Q3:Q142) | R20: =CORREL('TOP3 quantification'!AA3:AA142,'TOP3 quantification'!R3:R142) | S20: =CORREL('TOP3 quantification'!AA3:AA142,'TOP3 quantification'!S3:S142) | T20: =CORREL('TOP3 quantification'!AA3:AA142,'TOP3 quantification'!T3:T142) | U20: =CORREL('TOP3 quantification'!AA3:AA142,'TOP3 quantification'!U3:U142) | V20: =CORREL('TOP3 quantification'!AA3:AA142,'TOP3 quantification'!V3:V142) | W20: =CORREL('TOP3 quantification'!AA3:AA142,'TOP3 quantification'!W3:W142) | X20: =CORREL('TOP3 quantification'!AA3:AA142,'TOP3 quantification'!X3:X142) | Y20: =CORREL('TOP3 quantification'!AA3:AA142,'TOP3 quantification'!Y3:Y142) | Z20: =CORREL('TOP3 quantification'!AA3:AA142,'TOP3 quantification'!Z3:Z142) | AA20: =CORREL('TOP3 quantification'!AA3:AA142,'TOP3 quantification'!AA3:AA142) | AB20: =CORREL('TOP3 quantification'!AA3:AA142,'TOP3 quantification'!AB3:AB142) | AC20: =CORREL('TOP3 quantification'!AA3:AA142,'TOP3 quantification'!AC3:AC142) | AD20: =CORREL('TOP3 quantification'!AA3:AA142,'TOP3 quantification'!AD3:AD142) | AE20: =CORREL('TOP3 quantification'!AA3:AA142,'TOP3 quantification'!AE3:AE142) | AF20: =CORREL('TOP3 quantification'!AA3:AA142,'TOP3 quantification'!AF3:AF142) | AG20: =CORREL('TOP3 quantification'!AA3:AA142,'TOP3 quantification'!AG3:AG142) | AH20: =CORREL('TOP3 quantification'!AA3:AA142,'TOP3 quantification'!AH3:AH142) | AI20: =CORREL('TOP3 quantification'!AA3:AA142,'TOP3 quantification'!AI3:AI142) | AJ20: =CORREL('TOP3 quantification'!AA3:AA142,'TOP3 quantification'!AJ3:AJ142) | AK20: =CORREL('TOP3 quantification'!AA3:AA142,'TOP3 quantification'!AK3:AK142) | AL20: =CORREL('TOP3 quantification'!AA3:AA142,'TOP3 quantification'!AL3:AL142) | AM20: =CORREL('TOP3 quantification'!AA3:AA142,'TOP3 quantification'!AM3:AM142) | AN20: =CORREL('TOP3 quantification'!AA3:AA142,'TOP3 quantification'!AN3:AN142) | AO20: =CORREL('TOP3 quantification'!AA3:AA142,'TOP3 quantification'!AO3:AO142)
I21: 110 Polyp 19 2 | J21: =CORREL('TOP3 quantification'!AB3:AB142,'TOP3 quantification'!J3:J142) | K21: =CORREL('TOP3 quantification'!AB3:AB142,'TOP3 quantification'!K3:K142) | L21: =CORREL('TOP3 quantification'!AB3:AB142,'TOP3 quantification'!L3:L142) | M21: =CORREL('TOP3 quantification'!AB3:AB142,'TOP3 quantification'!M3:M142) | N21: =CORREL('TOP3 quantification'!AB3:AB142,'TOP3 quantification'!N3:N142) | O21: =CORREL('TOP3 quantification'!AB3:AB142,'TOP3 quantification'!O3:O142) | P21: =CORREL('TOP3 quantification'!AB3:AB142,'TOP3 quantification'!P3:P142) | Q21: =CORREL('TOP3 quantification'!AB3:AB142,'TOP3 quantification'!Q3:Q142) | R21: =CORREL('TOP3 quantification'!AB3:AB142,'TOP3 quantification'!R3:R142) | S21: =CORREL('TOP3 quantification'!AB3:AB142,'TOP3 quantification'!S3:S142) | T21: =CORREL('TOP3 quantification'!AB3:AB142,'TOP3 quantification'!T3:T142) | U21: =CORREL('TOP3 quantification'!AB3:AB142,'TOP3 quantification'!U3:U142) | V21: =CORREL('TOP3 quantification'!AB3:AB142,'TOP3 quantification'!V3:V142) | W21: =CORREL('TOP3 quantification'!AB3:AB142,'TOP3 quantification'!W3:W142) | X21: =CORREL('TOP3 quantification'!AB3:AB142,'TOP3 quantification'!X3:X142) | Y21: =CORREL('TOP3 quantification'!AB3:AB142,'TOP3 quantification'!Y3:Y142) | Z21: =CORREL('TOP3 quantification'!AB3:AB142,'TOP3 quantification'!Z3:Z142) | AA21: =CORREL('TOP3 quantification'!AB3:AB142,'TOP3 quantification'!AA3:AA142) | AB21: =CORREL('TOP3 quantification'!AB3:AB142,'TOP3 quantification'!AB3:AB142) | AC21: =CORREL('TOP3 quantification'!AB3:AB142,'TOP3 quantification'!AC3:AC142) | AD21: =CORREL('TOP3 quantification'!AB3:AB142,'TOP3 quantification'!AD3:AD142) | AE21: =CORREL('TOP3 quantification'!AB3:AB142,'TOP3 quantification'!AE3:AE142) | AF21: =CORREL('TOP3 quantification'!AB3:AB142,'TOP3 quantification'!AF3:AF142) | AG21: =CORREL('TOP3 quantification'!AB3:AB142,'TOP3 quantification'!AG3:AG142) | AH21: =CORREL('TOP3 quantification'!AB3:AB142,'TOP3 quantification'!AH3:AH142) | AI21: =CORREL('TOP3 quantification'!AB3:AB142,'TOP3 quantification'!AI3:AI142) | AJ21: =CORREL('TOP3 quantification'!AB3:AB142,'TOP3 quantification'!AJ3:AJ142) | AK21: =CORREL('TOP3 quantification'!AB3:AB142,'TOP3 quantification'!AK3:AK142) | AL21: =CORREL('TOP3 quantification'!AB3:AB142,'TOP3 quantification'!AL3:AL142) | AM21: =CORREL('TOP3 quantification'!AB3:AB142,'TOP3 quantification'!AM3:AM142) | AN21: =CORREL('TOP3 quantification'!AB3:AB142,'TOP3 quantification'!AN3:AN142) | AO21: =CORREL('TOP3 quantification'!AB3:AB142,'TOP3 quantification'!AO3:AO142)
I22: 110 Polyp 19 3 | J22: =CORREL('TOP3 quantification'!AC3:AC142,'TOP3 quantification'!J3:J142) | K22: =CORREL('TOP3 quantification'!AC3:AC142,'TOP3 quantification'!K3:K142) | L22: =CORREL('TOP3 quantification'!AC3:AC142,'TOP3 quantification'!L3:L142) | M22: =CORREL('TOP3 quantification'!AC3:AC142,'TOP3 quantification'!M3:M142) | N22: =CORREL('TOP3 quantification'!AC3:AC142,'TOP3 quantification'!N3:N142) | O22: =CORREL('TOP3 quantification'!AC3:AC142,'TOP3 quantification'!O3:O142) | P22: =CORREL('TOP3 quantification'!AC3:AC142,'TOP3 quantification'!P3:P142) | Q22: =CORREL('TOP3 quantification'!AC3:AC142,'TOP3 quantification'!Q3:Q142) | R22: =CORREL('TOP3 quantification'!AC3:AC142,'TOP3 quantification'!R3:R142) | S22: =CORREL('TOP3 quantification'!AC3:AC142,'TOP3 quantification'!S3:S142) | T22: =CORREL('TOP3 quantification'!AC3:AC142,'TOP3 quantification'!T3:T142) | U22: =CORREL('TOP3 quantification'!AC3:AC142,'TOP3 quantification'!U3:U142) | V22: =CORREL('TOP3 quantification'!AC3:AC142,'TOP3 quantification'!V3:V142) | W22: =CORREL('TOP3 quantification'!AC3:AC142,'TOP3 quantification'!W3:W142) | X22: =CORREL('TOP3 quantification'!AC3:AC142,'TOP3 quantification'!X3:X142) | Y22: =CORREL('TOP3 quantification'!AC3:AC142,'TOP3 quantification'!Y3:Y142) | Z22: =CORREL('TOP3 quantification'!AC3:AC142,'TOP3 quantification'!Z3:Z142) | AA22: =CORREL('TOP3 quantification'!AC3:AC142,'TOP3 quantification'!AA3:AA142) | AB22: =CORREL('TOP3 quantification'!AC3:AC142,'TOP3 quantification'!AB3:AB142) | AC22: =CORREL('TOP3 quantification'!AC3:AC142,'TOP3 quantification'!AC3:AC142) | AD22: =CORREL('TOP3 quantification'!AC3:AC142,'TOP3 quantification'!AD3:AD142) | AE22: =CORREL('TOP3 quantification'!AC3:AC142,'TOP3 quantification'!AE3:AE142) | AF22: =CORREL('TOP3 quantification'!AC3:AC142,'TOP3 quantification'!AF3:AF142) | AG22: =CORREL('TOP3 quantification'!AC3:AC142,'TOP3 quantification'!AG3:AG142) | AH22: =CORREL('TOP3 quantification'!AC3:AC142,'TOP3 quantification'!AH3:AH142) | AI22: =CORREL('TOP3 quantification'!AC3:AC142,'TOP3 quantification'!AI3:AI142) | AJ22: =CORREL('TOP3 quantification'!AC3:AC142,'TOP3 quantification'!AJ3:AJ142) | AK22: =CORREL('TOP3 quantification'!AC3:AC142,'TOP3 quantification'!AK3:AK142) | AL22: =CORREL('TOP3 quantification'!AC3:AC142,'TOP3 quantification'!AL3:AL142) | AM22: =CORREL('TOP3 quantification'!AC3:AC142,'TOP3 quantification'!AM3:AM142) | AN22: =CORREL('TOP3 quantification'!AC3:AC142,'TOP3 quantification'!AN3:AN142) | AO22: =CORREL('TOP3 quantification'!AC3:AC142,'TOP3 quantification'!AO3:AO142)
I23: 111 Polyp 44 1 | J23: =CORREL('TOP3 quantification'!AD3:AD142,'TOP3 quantification'!J3:J142) | K23: =CORREL('TOP3 quantification'!AD3:AD142,'TOP3 quantification'!K3:K142) | L23: =CORREL('TOP3 quantification'!AD3:AD142,'TOP3 quantification'!L3:L142) | M23: =CORREL('TOP3 quantification'!AD3:AD142,'TOP3 quantification'!M3:M142) | N23: =CORREL('TOP3 quantification'!AD3:AD142,'TOP3 quantification'!N3:N142) | O23: =CORREL('TOP3 quantification'!AD3:AD142,'TOP3 quantification'!O3:O142) | P23: =CORREL('TOP3 quantification'!AD3:AD142,'TOP3 quantification'!P3:P142) | Q23: =CORREL('TOP3 quantification'!AD3:AD142,'TOP3 quantification'!Q3:Q142) | R23: =CORREL('TOP3 quantification'!AD3:AD142,'TOP3 quantification'!R3:R142) | S23: =CORREL('TOP3 quantification'!AD3:AD142,'TOP3 quantification'!S3:S142) | T23: =CORREL('TOP3 quantification'!AD3:AD142,'TOP3 quantification'!T3:T142) | U23: =CORREL('TOP3 quantification'!AD3:AD142,'TOP3 quantification'!U3:U142) | V23: =CORREL('TOP3 quantification'!AD3:AD142,'TOP3 quantification'!V3:V142) | W23: =CORREL('TOP3 quantification'!AD3:AD142,'TOP3 quantification'!W3:W142) | X23: =CORREL('TOP3 quantification'!AD3:AD142,'TOP3 quantification'!X3:X142) | Y23: =CORREL('TOP3 quantification'!AD3:AD142,'TOP3 quantification'!Y3:Y142) | Z23: =CORREL('TOP3 quantification'!AD3:AD142,'TOP3 quantification'!Z3:Z142) | AA23: =CORREL('TOP3 quantification'!AD3:AD142,'TOP3 quantification'!AA3:AA142) | AB23: =CORREL('TOP3 quantification'!AD3:AD142,'TOP3 quantification'!AB3:AB142) | AC23: =CORREL('TOP3 quantification'!AD3:AD142,'TOP3 quantification'!AC3:AC142) | AD23: =CORREL('TOP3 quantification'!AD3:AD142,'TOP3 quantification'!AD3:AD142) | AE23: =CORREL('TOP3 quantification'!AD3:AD142,'TOP3 quantification'!AE3:AE142) | AF23: =CORREL('TOP3 quantification'!AD3:AD142,'TOP3 quantification'!AF3:AF142) | AG23: =CORREL('TOP3 quantification'!AD3:AD142,'TOP3 quantification'!AG3:AG142) | AH23: =CORREL('TOP3 quantification'!AD3:AD142,'TOP3 quantification'!AH3:AH142) | AI23: =CORREL('TOP3 quantification'!AD3:AD142,'TOP3 quantification'!AI3:AI142) | AJ23: =CORREL('TOP3 quantification'!AD3:AD142,'TOP3 quantification'!AJ3:AJ142) | AK23: =CORREL('TOP3 quantification'!AD3:AD142,'TOP3 quantification'!AK3:AK142) | AL23: =CORREL('TOP3 quantification'!AD3:AD142,'TOP3 quantification'!AL3:AL142) | AM23: =CORREL('TOP3 quantification'!AD3:AD142,'TOP3 quantification'!AM3:AM142) | AN23: =CORREL('TOP3 quantification'!AD3:AD142,'TOP3 quantification'!AN3:AN142) | AO23: =CORREL('TOP3 quantification'!AD3:AD142,'TOP3 quantification'!AO3:AO142)
I24: 111 Polyp 44 2 | J24: =CORREL('TOP3 quantification'!AE3:AE142,'TOP3 quantification'!J3:J142) | K24: =CORREL('TOP3 quantification'!AE3:AE142,'TOP3 quantification'!K3:K142) | L24: =CORREL('TOP3 quantification'!AE3:AE142,'TOP3 quantification'!L3:L142) | M24: =CORREL('TOP3 quantification'!AE3:AE142,'TOP3 quantification'!M3:M142) | N24: =CORREL('TOP3 quantification'!AE3:AE142,'TOP3 quantification'!N3:N142) | O24: =CORREL('TOP3 quantification'!AE3:AE142,'TOP3 quantification'!O3:O142) | P24: =CORREL('TOP3 quantification'!AE3:AE142,'TOP3 quantification'!P3:P142) | Q24: =CORREL('TOP3 quantification'!AE3:AE142,'TOP3 quantification'!Q3:Q142) | R24: =CORREL('TOP3 quantification'!AE3:AE142,'TOP3 quantification'!R3:R142) | S24: =CORREL('TOP3 quantification'!AE3:AE142,'TOP3 quantification'!S3:S142) | T24: =CORREL('TOP3 quantification'!AE3:AE142,'TOP3 quantification'!T3:T142) | U24: =CORREL('TOP3 quantification'!AE3:AE142,'TOP3 quantification'!U3:U142) | V24: =CORREL('TOP3 quantification'!AE3:AE142,'TOP3 quantification'!V3:V142) | W24: =CORREL('TOP3 quantification'!AE3:AE142,'TOP3 quantification'!W3:W142) | X24: =CORREL('TOP3 quantification'!AE3:AE142,'TOP3 quantification'!X3:X142) | Y24: =CORREL('TOP3 quantification'!AE3:AE142,'TOP3 quantification'!Y3:Y142) | Z24: =CORREL('TOP3 quantification'!AE3:AE142,'TOP3 quantification'!Z3:Z142) | AA24: =CORREL('TOP3 quantification'!AE3:AE142,'TOP3 quantification'!AA3:AA142) | AB24: =CORREL('TOP3 quantification'!AE3:AE142,'TOP3 quantification'!AB3:AB142) | AC24: =CORREL('TOP3 quantification'!AE3:AE142,'TOP3 quantification'!AC3:AC142) | AD24: =CORREL('TOP3 quantification'!AE3:AE142,'TOP3 quantification'!AD3:AD142) | AE24: =CORREL('TOP3 quantification'!AE3:AE142,'TOP3 quantification'!AE3:AE142) | AF24: =CORREL('TOP3 quantification'!AE3:AE142,'TOP3 quantification'!AF3:AF142) | AG24: =CORREL('TOP3 quantification'!AE3:AE142,'TOP3 quantification'!AG3:AG142) | AH24: =CORREL('TOP3 quantification'!AE3:AE142,'TOP3 quantification'!AH3:AH142) | AI24: =CORREL('TOP3 quantification'!AE3:AE142,'TOP3 quantification'!AI3:AI142) | AJ24: =CORREL('TOP3 quantification'!AE3:AE142,'TOP3 quantification'!AJ3:AJ142) | AK24: =CORREL('TOP3 quantification'!AE3:AE142,'TOP3 quantification'!AK3:AK142) | AL24: =CORREL('TOP3 quantification'!AE3:AE142,'TOP3 quantification'!AL3:AL142) | AM24: =CORREL('TOP3 quantification'!AE3:AE142,'TOP3 quantification'!AM3:AM142) | AN24: =CORREL('TOP3 quantification'!AE3:AE142,'TOP3 quantification'!AN3:AN142) | AO24: =CORREL('TOP3 quantification'!AE3:AE142,'TOP3 quantification'!AO3:AO142)
I25: 111 Polyp 44 3 | J25: =CORREL('TOP3 quantification'!AF3:AF142,'TOP3 quantification'!J3:J142) | K25: =CORREL('TOP3 quantification'!AF3:AF142,'TOP3 quantification'!K3:K142) | L25: =CORREL('TOP3 quantification'!AF3:AF142,'TOP3 quantification'!L3:L142) | M25: =CORREL('TOP3 quantification'!AF3:AF142,'TOP3 quantification'!M3:M142) | N25: =CORREL('TOP3 quantification'!AF3:AF142,'TOP3 quantification'!N3:N142) | O25: =CORREL('TOP3 quantification'!AF3:AF142,'TOP3 quantification'!O3:O142) | P25: =CORREL('TOP3 quantification'!AF3:AF142,'TOP3 quantification'!P3:P142) | Q25: =CORREL('TOP3 quantification'!AF3:AF142,'TOP3 quantification'!Q3:Q142) | R25: =CORREL('TOP3 quantification'!AF3:AF142,'TOP3 quantification'!R3:R142) | S25: =CORREL('TOP3 quantification'!AF3:AF142,'TOP3 quantification'!S3:S142) | T25: =CORREL('TOP3 quantification'!AF3:AF142,'TOP3 quantification'!T3:T142) | U25: =CORREL('TOP3 quantification'!AF3:AF142,'TOP3 quantification'!U3:U142) | V25: =CORREL('TOP3 quantification'!AF3:AF142,'TOP3 quantification'!V3:V142) | W25: =CORREL('TOP3 quantification'!AF3:AF142,'TOP3 quantification'!W3:W142) | X25: =CORREL('TOP3 quantification'!AF3:AF142,'TOP3 quantification'!X3:X142) | Y25: =CORREL('TOP3 quantification'!AF3:AF142,'TOP3 quantification'!Y3:Y142) | Z25: =CORREL('TOP3 quantification'!AF3:AF142,'TOP3 quantification'!Z3:Z142) | AA25: =CORREL('TOP3 quantification'!AF3:AF142,'TOP3 quantification'!AA3:AA142) | AB25: =CORREL('TOP3 quantification'!AF3:AF142,'TOP3 quantification'!AB3:AB142) | AC25: =CORREL('TOP3 quantification'!AF3:AF142,'TOP3 quantification'!AC3:AC142) | AD25: =CORREL('TOP3 quantification'!AF3:AF142,'TOP3 quantification'!AD3:AD142) | AE25: =CORREL('TOP3 quantification'!AF3:AF142,'TOP3 quantification'!AE3:AE142) | AF25: =CORREL('TOP3 quantification'!AF3:AF142,'TOP3 quantification'!AF3:AF142) | AG25: =CORREL('TOP3 quantification'!AF3:AF142,'TOP3 quantification'!AG3:AG142) | AH25: =CORREL('TOP3 quantification'!AF3:AF142,'TOP3 quantification'!AH3:AH142) | AI25: =CORREL('TOP3 quantification'!AF3:AF142,'TOP3 quantification'!AI3:AI142) | AJ25: =CORREL('TOP3 quantification'!AF3:AF142,'TOP3 quantification'!AJ3:AJ142) | AK25: =CORREL('TOP3 quantification'!AF3:AF142,'TOP3 quantification'!AK3:AK142) | AL25: =CORREL('TOP3 quantification'!AF3:AF142,'TOP3 quantification'!AL3:AL142) | AM25: =CORREL('TOP3 quantification'!AF3:AF142,'TOP3 quantification'!AM3:AM142) | AN25: =CORREL('TOP3 quantification'!AF3:AF142,'TOP3 quantification'!AN3:AN142) | AO25: =CORREL('TOP3 quantification'!AF3:AF142,'TOP3 quantification'!AO3:AO142)
I26: 107 Karz 42 1 | J26: =CORREL('TOP3 quantification'!AG3:AG142,'TOP3 quantification'!J3:J142) | K26: =CORREL('TOP3 quantification'!AG3:AG142,'TOP3 quantification'!K3:K142) | L26: =CORREL('TOP3 quantification'!AG3:AG142,'TOP3 quantification'!L3:L142) | M26: =CORREL('TOP3 quantification'!AG3:AG142,'TOP3 quantification'!M3:M142) | N26: =CORREL('TOP3 quantification'!AG3:AG142,'TOP3 quantification'!N3:N142) | O26: =CORREL('TOP3 quantification'!AG3:AG142,'TOP3 quantification'!O3:O142) | P26: =CORREL('TOP3 quantification'!AG3:AG142,'TOP3 quantification'!P3:P142) | Q26: =CORREL('TOP3 quantification'!AG3:AG142,'TOP3 quantification'!Q3:Q142) | R26: =CORREL('TOP3 quantification'!AG3:AG142,'TOP3 quantification'!R3:R142) | S26: =CORREL('TOP3 quantification'!AG3:AG142,'TOP3 quantification'!S3:S142) | T26: =CORREL('TOP3 quantification'!AG3:AG142,'TOP3 quantification'!T3:T142) | U26: =CORREL('TOP3 quantification'!AG3:AG142,'TOP3 quantification'!U3:U142) | V26: =CORREL('TOP3 quantification'!AG3:AG142,'TOP3 quantification'!V3:V142) | W26: =CORREL('TOP3 quantification'!AG3:AG142,'TOP3 quantification'!W3:W142) | X26: =CORREL('TOP3 quantification'!AG3:AG142,'TOP3 quantification'!X3:X142) | Y26: =CORREL('TOP3 quantification'!AG3:AG142,'TOP3 quantification'!Y3:Y142) | Z26: =CORREL('TOP3 quantification'!AG3:AG142,'TOP3 quantification'!Z3:Z142) | AA26: =CORREL('TOP3 quantification'!AG3:AG142,'TOP3 quantification'!AA3:AA142) | AB26: =CORREL('TOP3 quantification'!AG3:AG142,'TOP3 quantification'!AB3:AB142) | AC26: =CORREL('TOP3 quantification'!AG3:AG142,'TOP3 quantification'!AC3:AC142) | AD26: =CORREL('TOP3 quantification'!AG3:AG142,'TOP3 quantification'!AD3:AD142) | AE26: =CORREL('TOP3 quantification'!AG3:AG142,'TOP3 quantification'!AE3:AE142) | AF26: =CORREL('TOP3 quantification'!AG3:AG142,'TOP3 quantification'!AF3:AF142) | AG26: =CORREL('TOP3 quantification'!AG3:AG142,'TOP3 quantification'!AG3:AG142) | AH26: =CORREL('TOP3 quantification'!AG3:AG142,'TOP3 quantification'!AH3:AH142) | AI26: =CORREL('TOP3 quantification'!AG3:AG142,'TOP3 quantification'!AI3:AI142) | AJ26: =CORREL('TOP3 quantification'!AG3:AG142,'TOP3 quantification'!AJ3:AJ142) | AK26: =CORREL('TOP3 quantification'!AG3:AG142,'TOP3 quantification'!AK3:AK142) | AL26: =CORREL('TOP3 quantification'!AG3:AG142,'TOP3 quantification'!AL3:AL142) | AM26: =CORREL('TOP3 quantification'!AG3:AG142,'TOP3 quantification'!AM3:AM142) | AN26: =CORREL('TOP3 quantification'!AG3:AG142,'TOP3 quantification'!AN3:AN142) | AO26: =CORREL('TOP3 quantification'!AG3:AG142,'TOP3 quantification'!AO3:AO142)
I27: 107 Karz 42 2 | J27: =CORREL('TOP3 quantification'!AH3:AH142,'TOP3 quantification'!J3:J142) | K27: =CORREL('TOP3 quantification'!AH3:AH142,'TOP3 quantification'!K3:K142) | L27: =CORREL('TOP3 quantification'!AH3:AH142,'TOP3 quantification'!L3:L142) | M27: =CORREL('TOP3 quantification'!AH3:AH142,'TOP3 quantification'!M3:M142) | N27: =CORREL('TOP3 quantification'!AH3:AH142,'TOP3 quantification'!N3:N142) | O27: =CORREL('TOP3 quantification'!AH3:AH142,'TOP3 quantification'!O3:O142) | P27: =CORREL('TOP3 quantification'!AH3:AH142,'TOP3 quantification'!P3:P142) | Q27: =CORREL('TOP3 quantification'!AH3:AH142,'TOP3 quantification'!Q3:Q142) | R27: =CORREL('TOP3 quantification'!AH3:AH142,'TOP3 quantification'!R3:R142) | S27: =CORREL('TOP3 quantification'!AH3:AH142,'TOP3 quantification'!S3:S142) | T27: =CORREL('TOP3 quantification'!AH3:AH142,'TOP3 quantification'!T3:T142) | U27: =CORREL('TOP3 quantification'!AH3:AH142,'TOP3 quantification'!U3:U142) | V27: =CORREL('TOP3 quantification'!AH3:AH142,'TOP3 quantification'!V3:V142) | W27: =CORREL('TOP3 quantification'!AH3:AH142,'TOP3 quantification'!W3:W142) | X27: =CORREL('TOP3 quantification'!AH3:AH142,'TOP3 quantification'!X3:X142) | Y27: =CORREL('TOP3 quantification'!AH3:AH142,'TOP3 quantification'!Y3:Y142) | Z27: =CORREL('TOP3 quantification'!AH3:AH142,'TOP3 quantification'!Z3:Z142) | AA27: =CORREL('TOP3 quantification'!AH3:AH142,'TOP3 quantification'!AA3:AA142) | AB27: =CORREL('TOP3 quantification'!AH3:AH142,'TOP3 quantification'!AB3:AB142) | AC27: =CORREL('TOP3 quantification'!AH3:AH142,'TOP3 quantification'!AC3:AC142) | AD27: =CORREL('TOP3 quantification'!AH3:AH142,'TOP3 quantification'!AD3:AD142) | AE27: =CORREL('TOP3 quantification'!AH3:AH142,'TOP3 quantification'!AE3:AE142) | AF27: =CORREL('TOP3 quantification'!AH3:AH142,'TOP3 quantification'!AF3:AF142) | AG27: =CORREL('TOP3 quantification'!AH3:AH142,'TOP3 quantification'!AG3:AG142) | AH27: =CORREL('TOP3 quantification'!AH3:AH142,'TOP3 quantification'!AH3:AH142) | AI27: =CORREL('TOP3 quantification'!AH3:AH142,'TOP3 quantification'!AI3:AI142) | AJ27: =CORREL('TOP3 quantification'!AH3:AH142,'TOP3 quantification'!AJ3:AJ142) | AK27: =CORREL('TOP3 quantification'!AH3:AH142,'TOP3 quantification'!AK3:AK142) | AL27: =CORREL('TOP3 quantification'!AH3:AH142,'TOP3 quantification'!AL3:AL142) | AM27: =CORREL('TOP3 quantification'!AH3:AH142,'TOP3 quantification'!AM3:AM142) | AN27: =CORREL('TOP3 quantification'!AH3:AH142,'TOP3 quantification'!AN3:AN142) | AO27: =CORREL('TOP3 quantification'!AH3:AH142,'TOP3 quantification'!AO3:AO142)
I28: 107 Karz 42 3 | J28: =CORREL('TOP3 quantification'!AI3:AI142,'TOP3 quantification'!J3:J142) | K28: =CORREL('TOP3 quantification'!AI3:AI142,'TOP3 quantification'!K3:K142) | L28: =CORREL('TOP3 quantification'!AI3:AI142,'TOP3 quantification'!L3:L142) | M28: =CORREL('TOP3 quantification'!AI3:AI142,'TOP3 quantification'!M3:M142) | N28: =CORREL('TOP3 quantification'!AI3:AI142,'TOP3 quantification'!N3:N142) | O28: =CORREL('TOP3 quantification'!AI3:AI142,'TOP3 quantification'!O3:O142) | P28: =CORREL('TOP3 quantification'!AI3:AI142,'TOP3 quantification'!P3:P142) | Q28: =CORREL('TOP3 quantification'!AI3:AI142,'TOP3 quantification'!Q3:Q142) | R28: =CORREL('TOP3 quantification'!AI3:AI142,'TOP3 quantification'!R3:R142) | S28: =CORREL('TOP3 quantification'!AI3:AI142,'TOP3 quantification'!S3:S142) | T28: =CORREL('TOP3 quantification'!AI3:AI142,'TOP3 quantification'!T3:T142) | U28: =CORREL('TOP3 quantification'!AI3:AI142,'TOP3 quantification'!U3:U142) | V28: =CORREL('TOP3 quantification'!AI3:AI142,'TOP3 quantification'!V3:V142) | W28: =CORREL('TOP3 quantification'!AI3:AI142,'TOP3 quantification'!W3:W142) | X28: =CORREL('TOP3 quantification'!AI3:AI142,'TOP3 quantification'!X3:X142) | Y28: =CORREL('TOP3 quantification'!AI3:AI142,'TOP3 quantification'!Y3:Y142) | Z28: =CORREL('TOP3 quantification'!AI3:AI142,'TOP3 quantification'!Z3:Z142) | AA28: =CORREL('TOP3 quantification'!AI3:AI142,'TOP3 quantification'!AA3:AA142) | AB28: =CORREL('TOP3 quantification'!AI3:AI142,'TOP3 quantification'!AB3:AB142) | AC28: =CORREL('TOP3 quantification'!AI3:AI142,'TOP3 quantification'!AC3:AC142) | AD28: =CORREL('TOP3 quantification'!AI3:AI142,'TOP3 quantification'!AD3:AD142) | AE28: =CORREL('TOP3 quantification'!AI3:AI142,'TOP3 quantification'!AE3:AE142) | AF28: =CORREL('TOP3 quantification'!AI3:AI142,'TOP3 quantification'!AF3:AF142) | AG28: =CORREL('TOP3 quantification'!AI3:AI142,'TOP3 quantification'!AG3:AG142) | AH28: =CORREL('TOP3 quantification'!AI3:AI142,'TOP3 quantification'!AH3:AH142) | AI28: =CORREL('TOP3 quantification'!AI3:AI142,'TOP3 quantification'!AI3:AI142) | AJ28: =CORREL('TOP3 quantification'!AI3:AI142,'TOP3 quantification'!AJ3:AJ142) | AK28: =CORREL('TOP3 quantification'!AI3:AI142,'TOP3 quantification'!AK3:AK142) | AL28: =CORREL('TOP3 quantification'!AI3:AI142,'TOP3 quantification'!AL3:AL142) | AM28: =CORREL('TOP3 quantification'!AI3:AI142,'TOP3 quantification'!AM3:AM142) | AN28: =CORREL('TOP3 quantification'!AI3:AI142,'TOP3 quantification'!AN3:AN142) | AO28: =CORREL('TOP3 quantification'!AI3:AI142,'TOP3 quantification'!AO3:AO142)
I29: 106 Karz 41 1 | J29: =CORREL('TOP3 quantification'!AJ3:AJ142,'TOP3 quantification'!J3:J142) | K29: =CORREL('TOP3 quantification'!AJ3:AJ142,'TOP3 quantification'!K3:K142) | L29: =CORREL('TOP3 quantification'!AJ3:AJ142,'TOP3 quantification'!L3:L142) | M29: =CORREL('TOP3 quantification'!AJ3:AJ142,'TOP3 quantification'!M3:M142) | N29: =CORREL('TOP3 quantification'!AJ3:AJ142,'TOP3 quantification'!N3:N142) | O29: =CORREL('TOP3 quantification'!AJ3:AJ142,'TOP3 quantification'!O3:O142) | P29: =CORREL('TOP3 quantification'!AJ3:AJ142,'TOP3 quantification'!P3:P142) | Q29: =CORREL('TOP3 quantification'!AJ3:AJ142,'TOP3 quantification'!Q3:Q142) | R29: =CORREL('TOP3 quantification'!AJ3:AJ142,'TOP3 quantification'!R3:R142) | S29: =CORREL('TOP3 quantification'!AJ3:AJ142,'TOP3 quantification'!S3:S142) | T29: =CORREL('TOP3 quantification'!AJ3:AJ142,'TOP3 quantification'!T3:T142) | U29: =CORREL('TOP3 quantification'!AJ3:AJ142,'TOP3 quantification'!U3:U142) | V29: =CORREL('TOP3 quantification'!AJ3:AJ142,'TOP3 quantification'!V3:V142) | W29: =CORREL('TOP3 quantification'!AJ3:AJ142,'TOP3 quantification'!W3:W142) | X29: =CORREL('TOP3 quantification'!AJ3:AJ142,'TOP3 quantification'!X3:X142) | Y29: =CORREL('TOP3 quantification'!AJ3:AJ142,'TOP3 quantification'!Y3:Y142) | Z29: =CORREL('TOP3 quantification'!AJ3:AJ142,'TOP3 quantification'!Z3:Z142) | AA29: =CORREL('TOP3 quantification'!AJ3:AJ142,'TOP3 quantification'!AA3:AA142) | AB29: =CORREL('TOP3 quantification'!AJ3:AJ142,'TOP3 quantification'!AB3:AB142) | AC29: =CORREL('TOP3 quantification'!AJ3:AJ142,'TOP3 quantification'!AC3:AC142) | AD29: =CORREL('TOP3 quantification'!AJ3:AJ142,'TOP3 quantification'!AD3:AD142) | AE29: =CORREL('TOP3 quantification'!AJ3:AJ142,'TOP3 quantification'!AE3:AE142) | AF29: =CORREL('TOP3 quantification'!AJ3:AJ142,'TOP3 quantification'!AF3:AF142) | AG29: =CORREL('TOP3 quantification'!AJ3:AJ142,'TOP3 quantification'!AG3:AG142) | AH29: =CORREL('TOP3 quantification'!AJ3:AJ142,'TOP3 quantification'!AH3:AH142) | AI29: =CORREL('TOP3 quantification'!AJ3:AJ142,'TOP3 quantification'!AI3:AI142) | AJ29: =CORREL('TOP3 quantification'!AJ3:AJ142,'TOP3 quantification'!AJ3:AJ142) | AK29: =CORREL('TOP3 quantification'!AJ3:AJ142,'TOP3 quantification'!AK3:AK142) | AL29: =CORREL('TOP3 quantification'!AJ3:AJ142,'TOP3 quantification'!AL3:AL142) | AM29: =CORREL('TOP3 quantification'!AJ3:AJ142,'TOP3 quantification'!AM3:AM142) | AN29: =CORREL('TOP3 quantification'!AJ3:AJ142,'TOP3 quantification'!AN3:AN142) | AO29: =CORREL('TOP3 quantification'!AJ3:AJ142,'TOP3 quantification'!AO3:AO142)
I30: 106 Karz 41 2 | J30: =CORREL('TOP3 quantification'!AK3:AK142,'TOP3 quantification'!J3:J142) | K30: =CORREL('TOP3 quantification'!AK3:AK142,'TOP3 quantification'!K3:K142) | L30: =CORREL('TOP3 quantification'!AK3:AK142,'TOP3 quantification'!L3:L142) | M30: =CORREL('TOP3 quantification'!AK3:AK142,'TOP3 quantification'!M3:M142) | N30: =CORREL('TOP3 quantification'!AK3:AK142,'TOP3 quantification'!N3:N142) | O30: =CORREL('TOP3 quantification'!AK3:AK142,'TOP3 quantification'!O3:O142) | P30: =CORREL('TOP3 quantification'!AK3:AK142,'TOP3 quantification'!P3:P142) | Q30: =CORREL('TOP3 quantification'!AK3:AK142,'TOP3 quantification'!Q3:Q142) | R30: =CORREL('TOP3 quantification'!AK3:AK142,'TOP3 quantification'!R3:R142) | S30: =CORREL('TOP3 quantification'!AK3:AK142,'TOP3 quantification'!S3:S142) | T30: =CORREL('TOP3 quantification'!AK3:AK142,'TOP3 quantification'!T3:T142) | U30: =CORREL('TOP3 quantification'!AK3:AK142,'TOP3 quantification'!U3:U142) | V30: =CORREL('TOP3 quantification'!AK3:AK142,'TOP3 quantification'!V3:V142) | W30: =CORREL('TOP3 quantification'!AK3:AK142,'TOP3 quantification'!W3:W142) | X30: =CORREL('TOP3 quantification'!AK3:AK142,'TOP3 quantification'!X3:X142) | Y30: =CORREL('TOP3 quantification'!AK3:AK142,'TOP3 quantification'!Y3:Y142) | Z30: =CORREL('TOP3 quantification'!AK3:AK142,'TOP3 quantification'!Z3:Z142) | AA30: =CORREL('TOP3 quantification'!AK3:AK142,'TOP3 quantification'!AA3:AA142) | AB30: =CORREL('TOP3 quantification'!AK3:AK142,'TOP3 quantification'!AB3:AB142) | AC30: =CORREL('TOP3 quantification'!AK3:AK142,'TOP3 quantification'!AC3:AC142) | AD30: =CORREL('TOP3 quantification'!AK3:AK142,'TOP3 quantification'!AD3:AD142) | AE30: =CORREL('TOP3 quantification'!AK3:AK142,'TOP3 quantification'!AE3:AE142) | AF30: =CORREL('TOP3 quantification'!AK3:AK142,'TOP3 quantification'!AF3:AF142) | AG30: =CORREL('TOP3 quantification'!AK3:AK142,'TOP3 quantification'!AG3:AG142) | AH30: =CORREL('TOP3 quantification'!AK3:AK142,'TOP3 quantification'!AH3:AH142) | AI30: =CORREL('TOP3 quantification'!AK3:AK142,'TOP3 quantification'!AI3:AI142) | AJ30: =CORREL('TOP3 quantification'!AK3:AK142,'TOP3 quantification'!AJ3:AJ142) | AK30: =CORREL('TOP3 quantification'!AK3:AK142,'TOP3 quantification'!AK3:AK142) | AL30: =CORREL('TOP3 quantification'!AK3:AK142,'TOP3 quantification'!AL3:AL142) | AM30: =CORREL('TOP3 quantification'!AK3:AK142,'TOP3 quantification'!AM3:AM142) | AN30: =CORREL('TOP3 quantification'!AK3:AK142,'TOP3 quantification'!AN3:AN142) | AO30: =CORREL('TOP3 quantification'!AK3:AK142,'TOP3 quantification'!AO3:AO142)
I31: 106 Karz 41 3 | J31: =CORREL('TOP3 quantification'!AL3:AL142,'TOP3 quantification'!J3:J142) | K31: =CORREL('TOP3 quantification'!AL3:AL142,'TOP3 quantification'!K3:K142) | L31: =CORREL('TOP3 quantification'!AL3:AL142,'TOP3 quantification'!L3:L142) | M31: =CORREL('TOP3 quantification'!AL3:AL142,'TOP3 quantification'!M3:M142) | N31: =CORREL('TOP3 quantification'!AL3:AL142,'TOP3 quantification'!N3:N142) | O31: =CORREL('TOP3 quantification'!AL3:AL142,'TOP3 quantification'!O3:O142) | P31: =CORREL('TOP3 quantification'!AL3:AL142,'TOP3 quantification'!P3:P142) | Q31: =CORREL('TOP3 quantification'!AL3:AL142,'TOP3 quantification'!Q3:Q142) | R31: =CORREL('TOP3 quantification'!AL3:AL142,'TOP3 quantification'!R3:R142) | S31: =CORREL('TOP3 quantification'!AL3:AL142,'TOP3 quantification'!S3:S142) | T31: =CORREL('TOP3 quantification'!AL3:AL142,'TOP3 quantification'!T3:T142) | U31: =CORREL('TOP3 quantification'!AL3:AL142,'TOP3 quantification'!U3:U142) | V31: =CORREL('TOP3 quantification'!AL3:AL142,'TOP3 quantification'!V3:V142) | W31: =CORREL('TOP3 quantification'!AL3:AL142,'TOP3 quantification'!W3:W142) | X31: =CORREL('TOP3 quantification'!AL3:AL142,'TOP3 quantification'!X3:X142) | Y31: =CORREL('TOP3 quantification'!AL3:AL142,'TOP3 quantification'!Y3:Y142) | Z31: =CORREL('TOP3 quantification'!AL3:AL142,'TOP3 quantification'!Z3:Z142) | AA31: =CORREL('TOP3 quantification'!AL3:AL142,'TOP3 quantification'!AA3:AA142) | AB31: =CORREL('TOP3 quantification'!AL3:AL142,'TOP3 quantification'!AB3:AB142) | AC31: =CORREL('TOP3 quantification'!AL3:AL142,'TOP3 quantification'!AC3:AC142) | AD31: =CORREL('TOP3 quantification'!AL3:AL142,'TOP3 quantification'!AD3:AD142) | AE31: =CORREL('TOP3 quantification'!AL3:AL142,'TOP3 quantification'!AE3:AE142) | AF31: =CORREL('TOP3 quantification'!AL3:AL142,'TOP3 quantification'!AF3:AF142) | AG31: =CORREL('TOP3 quantification'!AL3:AL142,'TOP3 quantification'!AG3:AG142) | AH31: =CORREL('TOP3 quantification'!AL3:AL142,'TOP3 quantification'!AH3:AH142) | AI31: =CORREL('TOP3 quantification'!AL3:AL142,'TOP3 quantification'!AI3:AI142) | AJ31: =CORREL('TOP3 quantification'!AL3:AL142,'TOP3 quantification'!AJ3:AJ142) | AK31: =CORREL('TOP3 quantification'!AL3:AL142,'TOP3 quantification'!AK3:AK142) | AL31: =CORREL('TOP3 quantification'!AL3:AL142,'TOP3 quantification'!AL3:AL142) | AM31: =CORREL('TOP3 quantification'!AL3:AL142,'TOP3 quantification'!AM3:AM142) | AN31: =CORREL('TOP3 quantification'!AL3:AL142,'TOP3 quantification'!AN3:AN142) | AO31: =CORREL('TOP3 quantification'!AL3:AL142,'TOP3 quantification'!AO3:AO142)
