Workbook

Sheet TOP3 quantification
J1: Alex Kontrolle 14 | K1: Alex Kontrolle 14 | L1: Alex Kontrolle 14 | M1: Alex Kontrolle 15 | N1: Alex Kontrolle 15 | O1: Alex Kontrolle 15 | P1: Alex Kontrolle 27 | Q1: Alex Kontrolle 27 | R1: Alex Kontrolle 27 | S1: Alex Poly P 7 | T1: Alex Poly P 7 | U1: Alex Poly P 7 | V1: Alex Poly P 8 | W1: Alex Poly P 8 | X1: Alex Poly P 8 | Y1: Alex Poly P 25 | Z1: Alex Poly P 25 | AA1: Alex Poly P 25 | AB1: Alex Karz 33 | AC1: Alex Karz 33 | AD1: Alex Karz 33 | AE1: Alex Karz 39 | AF1: Alex Karz 39 | AG1: Alex Karz 39 | AH1: Alex Karz 40 | AI1: Alex Karz 40 | AJ1: Alex Karz 40 | AK1: Alex Kontrolle 14 | AL1: Alex Kontrolle 15 | AM1: Alex Kontrolle 27 | AN1: Alex Poly P 7 | AO1: Alex Poly P 8 | AP1: Alex Poly P 25 | AQ1: Alex Karz 33 | AR1: Alex Karz 39 | AS1: Alex Karz 40
A2: description | B2: IEP | C2: mw | D2: max score | E2: accession | F2: reported peptides | G2: sequence coverage | H2: FDR level | I2: entry | J2: 01 Kontrolle 14 1 | K2: 01 Kontrolle 14 2 | L2: 01 Kontrolle 14 3 | M2: 02 Kontrolle 15 1 | N2: 02 Kontrolle 15 2 | O2: 02 Kontrolle 15 3 | P2: 03 Kontrolle 27 1 | Q2: 03 Kontrolle 27 2 | R2: 03 Kontrolle 27 3 | S2: 04 Polyp 7 1 | T2: 04 Polyp 7 2 | U2: 04 Polyp 7 3 | V2: 05 Polyp 8 1 | W2: 05 Polyp 8 2 | X2: 05 Polyp 8 3 | Y2: 06 Polyp 25 1 | Z2: 06 Polyp 25 2 | AA2: 06 Polyp 25 3 | AB2: 07 Karz 33 1 | AC2: 07 Karz 33 2 | AD2: 07 Karz 33 3 | AE2: 08 Karz 39 1 | AF2: 08 Karz 39 2 | AG2: 08 Karz 39 3 | AH2: 09 Karz 40 1 | AI2: 09 Karz 40 2 | AJ2: 09 Karz 40 3 | AK2: AVERAGE 01 Kontrolle 14 | AL2: AVERAGE 02 Kontrolle 15 | AM2: AVERAGE 03 Kontrolle 27 | AN2: AVERAGE 04 Polyp 7 | AO2: AVERAGE 05 Polyp 8 | AP2: AVERAGE 06 Polyp 25 | AQ2: AVERAGE 07 Karz 33 | AR2: AVERAGE 08 Karz 39 | AS2: AVERAGE 09 Karz 40
A3: Transthyretin OS=Homo sapiens GN=TTR PE=1 SV=1 | B3: 5.4 | C3: 16001.098 | D3: 72153.63 | E3: P02766 | F3: 8 | G3: 73.47 | H3: 0 | I3: TTHY_HUMAN | J3: 747337.33 | K3: 317371.33 | L3: 252667 | M3: 175461.67 | N3: 252363.33 | O3: 256572.67 | P3: 1506 | Q3: 15413.333 | R3: 8527 | S3: 58724.333 | T3: 246765 | U3: 25873 | V3: 1733690.3 | W3: 228614 | X3: 254866.33 | Y3: 30603 | Z3: 17978.667 | AA3: 55012.667 | AB3: 13161.333 | AC3: 2934.6667 | AE3: 5664.5 | AF3: 20848 | AG3: 34166 | AI3: 14376 | AJ3: 3581 | AK3: =IFERROR(SUM(J3:L3)/COUNTIF(J3:L3,">0"),) | AL3: =IFERROR(SUM(M3:O3)/COUNTIF(M3:O3,">0"),) | AM3: =IFERROR(SUM(P3:R3)/COUNTIF(P3:R3,">0"),) | AN3: =IFERROR(SUM(S3:U3)/COUNTIF(S3:U3,">0"),) | AO3: =IFERROR(SUM(V3:X3)/COUNTIF(V3:X3,">0"),) | AP3: =IFERROR(SUM(Y3:AA3)/COUNTIF(Y3:AA3,">0"),) | AQ3: =IFERROR(SUM(AB3:AD3)/COUNTIF(AB3:AD3,">0"),) | AR3: =IFERROR(SUM(AE3:AG3)/COUNTIF(AE3:AG3,">0"),) | AS3: =IFERROR(SUM(AH3:AJ3)/COUNTIF(AH3:AJ3,">0"),)
A4: Zinc-alpha-2-glycoprotein OS=Homo sapiens GN=AZGP1 PE=1 SV=2 | B4: 5.64 | C4: 34486.872 | D4: 49082.86 | E4: P25311 | F4: 21 | G4: 79.53 | H4: 0 | I4: ZA2G_HUMAN | J4: 1155549.3 | K4: 873122.67 | L4: 984298.33 | M4: 986971.67 | N4: 783699.33 | O4: 1049151 | P4: 1023739.3 | Q4: 937224 | R4: 852834.67 | S4: 232017.33 | T4: 285931 | U4: 210150.33 | V4: 841780.67 | W4: 784298.33 | X4: 660095.33 | Y4: 781057.33 | Z4: 697848.33 | AA4: 829585 | AB4: 1505641.3 | AC4: 1393952.3 | AD4: 1169375 | AE4: 856576.33 | AF4: 565478 | AG4: 827113.33 | AH4: 626898 | AI4: 435237.33 | AJ4: 560792 | AK4: =IFERROR(SUM(J4:L4)/COUNTIF(J4:L4,">0"),) | AL4: =IFERROR(SUM(M4:O4)/COUNTIF(M4:O4,">0"),) | AM4: =IFERROR(SUM(P4:R4)/COUNTIF(P4:R4,">0"),) | AN4: =IFERROR(SUM(S4:U4)/COUNTIF(S4:U4,">0"),) | AO4: =IFERROR(SUM(V4:X4)/COUNTIF(V4:X4,">0"),) | AP4: =IFERROR(SUM(Y4:AA4)/COUNTIF(Y4:AA4,">0"),) | AQ4: =IFERROR(SUM(AB4:AD4)/COUNTIF(AB4:AD4,">0"),) | AR4: =IFERROR(SUM(AE4:AG4)/COUNTIF(AE4:AG4,">0"),) | AS4: =IFERROR(SUM(AH4:AJ4)/COUNTIF(AH4:AJ4,">0"),)
A5: Leucine-rich alpha-2-glycoprotein OS=Homo sapiens GN=LRG1 PE=1 SV=2 | B5: 6.5 | C5: 38406.063 | D5: 37983.68 | E5: P02750 | F5: 18 | G5: 65.99 | H5: 0 | I5: A2GL_HUMAN | J5: 551918.33 | K5: 631742 | L5: 357303.33 | M5: 595380 | N5: 395212 | O5: 417960.67 | P5: 1257159.7 | Q5: 1155761.7 | R5: 767305.33 | S5: 54724 | T5: 82321 | U5: 46761.333 | V5: 289449.33 | W5: 274042 | X5: 189731 | Y5: 747431.33 | Z5: 436112 | AA5: 421575.33 | AB5: 1701462 | AC5: 856544.67 | AD5: 677288.33 | AE5: 679494.67 | AF5: 467979.67 | AG5: 486924.67 | AH5: 2607320.3 | AI5: 1435735.7 | AJ5: 1251620 | AK5: =IFERROR(SUM(J5:L5)/COUNTIF(J5:L5,">0"),) | AL5: =IFERROR(SUM(M5:O5)/COUNTIF(M5:O5,">0"),) | AM5: =IFERROR(SUM(P5:R5)/COUNTIF(P5:R5,">0"),) | AN5: =IFERROR(SUM(S5:U5)/COUNTIF(S5:U5,">0"),) | AO5: =IFERROR(SUM(V5:X5)/COUNTIF(V5:X5,">0"),) | AP5: =IFERROR(SUM(Y5:AA5)/COUNTIF(Y5:AA5,">0"),) | AQ5: =IFERROR(SUM(AB5:AD5)/COUNTIF(AB5:AD5,">0"),) | AR5: =IFERROR(SUM(AE5:AG5)/COUNTIF(AE5:AG5,">0"),) | AS5: =IFERROR(SUM(AH5:AJ5)/COUNTIF(AH5:AJ5,">0"),)
A6: Apolipoprotein A-IV OS=Homo sapiens GN=APOA4 PE=1 SV=3 | B6: 5.11 | C6: 45399.118 | D6: 37898.54 | E6: P06727 | F6: 33 | G6: 88.38 | H6: 0 | I6: APOA4_HUMAN | J6: 804763.33 | K6: 640829 | L6: 538545.33 | M6: 427708.67 | N6: 444319 | O6: 446315 | P6: 213976.33 | Q6: 239853 | R6: 229197.67 | S6: 46246.333 | T6: 29189 | U6: 37576.333 | V6: 704784 | W6: 817850.67 | X6: 632806 | Y6: 327297.67 | Z6: 244958.67 | AA6: 244351.67 | AB6: 132462 | AC6: 107506.33 | AD6: 154578 | AE6: 360694 | AF6: 312070.67 | AG6: 358188.33 | AH6: 268390.33 | AI6: 205495.33 | AJ6: 241765 | AK6: =IFERROR(SUM(J6:L6)/COUNTIF(J6:L6,">0"),) | AL6: =IFERROR(SUM(M6:O6)/COUNTIF(M6:O6,">0"),) | AM6: =IFERROR(SUM(P6:R6)/COUNTIF(P6:R6,">0"),) | AN6: =IFERROR(SUM(S6:U6)/COUNTIF(S6:U6,">0"),) | AO6: =IFERROR(SUM(V6:X6)/COUNTIF(V6:X6,">0"),) | AP6: =IFERROR(SUM(Y6:AA6)/COUNTIF(Y6:AA6,">0"),) | AQ6: =IFERROR(SUM(AB6:AD6)/COUNTIF(AB6:AD6,">0"),) | AR6: =IFERROR(SUM(AE6:AG6)/COUNTIF(AE6:AG6,">0"),) | AS6: =IFERROR(SUM(AH6:AJ6)/COUNTIF(AH6:AJ6,">0"),)
A7: Ceruloplasmin OS=Homo sapiens GN=CP PE=1 SV=1 | B7: 5.34 | C7: 123060.8 | D7: 35552.6 | E7: P00450 | F7: 54 | G7: 71.46 | H7: 0 | I7: CERU_HUMAN | J7: 1862886 | K7: 1703283.3 | L7: 1740808.3 | M7: 2215839.3 | N7: 1604538.7 | O7: 2409470 | P7: 2748098.3 | Q7: 3714333.3 | R7: 3249689.3 | S7: 923473.33 | T7: 1205694 | U7: 795964.33 | V7: 1607358.3 | W7: 1604026 | X7: 1526014 | Y7: 1071879.7 | Z7: 1405913.7 | AA7: 1070506.3 | AB7: 1133214.3 | AC7: 620743 | AD7: 1146396 | AE7: 2544149 | AF7: 1583428.7 | AG7: 2540354 | AH7: 725663.67 | AI7: 463757 | AJ7: 737656.33 | AK7: =IFERROR(SUM(J7:L7)/COUNTIF(J7:L7,">0"),) | AL7: =IFERROR(SUM(M7:O7)/COUNTIF(M7:O7,">0"),) | AM7: =IFERROR(SUM(P7:R7)/COUNTIF(P7:R7,">0"),) | AN7: =IFERROR(SUM(S7:U7)/COUNTIF(S7:U7,">0"),) | AO7: =IFERROR(SUM(V7:X7)/COUNTIF(V7:X7,">0"),) | AP7: =IFERROR(SUM(Y7:AA7)/COUNTIF(Y7:AA7,">0"),) | AQ7: =IFERROR(SUM(AB7:AD7)/COUNTIF(AB7:AD7,">0"),) | AR7: =IFERROR(SUM(AE7:AG7)/COUNTIF(AE7:AG7,">0"),) | AS7: =IFERROR(SUM(AH7:AJ7)/COUNTIF(AH7:AJ7,">0"),)
A8: Alpha-2-macroglobulin OS=Homo sapiens GN=A2M PE=1 SV=3 | B8: 6 | C8: 164716.9 | D8: 32274.65 | E8: P01023 | F8: 73 | G8: 72.73 | H8: 0 | I8: A2MG_HUMAN | J8: 213592.33 | K8: 228566.33 | L8: 214369.33 | M8: 874769.67 | N8: 819091.33 | O8: 840349.67 | P8: 406976.33 | Q8: 419194 | R8: 352339 | S8: 427102 | T8: 444643.67 | U8: 280991 | V8: 224043.67 | W8: 232177.33 | X8: 177377 | Y8: 2858646.7 | Z8: 2653581.9 | AA8: 2174088.3 | AB8: 829397 | AC8: 672066.67 | AD8: 452346 | AE8: 1258168.7 | AF8: 1137531.3 | AG8: 1079767.7 | AH8: 280472.67 | AI8: 199614.67 | AJ8: 237106.67 | AK8: =IFERROR(SUM(J8:L8)/COUNTIF(J8:L8,">0"),) | AL8: =IFERROR(SUM(M8:O8)/COUNTIF(M8:O8,">0"),) | AM8: =IFERROR(SUM(P8:R8)/COUNTIF(P8:R8,">0"),) | AN8: =IFERROR(SUM(S8:U8)/COUNTIF(S8:U8,">0"),) | AO8: =IFERROR(SUM(V8:X8)/COUNTIF(V8:X8,">0"),) | AP8: =IFERROR(SUM(Y8:AA8)/COUNTIF(Y8:AA8,">0"),) | AQ8: =IFERROR(SUM(AB8:AD8)/COUNTIF(AB8:AD8,">0"),) | AR8: =IFERROR(SUM(AE8:AG8)/COUNTIF(AE8:AG8,">0"),) | AS8: =IFERROR(SUM(AH8:AJ8)/COUNTIF(AH8:AJ8,">0"),)
A9: Angiotensinogen OS=Homo sapiens GN=AGT PE=1 SV=1 | B9: 5.85 | C9: 53439.43 | D9: 30150.59 | E9: P01019 | F9: 17 | G9: 59.18 | H9: 0 | I9: ANGT_HUMAN | J9: 1136971.7 | K9: 926696.67 | L9: 769679.67 | M9: 1000300.3 | N9: 1249099.3 | O9: 911435 | P9: 1280669.3 | Q9: 1328310.7 | R9: 1195539.7 | S9: 383999 | T9: 394854 | U9: 164612.67 | V9: 835024 | W9: 640340 | X9: 672995.33 | Y9: 654583.33 | Z9: 606951.33 | AA9: 410365.33 | AB9: 947875 | AC9: 1382096.7 | AD9: 935707.33 | AE9: 557375.33 | AF9: 568508 | AG9: 583703 | AH9: 850814 | AI9: 734067.33 | AJ9: 1166258.7 | AK9: =IFERROR(SUM(J9:L9)/COUNTIF(J9:L9,">0"),) | AL9: =IFERROR(SUM(M9:O9)/COUNTIF(M9:O9,">0"),) | AM9: =IFERROR(SUM(P9:R9)/COUNTIF(P9:R9,">0"),) | AN9: =IFERROR(SUM(S9:U9)/COUNTIF(S9:U9,">0"),) | AO9: =IFERROR(SUM(V9:X9)/COUNTIF(V9:X9,">0"),) | AP9: =IFERROR(SUM(Y9:AA9)/COUNTIF(Y9:AA9,">0"),) | AQ9: =IFERROR(SUM(AB9:AD9)/COUNTIF(AB9:AD9,">0"),) | AR9: =IFERROR(SUM(AE9:AG9)/COUNTIF(AE9:AG9,">0"),) | AS9: =IFERROR(SUM(AH9:AJ9)/COUNTIF(AH9:AJ9,">0"),)
A10: Serum amyloid P-component OS=Homo sapiens GN=APCS PE=1 SV=2 | B10: 6.1 | C10: 25501.207 | D10: 29716.23 | E10: P02743 | F10: 11 | G10: 52.47 | H10: 0 | I10: SAMP_HUMAN | J10: 848712 | K10: 736237 | L10: 703629.67 | M10: 776941.67 | N10: 647328.33 | O10: 954173.67 | P10: 960206 | Q10: 1145426.7 | R10: 998638 | S10: 239235 | T10: 265945 | U10: 57150.667 | V10: 667303.67 | W10: 662216.33 | X10: 651973.33 | Y10: 437451.67 | Z10: 579400.33 | AA10: 445170.67 | AB10: 740674.67 | AC10: 615067 | AD10: 401477 | AE10: 622207 | AF10: 503884 | AG10: 547523.33 | AH10: 485483.33 | AI10: 416491.33 | AJ10: 397414 | AK10: =IFERROR(SUM(J10:L10)/COUNTIF(J10:L10,">0"),) | AL10: =IFERROR(SUM(M10:O10)/COUNTIF(M10:O10,">0"),) | AM10: =IFERROR(SUM(P10:R10)/COUNTIF(P10:R10,">0"),) | AN10: =IFERROR(SUM(S10:U10)/COUNTIF(S10:U10,">0"),) | AO10: =IFERROR(SUM(V10:X10)/COUNTIF(V10:X10,">0"),) | AP10: =IFERROR(SUM(Y10:AA10)/COUNTIF(Y10:AA10,">0"),) | AQ10: =IFERROR(SUM(AB10:AD10)/COUNTIF(AB10:AD10,">0"),) | AR10: =IFERROR(SUM(AE10:AG10)/COUNTIF(AE10:AG10,">0"),) | AS10: =IFERROR(SUM(AH10:AJ10)/COUNTIF(AH10:AJ10,">0"),)
A11: Pigment epithelium-derived factor OS=Homo sapiens GN=SERPINF1 PE=1 SV=4 | B11: 5.94 | C11: 46483.345 | D11: 27961.16 | E11: P36955 | F11: 19 | G11: 61.48 | H11: 0 | I11: PEDF_HUMAN | J11: 526449.33 | K11: 520121.33 | L11: 430991 | M11: 415459.33 | N11: 353653.33 | O11: 363957.33 | P11: 427918.67 | Q11: 464804 | R11: 381144.67 | S11: 101590.67 | T11: 143644.33 | U11: 61203.333 | V11: 302957.67 | W11: 293622.33 | X11: 248329 | Y11: 480003 | Z11: 373145 | AA11: 294558.67 | AB11: 637150 | AC11: 421861.33 | AD11: 291297 | AE11: 189264 | AF11: 183781.33 | AG11: 224206 | AH11: 445432.33 | AI11: 306763.67 | AJ11: 390085.67 | AK11: =IFERROR(SUM(J11:L11)/COUNTIF(J11:L11,">0"),) | AL11: =IFERROR(SUM(M11:O11)/COUNTIF(M11:O11,">0"),) | AM11: =IFERROR(SUM(P11:R11)/COUNTIF(P11:R11,">0"),) | AN11: =IFERROR(SUM(S11:U11)/COUNTIF(S11:U11,">0"),) | AO11: =IFERROR(SUM(V11:X11)/COUNTIF(V11:X11,">0"),) | AP11: =IFERROR(SUM(Y11:AA11)/COUNTIF(Y11:AA11,">0"),) | AQ11: =IFERROR(SUM(AB11:AD11)/COUNTIF(AB11:AD11,">0"),) | AR11: =IFERROR(SUM(AE11:AG11)/COUNTIF(AE11:AG11,">0"),) | AS11: =IFERROR(SUM(AH11:AJ11)/COUNTIF(AH11:AJ11,">0"),)
A12: Alpha-1-antichymotrypsin OS=Homo sapiens GN=SERPINA3 PE=1 SV=2 | B12: 5.18 | C12: 47822.052 | D12: 25728.85 | E12: P01011 | F12: 17 | G12: 48.94 | H12: 0 | I12: AACT_HUMAN | J12: 7248.3333 | K12: 18019 | L12: 14655.333 | M12: 11360.333 | N12: 18679 | O12: 21941 | P12: 1413876 | Q12: 995563 | R12: 1424838.3 | S12: 70960 | T12: 228503.67 | U12: 37471.333 | V12: 15101 | W12: 46114 | X12: 15202.667 | Y12: 15318 | Z12: 15250.333 | AA12: 18721.667 | AB12: 755472.33 | AC12: 585969.33 | AD12: 472006.67 | AE12: 70927.667 | AF12: 74892.333 | AG12: 23911.667 | AH12: 81419 | AI12: 49743.333 | AJ12: 62496.667 | AK12: =IFERROR(SUM(J12:L12)/COUNTIF(J12:L12,">0"),) | AL12: =IFERROR(SUM(M12:O12)/COUNTIF(M12:O12,">0"),) | AM12: =IFERROR(SUM(P12:R12)/COUNTIF(P12:R12,">0"),) | AN12: =IFERROR(SUM(S12:U12)/COUNTIF(S12:U12,">0"),) | AO12: =IFERROR(SUM(V12:X12)/COUNTIF(V12:X12,">0"),) | AP12: =IFERROR(SUM(Y12:AA12)/COUNTIF(Y12:AA12,">0"),) | AQ12: =IFERROR(SUM(AB12:AD12)/COUNTIF(AB12:AD12,">0"),) | AR12: =IFERROR(SUM(AE12:AG12)/COUNTIF(AE12:AG12,">0"),) | AS12: =IFERROR(SUM(AH12:AJ12)/COUNTIF(AH12:AJ12,">0"),)
A13: N-acetylmuramoyl-L-alanine amidase OS=Homo sapiens GN=PGLYRP2 PE=1 SV=1 | B13: 7.27 | C13: 62787.372 | D13: 25346.68 | E13: Q96PD5 | F13: 19 | G13: 61.46 | H13: 0 | I13: PGRP2_HUMAN | J13: 423885.67 | K13: 257526.33 | L13: 234383.67 | M13: 234621 | N13: 116122.33 | O13: 173022.67 | P13: 182166.33 | Q13: 137066.33 | R13: 123345.67 | S13: 191518.67 | T13: 171685.33 | U13: 66574 | V13: 227660 | W13: 160463 | X13: 164564 | Y13: 251923.33 | Z13: 165368 | AA13: 161752.67 | AB13: 43582 | AC13: 33022.333 | AD13: 45404.333 | AE13: 100669 | AF13: 77735 | AG13: 153086.33 | AH13: 73673 | AI13: 41835.333 | AJ13: 91010 | AK13: =IFERROR(SUM(J13:L13)/COUNTIF(J13:L13,">0"),) | AL13: =IFERROR(SUM(M13:O13)/COUNTIF(M13:O13,">0"),) | AM13: =IFERROR(SUM(P13:R13)/COUNTIF(P13:R13,">0"),) | AN13: =IFERROR(SUM(S13:U13)/COUNTIF(S13:U13,">0"),) | AO13: =IFERROR(SUM(V13:X13)/COUNTIF(V13:X13,">0"),) | AP13: =IFERROR(SUM(Y13:AA13)/COUNTIF(Y13:AA13,">0"),) | AQ13: =IFERROR(SUM(AB13:AD13)/COUNTIF(AB13:AD13,">0"),) | AR13: =IFERROR(SUM(AE13:AG13)/COUNTIF(AE13:AG13,">0"),) | AS13: =IFERROR(SUM(AH13:AJ13)/COUNTIF(AH13:AJ13,">0"),)
A14: Lumican OS=Homo sapiens GN=LUM PE=1 SV=2 | B14: 6.16 | C14: 38771.222 | D14: 23262.68 | E14: P51884 | F14: 14 | G14: 56.8 | H14: 0 | I14: LUM_HUMAN | J14: 522158 | K14: 503970.67 | L14: 353945 | M14: 489555.33 | N14: 398309 | O14: 419900 | P14: 297101 | Q14: 297404 | R14: 234341 | S14: 17605 | T14: 14112.5 | V14: 333528 | W14: 325938.33 | X14: 217631 | Y14: 278231.33 | Z14: 280364.33 | AA14: 199085.67 | AB14: 149889.67 | AC14: 162448.67 | AD14: 82309.333 | AE14: 275057.33 | AF14: 215590 | AG14: 248289.33 | AH14: 355933 | AI14: 256669.33 | AJ14: 335522.33 | AK14: =IFERROR(SUM(J14:L14)/COUNTIF(J14:L14,">0"),) | AL14: =IFERROR(SUM(M14:O14)/COUNTIF(M14:O14,">0"),) | AM14: =IFERROR(SUM(P14:R14)/COUNTIF(P14:R14,">0"),) | AN14: =IFERROR(SUM(S14:U14)/COUNTIF(S14:U14,">0"),) | AO14: =IFERROR(SUM(V14:X14)/COUNTIF(V14:X14,">0"),) | AP14: =IFERROR(SUM(Y14:AA14)/COUNTIF(Y14:AA14,">0"),) | AQ14: =IFERROR(SUM(AB14:AD14)/COUNTIF(AB14:AD14,">0"),) | AR14: =IFERROR(SUM(AE14:AG14)/COUNTIF(AE14:AG14,">0"),) | AS14: =IFERROR(SUM(AH14:AJ14)/COUNTIF(AH14:AJ14,">0"),)
A15: Serum amyloid A-1 protein OS=Homo sapiens GN=SAA1 PE=1 SV=1 | B15: 6.35 | C15: 13589.072 | D15: 21597.63 | E15: P0DJI8 | F15: 4 | G15: 47.54 | H15: 0 | I15: SAA1_HUMAN | L15: 7279 | V15: 16926 | Y15: 9787 | AB15: 2281.5 | AC15: 2099.5 | AD15: 2436 | AG15: 4448 | AH15: 83541.538 | AI15: 26260.393 | AJ15: 68118.037 | AK15: =IFERROR(SUM(J15:L15)/COUNTIF(J15:L15,">0"),) | AL15: =IFERROR(SUM(M15:O15)/COUNTIF(M15:O15,">0"),) | AM15: =IFERROR(SUM(P15:R15)/COUNTIF(P15:R15,">0"),) | AN15: =IFERROR(SUM(S15:U15)/COUNTIF(S15:U15,">0"),) | AO15: =IFERROR(SUM(V15:X15)/COUNTIF(V15:X15,">0"),) | AP15: =IFERROR(SUM(Y15:AA15)/COUNTIF(Y15:AA15,">0"),) | AQ15: =IFERROR(SUM(AB15:AD15)/COUNTIF(AB15:AD15,">0"),) | AR15: =IFERROR(SUM(AE15:AG15)/COUNTIF(AE15:AG15,">0"),) | AS15: =IFERROR(SUM(AH15:AJ15)/COUNTIF(AH15:AJ15,">0"),)
A16: Sex hormone-binding globulin OS=Homo sapiens GN=SHBG PE=1 SV=2 | B16: 6.24 | C16: 44007.38 | D16: 19685.25 | E16: P04278 | F16: 18 | G16: 90.8 | H16: 0 | I16: SHBG_HUMAN | J16: 123283.67 | K16: 101132.33 | L16: 84266.667 | M16: 53495 | N16: 39175.667 | O16: 39167 | P16: 163905.33 | Q16: 127203.67 | R16: 116459.33 | S16: 30261.667 | T16: 20340 | U16: 11377 | V16: 55640.333 | W16: 47135.667 | X16: 45926.333 | Y16: 182614.67 | Z16: 152805 | AA16: 123365.67 | AB16: 22541.667 | AC16: 20191 | AD16: 26370 | AE16: 40480 | AF16: 31568.333 | AG16: 45649.667 | AH16: 89020.333 | AI16: 50961.333 | AJ16: 85515 | AK16: =IFERROR(SUM(J16:L16)/COUNTIF(J16:L16,">0"),) | AL16: =IFERROR(SUM(M16:O16)/COUNTIF(M16:O16,">0"),) | AM16: =IFERROR(SUM(P16:R16)/COUNTIF(P16:R16,">0"),) | AN16: =IFERROR(SUM(S16:U16)/COUNTIF(S16:U16,">0"),) | AO16: =IFERROR(SUM(V16:X16)/COUNTIF(V16:X16,">0"),) | AP16: =IFERROR(SUM(Y16:AA16)/COUNTIF(Y16:AA16,">0"),) | AQ16: =IFERROR(SUM(AB16:AD16)/COUNTIF(AB16:AD16,">0"),) | AR16: =IFERROR(SUM(AE16:AG16)/COUNTIF(AE16:AG16,">0"),) | AS16: =IFERROR(SUM(AH16:AJ16)/COUNTIF(AH16:AJ16,">0"),)
A17: Insulin-like growth factor-binding protein complex acid labile subunit OS=Homo sapiens GN=IGFALS PE=1 SV=1 | B17: 6.33 | C17: 66776.411 | D17: 19304.69 | E17: P35858 | F17: 24 | G17: 54.71 | H17: 0 | I17: ALS_HUMAN | J17: 389020.33 | K17: 365404 | L17: 251439.33 | M17: 328841 | N17: 320968 | O17: 263197.33 | P17: 286410.33 | Q17: 226245.67 | R17: 223946.67 | S17: 50412.333 | T17: 34892 | U17: 10434.333 | V17: 140874.33 | W17: 143651.67 | X17: 99335.667 | Y17: 159892.33 | Z17: 117736.67 | AA17: 90569.333 | AB17: 46267.333 | AC17: 40334 | AD17: 34348.667 | AE17: 80345.667 | AF17: 60094 | AG17: 71398.333 | AH17: 54447.333 | AI17: 58852 | AJ17: 75811 | AK17: =IFERROR(SUM(J17:L17)/COUNTIF(J17:L17,">0"),) | AL17: =IFERROR(SUM(M17:O17)/COUNTIF(M17:O17,">0"),) | AM17: =IFERROR(SUM(P17:R17)/COUNTIF(P17:R17,">0"),) | AN17: =IFERROR(SUM(S17:U17)/COUNTIF(S17:U17,">0"),) | AO17: =IFERROR(SUM(V17:X17)/COUNTIF(V17:X17,">0"),) | AP17: =IFERROR(SUM(Y17:AA17)/COUNTIF(Y17:AA17,">0"),) | AQ17: =IFERROR(SUM(AB17:AD17)/COUNTIF(AB17:AD17,">0"),) | AR17: =IFERROR(SUM(AE17:AG17)/COUNTIF(AE17:AG17,">0"),) | AS17: =IFERROR(SUM(AH17:AJ17)/COUNTIF(AH17:AJ17,">0"),)
A18: Apolipoprotein B-100 OS=Homo sapiens GN=APOB PE=1 SV=2 | B18: 6.58 | C18: 516974.08 | D18: 18926.21 | E18: P04114 | F18: 256 | G18: 75.94 | H18: 0 | I18: APOB_HUMAN | J18: 386319.67 | K18: 429008 | L18: 345161.33 | M18: 282205.33 | N18: 273323.67 | O18: 278696.67 | P18: 432488.33 | Q18: 390957 | R18: 256714 | S18: 308693 | T18: 271038 | U18: 144719.67 | V18: 714394.33 | W18: 584882.67 | X18: 481307.33 | Y18: 229544.33 | Z18: 155586 | AA18: 118298 | AB18: 294079.33 | AC18: 105585.67 | AD18: 92515 | AE18: 187864.67 | AF18: 157487.67 | AG18: 209238.67 | AH18: 198235.67 | AI18: 144285.33 | AJ18: 171258.67 | AK18: =IFERROR(SUM(J18:L18)/COUNTIF(J18:L18,">0"),) | AL18: =IFERROR(SUM(M18:O18)/COUNTIF(M18:O18,">0"),) | AM18: =IFERROR(SUM(P18:R18)/COUNTIF(P18:R18,">0"),) | AN18: =IFERROR(SUM(S18:U18)/COUNTIF(S18:U18,">0"),) | AO18: =IFERROR(SUM(V18:X18)/COUNTIF(V18:X18,">0"),) | AP18: =IFERROR(SUM(Y18:AA18)/COUNTIF(Y18:AA18,">0"),) | AQ18: =IFERROR(SUM(AB18:AD18)/COUNTIF(AB18:AD18,">0"),) | AR18: =IFERROR(SUM(AE18:AG18)/COUNTIF(AE18:AG18,">0"),) | AS18: =IFERROR(SUM(AH18:AJ18)/COUNTIF(AH18:AJ18,">0"),)
A19: Complement component C9 OS=Homo sapiens GN=C9 PE=1 SV=2 | B19: 5.27 | C19: 64656.174 | D19: 17249.09 | E19: P02748 | F19: 31 | G19: 74.78 | H19: 0 | I19: CO9_HUMAN | J19: 274862 | K19: 284476.33 | L19: 243147 | M19: 104957 | N19: 111946.33 | O19: 101703.33 | P19: 395365 | Q19: 519035.33 | R19: 466031.33 | S19: 104079.33 | T19: 111509.33 | U19: 48405 | V19: 112582 | W19: 111379 | X19: 81880.333 | Y19: 220813.67 | Z19: 215136.67 | AA19: 187409.33 | AB19: 229626.67 | AC19: 198577 | AD19: 158876.67 | AE19: 403043 | AF19: 326133 | AG19: 347800.67 | AH19: 309274 | AI19: 221322.33 | AJ19: 288233.67 | AK19: =IFERROR(SUM(J19:L19)/COUNTIF(J19:L19,">0"),) | AL19: =IFERROR(SUM(M19:O19)/COUNTIF(M19:O19,">0"),) | AM19: =IFERROR(SUM(P19:R19)/COUNTIF(P19:R19,">0"),) | AN19: =IFERROR(SUM(S19:U19)/COUNTIF(S19:U19,">0"),) | AO19: =IFERROR(SUM(V19:X19)/COUNTIF(V19:X19,">0"),) | AP19: =IFERROR(SUM(Y19:AA19)/COUNTIF(Y19:AA19,">0"),) | AQ19: =IFERROR(SUM(AB19:AD19)/COUNTIF(AB19:AD19,">0"),) | AR19: =IFERROR(SUM(AE19:AG19)/COUNTIF(AE19:AG19,">0"),) | AS19: =IFERROR(SUM(AH19:AJ19)/COUNTIF(AH19:AJ19,">0"),)
A20: Apolipoprotein E OS=Homo sapiens GN=APOE PE=1 SV=1 | B20: 5.48 | C20: 36268.203 | D20: 16882.13 | E20: P02649 | F20: 20 | G20: 79.81 | H20: 0 | I20: APOE_HUMAN | J20: 58824.667 | K20: 52106.667 | L20: 41960.333 | M20: 47958.333 | N20: 42641 | O20: 35845 | P20: 76690.333 | Q20: 69312 | R20: 48238.667 | S20: 37720.333 | T20: 44142.333 | U20: 19914 | V20: 126882 | W20: 116342 | X20: 94684.333 | Y20: 47722.333 | Z20: 44460.333 | AA20: 37541.333 | AB20: 72713.667 | AC20: 47080.333 | AD20: 42391.333 | AE20: 36821 | AF20: 22216.333 | AG20: 23075 | AH20: 110386 | AI20: 80831.667 | AJ20: 124047.67 | AK20: =IFERROR(SUM(J20:L20)/COUNTIF(J20:L20,">0"),) | AL20: =IFERROR(SUM(M20:O20)/COUNTIF(M20:O20,">0"),) | AM20: =IFERROR(SUM(P20:R20)/COUNTIF(P20:R20,">0"),) | AN20: =IFERROR(SUM(S20:U20)/COUNTIF(S20:U20,">0"),) | AO20: =IFERROR(SUM(V20:X20)/COUNTIF(V20:X20,">0"),) | AP20: =IFERROR(SUM(Y20:AA20)/COUNTIF(Y20:AA20,">0"),) | AQ20: =IFERROR(SUM(AB20:AD20)/COUNTIF(AB20:AD20,">0"),) | AR20: =IFERROR(SUM(AE20:AG20)/COUNTIF(AE20:AG20,">0"),) | AS20: =IFERROR(SUM(AH20:AJ20)/COUNTIF(AH20:AJ20,">0"),)
A21: Tetranectin OS=Homo sapiens GN=CLEC3B PE=1 SV=3 | B21: 5.37 | C21: 22936.045 | D21: 16258.08 | E21: P05452 | F21: 9 | G21: 76.24 | H21: 0 | I21: TETN_HUMAN | J21: 235797 | K21: 228206.67 | L21: 190404.33 | M21: 153293.33 | N21: 107563.67 | O21: 126805.67 | P21: 134201 | Q21: 84820.667 | R21: 110958 | S21: 21926.333 | T21: 2741 | V21: 192181.67 | W21: 132483 | X21: 97161 | Y21: 113241.67 | Z21: 103352.67 | AA21: 118117 | AB21: 24453 | AC21: 18636 | AD21: 9237.5 | AE21: 71185 | AF21: 60949 | AG21: 92688 | AH21: 58248.333 | AI21: 68280.5 | AJ21: 62057 | AK21: =IFERROR(SUM(J21:L21)/COUNTIF(J21:L21,">0"),) | AL21: =IFERROR(SUM(M21:O21)/COUNTIF(M21:O21,">0"),) | AM21: =IFERROR(SUM(P21:R21)/COUNTIF(P21:R21,">0"),) | AN21: =IFERROR(SUM(S21:U21)/COUNTIF(S21:U21,">0"),) | AO21: =IFERROR(SUM(V21:X21)/COUNTIF(V21:X21,">0"),) | AP21: =IFERROR(SUM(Y21:AA21)/COUNTIF(Y21:AA21,">0"),) | AQ21: =IFERROR(SUM(AB21:AD21)/COUNTIF(AB21:AD21,">0"),) | AR21: =IFERROR(SUM(AE21:AG21)/COUNTIF(AE21:AG21,">0"),) | AS21: =IFERROR(SUM(AH21:AJ21)/COUNTIF(AH21:AJ21,">0"),)
A22: Heparin cofactor 2 OS=Homo sapiens GN=SERPIND1 PE=1 SV=3 | B22: 6.43 | C22: 57241.828 | D22: 15969.21 | E22: P05546 | F22: 28 | G22: 79.16 | H22: 0 | I22: HEP2_HUMAN | J22: 425291.33 | K22: 637289 | L22: 435447.33 | M22: 371661 | N22: 404052.67 | O22: 451248.67 | P22: 353972.67 | Q22: 291685.67 | R22: 318746 | S22: 150847 | T22: 159715.33 | U22: 114193.67 | V22: 510306.33 | W22: 579225.33 | X22: 708436.33 | Y22: 254358.67 | Z22: 232041 | AA22: 218070.33 | AB22: 47421 | AC22: 34862 | AD22: 31896.333 | AE22: 318483.33 | AF22: 279978 | AG22: 261534.33 | AH22: 253170.33 | AI22: 198933 | AJ22: 202364.33 | AK22: =IFERROR(SUM(J22:L22)/COUNTIF(J22:L22,">0"),) | AL22: =IFERROR(SUM(M22:O22)/COUNTIF(M22:O22,">0"),) | AM22: =IFERROR(SUM(P22:R22)/COUNTIF(P22:R22,">0"),) | AN22: =IFERROR(SUM(S22:U22)/COUNTIF(S22:U22,">0"),) | AO22: =IFERROR(SUM(V22:X22)/COUNTIF(V22:X22,">0"),) | AP22: =IFERROR(SUM(Y22:AA22)/COUNTIF(Y22:AA22,">0"),) | AQ22: =IFERROR(SUM(AB22:AD22)/COUNTIF(AB22:AD22,">0"),) | AR22: =IFERROR(SUM(AE22:AG22)/COUNTIF(AE22:AG22,">0"),) | AS22: =IFERROR(SUM(AH22:AJ22)/COUNTIF(AH22:AJ22,">0"),)
A23: C-reactive protein OS=Homo sapiens GN=CRP PE=1 SV=1 | B23: 5.31 | C23: 25209.685 | D23: 14806.04 | E23: P02741 | F23: 6 | G23: 27.68 | H23: 0 | I23: CRP_HUMAN | J23: 10871 | K23: 8014.3333 | L23: 10480.333 | M23: 19202 | N23: 4230 | O23: 11756.333 | P23: 567584.33 | Q23: 481040.33 | R23: 479123.67 | S23: 15511.667 | T23: 24182.667 | U23: 16138 | V23: 61952.667 | W23: 49040 | X23: 48966.333 | Y23: 8609 | Z23: 15765 | AA23: 7688.5 | AB23: 542308.67 | AC23: 181179.33 | AD23: 452804 | AE23: 178207.67 | AF23: 126036 | AG23: 179853 | AH23: 1477735.3 | AI23: 893081.33 | AJ23: 1480047.3 | AK23: =IFERROR(SUM(J23:L23)/COUNTIF(J23:L23,">0"),) | AL23: =IFERROR(SUM(M23:O23)/COUNTIF(M23:O23,">0"),) | AM23: =IFERROR(SUM(P23:R23)/COUNTIF(P23:R23,">0"),) | AN23: =IFERROR(SUM(S23:U23)/COUNTIF(S23:U23,">0"),) | AO23: =IFERROR(SUM(V23:X23)/COUNTIF(V23:X23,">0"),) | AP23: =IFERROR(SUM(Y23:AA23)/COUNTIF(Y23:AA23,">0"),) | AQ23: =IFERROR(SUM(AB23:AD23)/COUNTIF(AB23:AD23,">0"),) | AR23: =IFERROR(SUM(AE23:AG23)/COUNTIF(AE23:AG23,">0"),) | AS23: =IFERROR(SUM(AH23:AJ23)/COUNTIF(AH23:AJ23,">0"),)
A24: Platelet basic protein OS=Homo sapiens GN=PPBP PE=1 SV=3 | B24: 9.07 | C24: 14179.376 | D24: 14631.34 | E24: P02775 | F24: 6 | G24: 82.81 | H24: 0 | I24: CXCL7_HUMAN | J24: 88137.667 | K24: 45100 | L24: 57140 | M24: 29145 | N24: 15858 | O24: 14900.667 | P24: 68696 | Q24: 58754.667 | R24: 67760.667 | S24: 7840 | T24: 12889 | V24: 154615.33 | W24: 142543.33 | X24: 154998.67 | Y24: 64565.667 | Z24: 34192 | AA24: 74147 | AB24: 147251 | AC24: 134919.67 | AD24: 138639.33 | AE24: 56400.333 | AF24: 53734.333 | AG24: 25756.667 | AH24: 21211.333 | AI24: 2792 | AJ24: 26021.5 | AK24: =IFERROR(SUM(J24:L24)/COUNTIF(J24:L24,">0"),) | AL24: =IFERROR(SUM(M24:O24)/COUNTIF(M24:O24,">0"),) | AM24: =IFERROR(SUM(P24:R24)/COUNTIF(P24:R24,">0"),) | AN24: =IFERROR(SUM(S24:U24)/COUNTIF(S24:U24,">0"),) | AO24: =IFERROR(SUM(V24:X24)/COUNTIF(V24:X24,">0"),) | AP24: =IFERROR(SUM(Y24:AA24)/COUNTIF(Y24:AA24,">0"),) | AQ24: =IFERROR(SUM(AB24:AD24)/COUNTIF(AB24:AD24,">0"),) | AR24: =IFERROR(SUM(AE24:AG24)/COUNTIF(AE24:AG24,">0"),) | AS24: =IFERROR(SUM(AH24:AJ24)/COUNTIF(AH24:AJ24,">0"),)
A25: Clusterin OS=Homo sapiens GN=CLU PE=1 SV=1 | B25: 5.84 | C25: 53064.968 | D25: 13741.51 | E25: P10909 | F25: 16 | G25: 59.91 | H25: 0 | I25: CLUS_HUMAN | J25: 171812.33 | K25: 155081.67 | L25: 138623.33 | M25: 199581.67 | N25: 167820.33 | O25: 153859.33 | P25: 183721 | Q25: 157363 | R25: 112276 | S25: 3867 | T25: 8130 | V25: 269722.33 | W25: 257942.33 | X25: 185842.33 | Y25: 108750.67 | Z25: 106869.67 | AA25: 76739.667 | AB25: 131498 | AC25: 90093 | AD25: 68584.667 | AE25: 238264 | AF25: 193071 | AG25: 250756.67 | AH25: 188702 | AI25: 141171.67 | AJ25: 178612.67 | AK25: =IFERROR(SUM(J25:L25)/COUNTIF(J25:L25,">0"),) | AL25: =IFERROR(SUM(M25:O25)/COUNTIF(M25:O25,">0"),) | AM25: =IFERROR(SUM(P25:R25)/COUNTIF(P25:R25,">0"),) | AN25: =IFERROR(SUM(S25:U25)/COUNTIF(S25:U25,">0"),) | AO25: =IFERROR(SUM(V25:X25)/COUNTIF(V25:X25,">0"),) | AP25: =IFERROR(SUM(Y25:AA25)/COUNTIF(Y25:AA25,">0"),) | AQ25: =IFERROR(SUM(AB25:AD25)/COUNTIF(AB25:AD25,">0"),) | AR25: =IFERROR(SUM(AE25:AG25)/COUNTIF(AE25:AG25,">0"),) | AS25: =IFERROR(SUM(AH25:AJ25)/COUNTIF(AH25:AJ25,">0"),)
A26: Complement C2 OS=Homo sapiens GN=C2 PE=1 SV=2 | B26: 7.12 | C26: 84636.647 | D26: 12086.97 | E26: P06681 | F26: 40 | G26: 75.53 | H26: 0 | I26: CO2_HUMAN | J26: 206809.33 | K26: 220585.33 | L26: 206876.67 | M26: 209915 | N26: 197809.33 | O26: 203147 | P26: 260811.67 | Q26: 243854 | R26: 241437.33 | S26: 83773.333 | T26: 88889.333 | U26: 68534.333 | V26: 125801 | W26: 120727.67 | X26: 111656.33 | Y26: 194291 | Z26: 152795.33 | AA26: 149514 | AB26: 205164.33 | AC26: 185337 | AD26: 168194.33 | AE26: 137915.67 | AF26: 119873.33 | AG26: 118323 | AH26: 215352.33 | AI26: 158373 | AJ26: 182438.33 | AK26: =IFERROR(SUM(J26:L26)/COUNTIF(J26:L26,">0"),) | AL26: =IFERROR(SUM(M26:O26)/COUNTIF(M26:O26,">0"),) | AM26: =IFERROR(SUM(P26:R26)/COUNTIF(P26:R26,">0"),) | AN26: =IFERROR(SUM(S26:U26)/COUNTIF(S26:U26,">0"),) | AO26: =IFERROR(SUM(V26:X26)/COUNTIF(V26:X26,">0"),) | AP26: =IFERROR(SUM(Y26:AA26)/COUNTIF(Y26:AA26,">0"),) | AQ26: =IFERROR(SUM(AB26:AD26)/COUNTIF(AB26:AD26,">0"),) | AR26: =IFERROR(SUM(AE26:AG26)/COUNTIF(AE26:AG26,">0"),) | AS26: =IFERROR(SUM(AH26:AJ26)/COUNTIF(AH26:AJ26,">0"),)
A27: Contaminant, Enolase 1 OS=Saccharomyces cerevisiae GN=ENO1 PE=1 SV=2 | B27: 6.15 | C27: 47332.678 | D27: 12075.52 | E27: P00924 | F27: 18 | G27: 68.71 | H27: 0 | I27: ENO1_YEAST_CONTA | J27: 142137.67 | K27: 133207.67 | L27: 93598.67 | M27: 85221.667 | N27: 71045.326 | O27: 62698.188 | P27: 106038.67 | Q27: 105427.67 | R27: 111167.32 | S27: 76605.772 | T27: 114959.03 | U27: 55450.667 | V27: 79341.428 | W27: 126709 | X27: 69742.428 | Y27: 86049.667 | Z27: 73967 | AA27: 63022.299 | AB27: 166560.94 | AC27: 146551.06 | AD27: 97982.206 | AE27: 114463.09 | AF27: 112689.32 | AG27: 138257 | AH27: 67915.333 | AI27: 53657.333 | AJ27: 52538.724 | AK27: =IFERROR(SUM(J27:L27)/COUNTIF(J27:L27,">0"),) | AL27: =IFERROR(SUM(M27:O27)/COUNTIF(M27:O27,">0"),) | AM27: =IFERROR(SUM(P27:R27)/COUNTIF(P27:R27,">0"),) | AN27: =IFERROR(SUM(S27:U27)/COUNTIF(S27:U27,">0"),) | AO27: =IFERROR(SUM(V27:X27)/COUNTIF(V27:X27,">0"),) | AP27: =IFERROR(SUM(Y27:AA27)/COUNTIF(Y27:AA27,">0"),) | AQ27: =IFERROR(SUM(AB27:AD27)/COUNTIF(AB27:AD27,">0"),) | AR27: =IFERROR(SUM(AE27:AG27)/COUNTIF(AE27:AG27,">0"),) | AS27: =IFERROR(SUM(AH27:AJ27)/COUNTIF(AH27:AJ27,">0"),)
A28: Immunoglobulin lambda constant 1 OS=Homo sapiens GN=IGLC1 PE=1 SV=1 | B28: 7.99 | C28: 11518.75 | D28: 11678.57 | E28: P0CG04 | F28: 4 | G28: 56.6 | H28: 0 | I28: IGLC1_HUMAN | J28: 5716.2638 | K28: 4571.1523 | L28: 2479.8244 | M28: 3051.6667 | N28: 1554 | O28: 2902.25 | V28: 1013 | W28: 5157 | X28: 4897 | Y28: 5252 | Z28: 4345.5 | AA28: 4732.3333 | AE28: 8083.9978 | AF28: 6387.3317 | AG28: 7309.8669 | AK28: =IFERROR(SUM(J28:L28)/COUNTIF(J28:L28,">0"),) | AL28: =IFERROR(SUM(M28:O28)/COUNTIF(M28:O28,">0"),) | AM28: =IFERROR(SUM(P28:R28)/COUNTIF(P28:R28,">0"),) | AN28: =IFERROR(SUM(S28:U28)/COUNTIF(S28:U28,">0"),) | AO28: =IFERROR(SUM(V28:X28)/COUNTIF(V28:X28,">0"),) | AP28: =IFERROR(SUM(Y28:AA28)/COUNTIF(Y28:AA28,">0"),) | AQ28: =IFERROR(SUM(AB28:AD28)/COUNTIF(AB28:AD28,">0"),) | AR28: =IFERROR(SUM(AE28:AG28)/COUNTIF(AE28:AG28,">0"),) | AS28: =IFERROR(SUM(AH28:AJ28)/COUNTIF(AH28:AJ28,">0"),)
A29: Immunoglobulin lambda constant 2 OS=Homo sapiens GN=IGLC2 PE=1 SV=1 | B29: 7.07 | C29: 11464.655 | D29: 11678.57 | E29: P0DOY2 | F29: 5 | G29: 66.04 | H29: 0 | I29: IGLC2_HUMAN | J29: 37987.235 | K29: 20373.565 | L29: 17148.45 | M29: 3051.6667 | N29: 1554 | O29: 2902.25 | P29: 6143 | Q29: 6155.6667 | R29: 2301 | V29: 1013 | W29: 5157 | X29: 4897 | Y29: 5252 | Z29: 4345.5 | AA29: 4732.3333 | AD29: 2263.5 | AE29: 55670.667 | AF29: 29745.112 | AG29: 49025.133 | AH29: 22330 | AI29: 3704.5 | AJ29: 6982 | AK29: =IFERROR(SUM(J29:L29)/COUNTIF(J29:L29,">0"),) | AL29: =IFERROR(SUM(M29:O29)/COUNTIF(M29:O29,">0"),) | AM29: =IFERROR(SUM(P29:R29)/COUNTIF(P29:R29,">0"),) | AN29: =IFERROR(SUM(S29:U29)/COUNTIF(S29:U29,">0"),) | AO29: =IFERROR(SUM(V29:X29)/COUNTIF(V29:X29,">0"),) | AP29: =IFERROR(SUM(Y29:AA29)/COUNTIF(Y29:AA29,">0"),) | AQ29: =IFERROR(SUM(AB29:AD29)/COUNTIF(AB29:AD29,">0"),) | AR29: =IFERROR(SUM(AE29:AG29)/COUNTIF(AE29:AG29,">0"),) | AS29: =IFERROR(SUM(AH29:AJ29)/COUNTIF(AH29:AJ29,">0"),)
A30: Complement C1r subcomponent OS=Homo sapiens GN=C1R PE=1 SV=2 | B30: 5.77 | C30: 81658.408 | D30: 11089.25 | E30: P00736 | F30: 33 | G30: 67.66 | H30: 0 | I30: C1R_HUMAN | J30: 228691.67 | K30: 168050.67 | L30: 179667 | M30: 172828.67 | N30: 132416.67 | O30: 162562.67 | P30: 172056.67 | Q30: 189720 | R30: 186055.33 | S30: 33496.667 | T30: 34566.333 | U30: 51279.667 | V30: 146074.67 | W30: 114582.67 | X30: 137799.33 | Y30: 175616.67 | Z30: 206664.33 | AA30: 126190 | AB30: 39825 | AC30: 63895.667 | AD30: 46289.667 | AE30: 101541 | AF30: 98385.333 | AG30: 115160.67 | AH30: 48184 | AI30: 73618.333 | AJ30: 53130 | AK30: =IFERROR(SUM(J30:L30)/COUNTIF(J30:L30,">0"),) | AL30: =IFERROR(SUM(M30:O30)/COUNTIF(M30:O30,">0"),) | AM30: =IFERROR(SUM(P30:R30)/COUNTIF(P30:R30,">0"),) | AN30: =IFERROR(SUM(S30:U30)/COUNTIF(S30:U30,">0"),) | AO30: =IFERROR(SUM(V30:X30)/COUNTIF(V30:X30,">0"),) | AP30: =IFERROR(SUM(Y30:AA30)/COUNTIF(Y30:AA30,">0"),) | AQ30: =IFERROR(SUM(AB30:AD30)/COUNTIF(AB30:AD30,">0"),) | AR30: =IFERROR(SUM(AE30:AG30)/COUNTIF(AE30:AG30,">0"),) | AS30: =IFERROR(SUM(AH30:AJ30)/COUNTIF(AH30:AJ30,">0"),)
A31: Mannose-binding protein C OS=Homo sapiens GN=MBL2 PE=1 SV=2 | B31: 5.21 | C31: 26542.761 | D31: 10831.38 | E31: P11226 | F31: 10 | G31: 65.73 | H31: 0 | I31: MBL2_HUMAN | J31: 145420 | K31: 137407 | L31: 103001.67 | M31: 72867.667 | N31: 61593.333 | O31: 58886.333 | P31: 40188 | Q31: 34872.667 | R31: 41340.667 | U31: 5074.5 | V31: 13186.333 | W31: 11145.667 | X31: 9458 | Y31: 67103 | Z31: 64508.667 | AA31: 53051.333 | AB31: 38688 | AC31: 34293 | AD31: 14860.667 | AE31: 60325.667 | AF31: 53336.667 | AG31: 70413 | AH31: 93398.333 | AI31: 71324.667 | AJ31: 100269.33 | AK31: =IFERROR(SUM(J31:L31)/COUNTIF(J31:L31,">0"),) | AL31: =IFERROR(SUM(M31:O31)/COUNTIF(M31:O31,">0"),) | AM31: =IFERROR(SUM(P31:R31)/COUNTIF(P31:R31,">0"),) | AN31: =IFERROR(SUM(S31:U31)/COUNTIF(S31:U31,">0"),) | AO31: =IFERROR(SUM(V31:X31)/COUNTIF(V31:X31,">0"),) | AP31: =IFERROR(SUM(Y31:AA31)/COUNTIF(Y31:AA31,">0"),) | AQ31: =IFERROR(SUM(AB31:AD31)/COUNTIF(AB31:AD31,">0"),) | AR31: =IFERROR(SUM(AE31:AG31)/COUNTIF(AE31:AG31,">0"),) | AS31: =IFERROR(SUM(AH31:AJ31)/COUNTIF(AH31:AJ31,">0"),)
A32: Thyroxine-binding globulin OS=Homo sapiens GN=SERPINA7 PE=1 SV=2 | B32: 5.85 | C32: 46666.777 | D32: 10485.84 | E32: P05543 | F32: 19 | G32: 61.2 | H32: 0 | I32: THBG_HUMAN | J32: 260390 | K32: 255110.33 | L32: 254215.67 | M32: 305772.33 | N32: 363672.33 | O32: 328576.33 | P32: 368404.67 | Q32: 368182.33 | R32: 405095 | S32: 47014.667 | T32: 47466.333 | U32: 36131.333 | V32: 197948 | W32: 133023 | X32: 118969.67 | Y32: 206234 | Z32: 186520 | AA32: 151061.33 | AB32: 284229.33 | AC32: 214508.67 | AD32: 192893.33 | AE32: 106811 | AF32: 117569 | AG32: 162017.33 | AH32: 250090.33 | AI32: 279026 | AJ32: 399503 | AK32: =IFERROR(SUM(J32:L32)/COUNTIF(J32:L32,">0"),) | AL32: =IFERROR(SUM(M32:O32)/COUNTIF(M32:O32,">0"),) | AM32: =IFERROR(SUM(P32:R32)/COUNTIF(P32:R32,">0"),) | AN32: =IFERROR(SUM(S32:U32)/COUNTIF(S32:U32,">0"),) | AO32: =IFERROR(SUM(V32:X32)/COUNTIF(V32:X32,">0"),) | AP32: =IFERROR(SUM(Y32:AA32)/COUNTIF(Y32:AA32,">0"),) | AQ32: =IFERROR(SUM(AB32:AD32)/COUNTIF(AB32:AD32,">0"),) | AR32: =IFERROR(SUM(AE32:AG32)/COUNTIF(AE32:AG32,">0"),) | AS32: =IFERROR(SUM(AH32:AJ32)/COUNTIF(AH32:AJ32,">0"),)
A33: Protein AMBP OS=Homo sapiens GN=AMBP PE=1 SV=1 | B33: 5.87 | C33: 39911.993 | D33: 10437.61 | E33: P02760 | F33: 9 | G33: 46.02 | H33: 0 | I33: AMBP_HUMAN | J33: 51083.333 | K33: 49716.667 | L33: 25924.333 | M33: 59527.667 | N33: 38754.5 | O33: 34829 | P33: 37874.333 | Q33: 44959.333 | R33: 35379.667 | T33: 40906 | V33: 35483 | W33: 21221.667 | X33: 28204.667 | Y33: 32513 | Z33: 23597 | AA33: 34816.333 | AB33: 155083 | AD33: 171980.67 | AE33: 35377.333 | AF33: 41143.667 | AG33: 79594.667 | AH33: 50811.667 | AI33: 28768.667 | AJ33: 60377.667 | AK33: =IFERROR(SUM(J33:L33)/COUNTIF(J33:L33,">0"),) | AL33: =IFERROR(SUM(M33:O33)/COUNTIF(M33:O33,">0"),) | AM33: =IFERROR(SUM(P33:R33)/COUNTIF(P33:R33,">0"),) | AN33: =IFERROR(SUM(S33:U33)/COUNTIF(S33:U33,">0"),) | AO33: =IFERROR(SUM(V33:X33)/COUNTIF(V33:X33,">0"),) | AP33: =IFERROR(SUM(Y33:AA33)/COUNTIF(Y33:AA33,">0"),) | AQ33: =IFERROR(SUM(AB33:AD33)/COUNTIF(AB33:AD33,">0"),) | AR33: =IFERROR(SUM(AE33:AG33)/COUNTIF(AE33:AG33,">0"),) | AS33: =IFERROR(SUM(AH33:AJ33)/COUNTIF(AH33:AJ33,">0"),)
A34: Immunoglobulin kappa light chain OS=Homo sapiens PE=1 SV=1 | B34: 6.97 | C34: 23664.243 | D34: 10385.21 | E34: P0DOX7 | F34: 6 | G34: 50.47 | H34: 0 | I34: IGK_HUMAN | J34: 58036.667 | K34: 43825 | L34: 14149 | M34: 8508.6667 | N34: 3427 | O34: 1226 | P34: 6635 | Q34: 4680.8333 | R34: 2685.3333 | S34: 7698.3333 | T34: 18354 | V34: 14386.667 | W34: 14333 | X34: 11356.5 | Y34: 8296.3333 | Z34: 6632 | AA34: 5231.5 | AB34: 4783 | AC34: 3885.5 | AD34: 1625.5 | AE34: 28809.167 | AF34: 26475.167 | AG34: 51974 | AH34: 15411.833 | AI34: 7280.6667 | AJ34: 7286 | AK34: =IFERROR(SUM(J34:L34)/COUNTIF(J34:L34,">0"),) | AL34: =IFERROR(SUM(M34:O34)/COUNTIF(M34:O34,">0"),) | AM34: =IFERROR(SUM(P34:R34)/COUNTIF(P34:R34,">0"),) | AN34: =IFERROR(SUM(S34:U34)/COUNTIF(S34:U34,">0"),) | AO34: =IFERROR(SUM(V34:X34)/COUNTIF(V34:X34,">0"),) | AP34: =IFERROR(SUM(Y34:AA34)/COUNTIF(Y34:AA34,">0"),) | AQ34: =IFERROR(SUM(AB34:AD34)/COUNTIF(AB34:AD34,">0"),) | AR34: =IFERROR(SUM(AE34:AG34)/COUNTIF(AE34:AG34,">0"),) | AS34: =IFERROR(SUM(AH34:AJ34)/COUNTIF(AH34:AJ34,">0"),)
A35: Immunoglobulin kappa constant OS=Homo sapiens GN=IGKC PE=1 SV=2 | B35: 6.1 | C35: 11936.129 | D35: 10356.01 | E35: P01834 | F35: 5 | G35: 84.11 | H35: 0 | I35: IGKC_HUMAN | P35: 6635 | Q35: 4680.8333 | R35: 2685.3333 | Y35: 8296.3333 | Z35: 6632 | AA35: 5231.5 | AB35: 4783 | AC35: 3885.5 | AD35: 1625.5 | AE35: 28809.167 | AF35: 26475.167 | AG35: 51974 | AH35: 15411.833 | AI35: 7280.6667 | AJ35: 7286 | AK35: =IFERROR(SUM(J35:L35)/COUNTIF(J35:L35,">0"),) | AL35: =IFERROR(SUM(M35:O35)/COUNTIF(M35:O35,">0"),) | AM35: =IFERROR(SUM(P35:R35)/COUNTIF(P35:R35,">0"),) | AN35: =IFERROR(SUM(S35:U35)/COUNTIF(S35:U35,">0"),) | AO35: =IFERROR(SUM(V35:X35)/COUNTIF(V35:X35,">0"),) | AP35: =IFERROR(SUM(Y35:AA35)/COUNTIF(Y35:AA35,">0"),) | AQ35: =IFERROR(SUM(AB35:AD35)/COUNTIF(AB35:AD35,">0"),) | AR35: =IFERROR(SUM(AE35:AG35)/COUNTIF(AE35:AG35,">0"),) | AS35: =IFERROR(SUM(AH35:AJ35)/COUNTIF(AH35:AJ35,">0"),)
A36: Carboxypeptidase N subunit 2 OS=Homo sapiens GN=CPN2 PE=1 SV=3 | B36: 5.57 | C36: 61412.117 | D36: 10008.09 | E36: P22792 | F36: 16 | G36: 57.25 | H36: 0 | I36: CPN2_HUMAN | J36: 157828.67 | K36: 128873.33 | L36: 95024.667 | M36: 210789 | N36: 160802.67 | O36: 138668 | P36: 205541 | Q36: 162765 | R36: 139533.67 | S36: 83899.333 | T36: 64081.667 | U36: 95292.667 | V36: 143745.33 | W36: 121820.33 | X36: 93064 | Y36: 173100.33 | Z36: 154819.33 | AA36: 94985.333 | AB36: 58315.333 | AC36: 43664.667 | AD36: 22738.333 | AE36: 105389.33 | AF36: 75357.667 | AG36: 115091 | AH36: 148616.33 | AI36: 76406 | AJ36: 127714 | AK36: =IFERROR(SUM(J36:L36)/COUNTIF(J36:L36,">0"),) | AL36: =IFERROR(SUM(M36:O36)/COUNTIF(M36:O36,">0"),) | AM36: =IFERROR(SUM(P36:R36)/COUNTIF(P36:R36,">0"),) | AN36: =IFERROR(SUM(S36:U36)/COUNTIF(S36:U36,">0"),) | AO36: =IFERROR(SUM(V36:X36)/COUNTIF(V36:X36,">0"),) | AP36: =IFERROR(SUM(Y36:AA36)/COUNTIF(Y36:AA36,">0"),) | AQ36: =IFERROR(SUM(AB36:AD36)/COUNTIF(AB36:AD36,">0"),) | AR36: =IFERROR(SUM(AE36:AG36)/COUNTIF(AE36:AG36,">0"),) | AS36: =IFERROR(SUM(AH36:AJ36)/COUNTIF(AH36:AJ36,">0"),)
A37: Glutathione peroxidase 3 OS=Homo sapiens GN=GPX3 PE=1 SV=2 | B37: 8.22 | C37: 25630.453 | D37: 9427.59 | E37: P22352 | F37: 7 | G37: 44.25 | H37: 0 | I37: GPX3_HUMAN | J37: 149122.67 | K37: 64210.333 | L37: 92327.333 | M37: 99051 | N37: 72923.667 | O37: 71967 | P37: 112396.33 | Q37: 86330 | R37: 96395.667 | S37: 36617.333 | T37: 32452 | U37: 24161 | V37: 72067.667 | W37: 64304.667 | X37: 90491.333 | Y37: 111345 | Z37: 81161.333 | AA37: 81569.667 | AB37: 26145.667 | AC37: 4876 | AD37: 49380.333 | AE37: 62452.333 | AF37: 43344 | AG37: 70413 | AH37: 41272.333 | AI37: 24486.5 | AJ37: 35569.5 | AK37: =IFERROR(SUM(J37:L37)/COUNTIF(J37:L37,">0"),) | AL37: =IFERROR(SUM(M37:O37)/COUNTIF(M37:O37,">0"),) | AM37: =IFERROR(SUM(P37:R37)/COUNTIF(P37:R37,">0"),) | AN37: =IFERROR(SUM(S37:U37)/COUNTIF(S37:U37,">0"),) | AO37: =IFERROR(SUM(V37:X37)/COUNTIF(V37:X37,">0"),) | AP37: =IFERROR(SUM(Y37:AA37)/COUNTIF(Y37:AA37,">0"),) | AQ37: =IFERROR(SUM(AB37:AD37)/COUNTIF(AB37:AD37,">0"),) | AR37: =IFERROR(SUM(AE37:AG37)/COUNTIF(AE37:AG37,">0"),) | AS37: =IFERROR(SUM(AH37:AJ37)/COUNTIF(AH37:AJ37,">0"),)
A38: Monocyte differentiation antigen CD14 OS=Homo sapiens GN=CD14 PE=1 SV=2 | B38: 5.8 | C38: 40703.558 | D38: 9291.793 | E38: P08571 | F38: 12 | G38: 67.47 | H38: 0 | I38: CD14_HUMAN | J38: 55871.667 | K38: 48464.333 | L38: 38786 | M38: 43381.333 | N38: 38026 | O38: 35331.667 | P38: 51664.667 | Q38: 49610.667 | R38: 44793.333 | S38: 43724 | T38: 32678 | U38: 7355 | V38: 45159.667 | W38: 40408.667 | X38: 31200.333 | Y38: 39107.333 | Z38: 36092 | AA38: 32468.667 | AB38: 33307 | AC38: 30664 | AD38: 19864 | AE38: 30553.667 | AF38: 30515.333 | AG38: 42759.333 | AH38: 139325 | AI38: 84931.667 | AJ38: 131916 | AK38: =IFERROR(SUM(J38:L38)/COUNTIF(J38:L38,">0"),) | AL38: =IFERROR(SUM(M38:O38)/COUNTIF(M38:O38,">0"),) | AM38: =IFERROR(SUM(P38:R38)/COUNTIF(P38:R38,">0"),) | AN38: =IFERROR(SUM(S38:U38)/COUNTIF(S38:U38,">0"),) | AO38: =IFERROR(SUM(V38:X38)/COUNTIF(V38:X38,">0"),) | AP38: =IFERROR(SUM(Y38:AA38)/COUNTIF(Y38:AA38,">0"),) | AQ38: =IFERROR(SUM(AB38:AD38)/COUNTIF(AB38:AD38,">0"),) | AR38: =IFERROR(SUM(AE38:AG38)/COUNTIF(AE38:AG38,">0"),) | AS38: =IFERROR(SUM(AH38:AJ38)/COUNTIF(AH38:AJ38,">0"),)
A39: Platelet factor 4 OS=Homo sapiens GN=PF4 PE=1 SV=2 | B39: 8.78 | C39: 11130.091 | D39: 9157.242 | E39: P02776 | F39: 4 | G39: 49.5 | H39: 0 | I39: PLF4_HUMAN | J39: 86482.667 | K39: 64916 | L39: 66051.5 | M39: 117122.33 | N39: 54525 | O39: 107412.67 | P39: 48983.5 | Q39: 35753.5 | R39: 58007 | V39: 47695 | W39: 26072 | X39: 43820.333 | Y39: 72284.333 | Z39: 35001.333 | AA39: 70304.333 | AB39: 188459.5 | AC39: 74571.667 | AD39: 91054 | AE39: 60113.5 | AF39: 48372 | AG39: 82648.333 | AH39: 59832.667 | AI39: 97255 | AJ39: 124488.5 | AK39: =IFERROR(SUM(J39:L39)/COUNTIF(J39:L39,">0"),) | AL39: =IFERROR(SUM(M39:O39)/COUNTIF(M39:O39,">0"),) | AM39: =IFERROR(SUM(P39:R39)/COUNTIF(P39:R39,">0"),) | AN39: =IFERROR(SUM(S39:U39)/COUNTIF(S39:U39,">0"),) | AO39: =IFERROR(SUM(V39:X39)/COUNTIF(V39:X39,">0"),) | AP39: =IFERROR(SUM(Y39:AA39)/COUNTIF(Y39:AA39,">0"),) | AQ39: =IFERROR(SUM(AB39:AD39)/COUNTIF(AB39:AD39,">0"),) | AR39: =IFERROR(SUM(AE39:AG39)/COUNTIF(AE39:AG39,">0"),) | AS39: =IFERROR(SUM(AH39:AJ39)/COUNTIF(AH39:AJ39,">0"),)
A40: Hemoglobin subunit beta OS=Homo sapiens GN=HBB PE=1 SV=2 | B40: 6.88 | C40: 16112.482 | D40: 8594.48 | E40: P68871 | F40: 10 | G40: 82.31 | H40: 0 | I40: HBB_HUMAN | J40: 10805.333 | K40: 9016 | L40: 5780 | M40: 10191 | O40: 2510 | P40: 38184 | Q40: 21148 | R40: 33133.667 | Y40: 16420.333 | Z40: 15704.333 | AA40: 17165.333 | AB40: 86151.333 | AC40: 62590 | AD40: 98460.667 | AE40: 6351 | AF40: 14441 | AG40: 8592 | AH40: 12033.667 | AI40: 14692.667 | AJ40: 20211.333 | AK40: =IFERROR(SUM(J40:L40)/COUNTIF(J40:L40,">0"),) | AL40: =IFERROR(SUM(M40:O40)/COUNTIF(M40:O40,">0"),) | AM40: =IFERROR(SUM(P40:R40)/COUNTIF(P40:R40,">0"),) | AN40: =IFERROR(SUM(S40:U40)/COUNTIF(S40:U40,">0"),) | AO40: =IFERROR(SUM(V40:X40)/COUNTIF(V40:X40,">0"),) | AP40: =IFERROR(SUM(Y40:AA40)/COUNTIF(Y40:AA40,">0"),) | AQ40: =IFERROR(SUM(AB40:AD40)/COUNTIF(AB40:AD40,">0"),) | AR40: =IFERROR(SUM(AE40:AG40)/COUNTIF(AE40:AG40,">0"),) | AS40: =IFERROR(SUM(AH40:AJ40)/COUNTIF(AH40:AJ40,">0"),)
...

Sheet correlation
J1: Alex Kontrolle 14 | K1: Alex Kontrolle 14 | L1: Alex Kontrolle 14 | M1: Alex Kontrolle 15 | N1: Alex Kontrolle 15 | O1: Alex Kontrolle 15 | P1: Alex Kontrolle 27 | Q1: Alex Kontrolle 27 | R1: Alex Kontrolle 27 | S1: Alex Poly P 7 | T1: Alex Poly P 7 | U1: Alex Poly P 7 | V1: Alex Poly P 8 | W1: Alex Poly P 8 | X1: Alex Poly P 8 | Y1: Alex Poly P 25 | Z1: Alex Poly P 25 | AA1: Alex Poly P 25 | AB1: Alex Karz 33 | AC1: Alex Karz 33 | AD1: Alex Karz 33 | AE1: Alex Karz 39 | AF1: Alex Karz 39 | AG1: Alex Karz 39 | AH1: Alex Karz 40 | AI1: Alex Karz 40 | AJ1: Alex Karz 40
J2: 01 Kontrolle 14 1 | K2: 01 Kontrolle 14 2 | L2: 01 Kontrolle 14 3 | M2: 02 Kontrolle 15 1 | N2: 02 Kontrolle 15 2 | O2: 02 Kontrolle 15 3 | P2: 03 Kontrolle 27 1 | Q2: 03 Kontrolle 27 2 | R2: 03 Kontrolle 27 3 | S2: 04 Polyp 7 1 | T2: 04 Polyp 7 2 | U2: 04 Polyp 7 3 | V2: 05 Polyp 8 1 | W2: 05 Polyp 8 2 | X2: 05 Polyp 8 3 | Y2: 06 Polyp 25 1 | Z2: 06 Polyp 25 2 | AA2: 06 Polyp 25 3 | AB2: 07 Karz 33 1 | AC2: 07 Karz 33 2 | AD2: 07 Karz 33 3 | AE2: 08 Karz 39 1 | AF2: 08 Karz 39 2 | AG2: 08 Karz 39 3 | AH2: 09 Karz 40 1 | AI2: 09 Karz 40 2 | AJ2: 09 Karz 40 3
I3: 01 Kontrolle 14 1 | J3: =CORREL('TOP3 quantification'!J3:J126,'TOP3 quantification'!J3:J126) | K3: =CORREL('TOP3 quantification'!J3:J126,'TOP3 quantification'!K3:K126) | L3: =CORREL('TOP3 quantification'!J3:J126,'TOP3 quantification'!L3:L126) | M3: =CORREL('TOP3 quantification'!J3:J126,'TOP3 quantification'!M3:M126) | N3: =CORREL('TOP3 quantification'!J3:J126,'TOP3 quantification'!N3:N126) | O3: =CORREL('TOP3 quantification'!J3:J126,'TOP3 quantification'!O3:O126) | P3: =CORREL('TOP3 quantification'!J3:J126,'TOP3 quantification'!P3:P126) | Q3: =CORREL('TOP3 quantification'!J3:J126,'TOP3 quantification'!Q3:Q126) | R3: =CORREL('TOP3 quantification'!J3:J126,'TOP3 quantification'!R3:R126) | S3: =CORREL('TOP3 quantification'!J3:J126,'TOP3 quantification'!S3:S126) | T3: =CORREL('TOP3 quantification'!J3:J126,'TOP3 quantification'!T3:T126) | U3: =CORREL('TOP3 quantification'!J3:J126,'TOP3 quantification'!U3:U126) | V3: =CORREL('TOP3 quantification'!J3:J126,'TOP3 quantification'!V3:V126) | W3: =CORREL('TOP3 quantification'!J3:J126,'TOP3 quantification'!W3:W126) | X3: =CORREL('TOP3 quantification'!J3:J126,'TOP3 quantification'!X3:X126) | Y3: =CORREL('TOP3 quantification'!J3:J126,'TOP3 quantification'!Y3:Y126) | Z3: =CORREL('TOP3 quantification'!J3:J126,'TOP3 quantification'!Z3:Z126) | AA3: =CORREL('TOP3 quantification'!J3:J126,'TOP3 quantification'!AA3:AA126) | AB3: =CORREL('TOP3 quantification'!J3:J126,'TOP3 quantification'!AB3:AB126) | AC3: =CORREL('TOP3 quantification'!J3:J126,'TOP3 quantification'!AC3:AC126) | AD3: =CORREL('TOP3 quantification'!J3:J126,'TOP3 quantification'!AD3:AD126) | AE3: =CORREL('TOP3 quantification'!J3:J126,'TOP3 quantification'!AE3:AE126) | AF3: =CORREL('TOP3 quantification'!J3:J126,'TOP3 quantification'!AF3:AF126) | AG3: =CORREL('TOP3 quantification'!J3:J126,'TOP3 quantification'!AG3:AG126) | AH3: =CORREL('TOP3 quantification'!J3:J126,'TOP3 quantification'!AH3:AH126) | AI3: =CORREL('TOP3 quantification'!J3:J126,'TOP3 quantification'!AI3:AI126) | AJ3: =CORREL('TOP3 quantification'!J3:J126,'TOP3 quantification'!AJ3:AJ126)
I4: 01 Kontrolle 14 2 | J4: =CORREL('TOP3 quantification'!K3:K126,'TOP3 quantification'!J3:J126) | K4: =CORREL('TOP3 quantification'!K3:K126,'TOP3 quantification'!K3:K126) | L4: =CORREL('TOP3 quantification'!K3:K126,'TOP3 quantification'!L3:L126) | M4: =CORREL('TOP3 quantification'!K3:K126,'TOP3 quantification'!M3:M126) | N4: =CORREL('TOP3 quantification'!K3:K126,'TOP3 quantification'!N3:N126) | O4: =CORREL('TOP3 quantification'!K3:K126,'TOP3 quantification'!O3:O126) | P4: =CORREL('TOP3 quantification'!K3:K126,'TOP3 quantification'!P3:P126) | Q4: =CORREL('TOP3 quantification'!K3:K126,'TOP3 quantification'!Q3:Q126) | R4: =CORREL('TOP3 quantification'!K3:K126,'TOP3 quantification'!R3:R126) | S4: =CORREL('TOP3 quantification'!K3:K126,'TOP3 quantification'!S3:S126) | T4: =CORREL('TOP3 quantification'!K3:K126,'TOP3 quantification'!T3:T126) | U4: =CORREL('TOP3 quantification'!K3:K126,'TOP3 quantification'!U3:U126) | V4: =CORREL('TOP3 quantification'!K3:K126,'TOP3 quantification'!V3:V126) | W4: =CORREL('TOP3 quantification'!K3:K126,'TOP3 quantification'!W3:W126) | X4: =CORREL('TOP3 quantification'!K3:K126,'TOP3 quantification'!X3:X126) | Y4: =CORREL('TOP3 quantification'!K3:K126,'TOP3 quantification'!Y3:Y126) | Z4: =CORREL('TOP3 quantification'!K3:K126,'TOP3 quantification'!Z3:Z126) | AA4: =CORREL('TOP3 quantification'!K3:K126,'TOP3 quantification'!AA3:AA126) | AB4: =CORREL('TOP3 quantification'!K3:K126,'TOP3 quantification'!AB3:AB126) | AC4: =CORREL('TOP3 quantification'!K3:K126,'TOP3 quantification'!AC3:AC126) | AD4: =CORREL('TOP3 quantification'!K3:K126,'TOP3 quantification'!AD3:AD126) | AE4: =CORREL('TOP3 quantification'!K3:K126,'TOP3 quantification'!AE3:AE126) | AF4: =CORREL('TOP3 quantification'!K3:K126,'TOP3 quantification'!AF3:AF126) | AG4: =CORREL('TOP3 quantification'!K3:K126,'TOP3 quantification'!AG3:AG126) | AH4: =CORREL('TOP3 quantification'!K3:K126,'TOP3 quantification'!AH3:AH126) | AI4: =CORREL('TOP3 quantification'!K3:K126,'TOP3 quantification'!AI3:AI126) | AJ4: =CORREL('TOP3 quantification'!K3:K126,'TOP3 quantification'!AJ3:AJ126)
I5: 01 Kontrolle 14 3 | J5: =CORREL('TOP3 quantification'!L3:L126,'TOP3 quantification'!J3:J126) | K5: =CORREL('TOP3 quantification'!L3:L126,'TOP3 quantification'!K3:K126) | L5: =CORREL('TOP3 quantification'!L3:L126,'TOP3 quantification'!L3:L126) | M5: =CORREL('TOP3 quantification'!L3:L126,'TOP3 quantification'!M3:M126) | N5: =CORREL('TOP3 quantification'!L3:L126,'TOP3 quantification'!N3:N126) | O5: =CORREL('TOP3 quantification'!L3:L126,'TOP3 quantification'!O3:O126) | P5: =CORREL('TOP3 quantification'!L3:L126,'TOP3 quantification'!P3:P126) | Q5: =CORREL('TOP3 quantification'!L3:L126,'TOP3 quantification'!Q3:Q126) | R5: =CORREL('TOP3 quantification'!L3:L126,'TOP3 quantification'!R3:R126) | S5: =CORREL('TOP3 quantification'!L3:L126,'TOP3 quantification'!S3:S126) | T5: =CORREL('TOP3 quantification'!L3:L126,'TOP3 quantification'!T3:T126) | U5: =CORREL('TOP3 quantification'!L3:L126,'TOP3 quantification'!U3:U126) | V5: =CORREL('TOP3 quantification'!L3:L126,'TOP3 quantification'!V3:V126) | W5: =CORREL('TOP3 quantification'!L3:L126,'TOP3 quantification'!W3:W126) | X5: =CORREL('TOP3 quantification'!L3:L126,'TOP3 quantification'!X3:X126) | Y5: =CORREL('TOP3 quantification'!L3:L126,'TOP3 quantification'!Y3:Y126) | Z5: =CORREL('TOP3 quantification'!L3:L126,'TOP3 quantification'!Z3:Z126) | AA5: =CORREL('TOP3 quantification'!L3:L126,'TOP3 quantification'!AA3:AA126) | AB5: =CORREL('TOP3 quantification'!L3:L126,'TOP3 quantification'!AB3:AB126) | AC5: =CORREL('TOP3 quantification'!L3:L126,'TOP3 quantification'!AC3:AC126) | AD5: =CORREL('TOP3 quantification'!L3:L126,'TOP3 quantification'!AD3:AD126) | AE5: =CORREL('TOP3 quantification'!L3:L126,'TOP3 quantification'!AE3:AE126) | AF5: =CORREL('TOP3 quantification'!L3:L126,'TOP3 quantification'!AF3:AF126) | AG5: =CORREL('TOP3 quantification'!L3:L126,'TOP3 quantification'!AG3:AG126) | AH5: =CORREL('TOP3 quantification'!L3:L126,'TOP3 quantification'!AH3:AH126) | AI5: =CORREL('TOP3 quantification'!L3:L126,'TOP3 quantification'!AI3:AI126) | AJ5: =CORREL('TOP3 quantification'!L3:L126,'TOP3 quantification'!AJ3:AJ126)
I6: 02 Kontrolle 15 1 | J6: =CORREL('TOP3 quantification'!M3:M126,'TOP3 quantification'!J3:J126) | K6: =CORREL('TOP3 quantification'!M3:M126,'TOP3 quantification'!K3:K126) | L6: =CORREL('TOP3 quantification'!M3:M126,'TOP3 quantification'!L3:L126) | M6: =CORREL('TOP3 quantification'!M3:M126,'TOP3 quantification'!M3:M126) | N6: =CORREL('TOP3 quantification'!M3:M126,'TOP3 quantification'!N3:N126) | O6: =CORREL('TOP3 quantification'!M3:M126,'TOP3 quantification'!O3:O126) | P6: =CORREL('TOP3 quantification'!M3:M126,'TOP3 quantification'!P3:P126) | Q6: =CORREL('TOP3 quantification'!M3:M126,'TOP3 quantification'!Q3:Q126) | R6: =CORREL('TOP3 quantification'!M3:M126,'TOP3 quantification'!R3:R126) | S6: =CORREL('TOP3 quantification'!M3:M126,'TOP3 quantification'!S3:S126) | T6: =CORREL('TOP3 quantification'!M3:M126,'TOP3 quantification'!T3:T126) | U6: =CORREL('TOP3 quantification'!M3:M126,'TOP3 quantification'!U3:U126) | V6: =CORREL('TOP3 quantification'!M3:M126,'TOP3 quantification'!V3:V126) | W6: =CORREL('TOP3 quantification'!M3:M126,'TOP3 quantification'!W3:W126) | X6: =CORREL('TOP3 quantification'!M3:M126,'TOP3 quantification'!X3:X126) | Y6: =CORREL('TOP3 quantification'!M3:M126,'TOP3 quantification'!Y3:Y126) | Z6: =CORREL('TOP3 quantification'!M3:M126,'TOP3 quantification'!Z3:Z126) | AA6: =CORREL('TOP3 quantification'!M3:M126,'TOP3 quantification'!AA3:AA126) | AB6: =CORREL('TOP3 quantification'!M3:M126,'TOP3 quantification'!AB3:AB126) | AC6: =CORREL('TOP3 quantification'!M3:M126,'TOP3 quantification'!AC3:AC126) | AD6: =CORREL('TOP3 quantification'!M3:M126,'TOP3 quantification'!AD3:AD126) | AE6: =CORREL('TOP3 quantification'!M3:M126,'TOP3 quantification'!AE3:AE126) | AF6: =CORREL('TOP3 quantification'!M3:M126,'TOP3 quantification'!AF3:AF126) | AG6: =CORREL('TOP3 quantification'!M3:M126,'TOP3 quantification'!AG3:AG126) | AH6: =CORREL('TOP3 quantification'!M3:M126,'TOP3 quantification'!AH3:AH126) | AI6: =CORREL('TOP3 quantification'!M3:M126,'TOP3 quantification'!AI3:AI126) | AJ6: =CORREL('TOP3 quantification'!M3:M126,'TOP3 quantification'!AJ3:AJ126)
I7: 02 Kontrolle 15 2 | J7: =CORREL('TOP3 quantification'!N3:N126,'TOP3 quantification'!J3:J126) | K7: =CORREL('TOP3 quantification'!N3:N126,'TOP3 quantification'!K3:K126) | L7: =CORREL('TOP3 quantification'!N3:N126,'TOP3 quantification'!L3:L126) | M7: =CORREL('TOP3 quantification'!N3:N126,'TOP3 quantification'!M3:M126) | N7: =CORREL('TOP3 quantification'!N3:N126,'TOP3 quantification'!N3:N126) | O7: =CORREL('TOP3 quantification'!N3:N126,'TOP3 quantification'!O3:O126) | P7: =CORREL('TOP3 quantification'!N3:N126,'TOP3 quantification'!P3:P126) | Q7: =CORREL('TOP3 quantification'!N3:N126,'TOP3 quantification'!Q3:Q126) | R7: =CORREL('TOP3 quantification'!N3:N126,'TOP3 quantification'!R3:R126) | S7: =CORREL('TOP3 quantification'!N3:N126,'TOP3 quantification'!S3:S126) | T7: =CORREL('TOP3 quantification'!N3:N126,'TOP3 quantification'!T3:T126) | U7: =CORREL('TOP3 quantification'!N3:N126,'TOP3 quantification'!U3:U126) | V7: =CORREL('TOP3 quantification'!N3:N126,'TOP3 quantification'!V3:V126) | W7: =CORREL('TOP3 quantification'!N3:N126,'TOP3 quantification'!W3:W126) | X7: =CORREL('TOP3 quantification'!N3:N126,'TOP3 quantification'!X3:X126) | Y7: =CORREL('TOP3 quantification'!N3:N126,'TOP3 quantification'!Y3:Y126) | Z7: =CORREL('TOP3 quantification'!N3:N126,'TOP3 quantification'!Z3:Z126) | AA7: =CORREL('TOP3 quantification'!N3:N126,'TOP3 quantification'!AA3:AA126) | AB7: =CORREL('TOP3 quantification'!N3:N126,'TOP3 quantification'!AB3:AB126) | AC7: =CORREL('TOP3 quantification'!N3:N126,'TOP3 quantification'!AC3:AC126) | AD7: =CORREL('TOP3 quantification'!N3:N126,'TOP3 quantification'!AD3:AD126) | AE7: =CORREL('TOP3 quantification'!N3:N126,'TOP3 quantification'!AE3:AE126) | AF7: =CORREL('TOP3 quantification'!N3:N126,'TOP3 quantification'!AF3:AF126) | AG7: =CORREL('TOP3 quantification'!N3:N126,'TOP3 quantification'!AG3:AG126) | AH7: =CORREL('TOP3 quantification'!N3:N126,'TOP3 quantification'!AH3:AH126) | AI7: =CORREL('TOP3 quantification'!N3:N126,'TOP3 quantification'!AI3:AI126) | AJ7: =CORREL('TOP3 quantification'!N3:N126,'TOP3 quantification'!AJ3:AJ126)
I8: 02 Kontrolle 15 3 | J8: =CORREL('TOP3 quantification'!O3:O126,'TOP3 quantification'!J3:J126) | K8: =CORREL('TOP3 quantification'!O3:O126,'TOP3 quantification'!K3:K126) | L8: =CORREL('TOP3 quantification'!O3:O126,'TOP3 quantification'!L3:L126) | M8: =CORREL('TOP3 quantification'!O3:O126,'TOP3 quantification'!M3:M126) | N8: =CORREL('TOP3 quantification'!O3:O126,'TOP3 quantification'!N3:N126) | O8: =CORREL('TOP3 quantification'!O3:O126,'TOP3 quantification'!O3:O126) | P8: =CORREL('TOP3 quantification'!O3:O126,'TOP3 quantification'!P3:P126) | Q8: =CORREL('TOP3 quantification'!O3:O126,'TOP3 quantification'!Q3:Q126) | R8: =CORREL('TOP3 quantification'!O3:O126,'TOP3 quantification'!R3:R126) | S8: =CORREL('TOP3 quantification'!O3:O126,'TOP3 quantification'!S3:S126) | T8: =CORREL('TOP3 quantification'!O3:O126,'TOP3 quantification'!T3:T126) | U8: =CORREL('TOP3 quantification'!O3:O126,'TOP3 quantification'!U3:U126) | V8: =CORREL('TOP3 quantification'!O3:O126,'TOP3 quantification'!V3:V126) | W8: =CORREL('TOP3 quantification'!O3:O126,'TOP3 quantification'!W3:W126) | X8: =CORREL('TOP3 quantification'!O3:O126,'TOP3 quantification'!X3:X126) | Y8: =CORREL('TOP3 quantification'!O3:O126,'TOP3 quantification'!Y3:Y126) | Z8: =CORREL('TOP3 quantification'!O3:O126,'TOP3 quantification'!Z3:Z126) | AA8: =CORREL('TOP3 quantification'!O3:O126,'TOP3 quantification'!AA3:AA126) | AB8: =CORREL('TOP3 quantification'!O3:O126,'TOP3 quantification'!AB3:AB126) | AC8: =CORREL('TOP3 quantification'!O3:O126,'TOP3 quantification'!AC3:AC126) | AD8: =CORREL('TOP3 quantification'!O3:O126,'TOP3 quantification'!AD3:AD126) | AE8: =CORREL('TOP3 quantification'!O3:O126,'TOP3 quantification'!AE3:AE126) | AF8: =CORREL('TOP3 quantification'!O3:O126,'TOP3 quantification'!AF3:AF126) | AG8: =CORREL('TOP3 quantification'!O3:O126,'TOP3 quantification'!AG3:AG126) | AH8: =CORREL('TOP3 quantification'!O3:O126,'TOP3 quantification'!AH3:AH126) | AI8: =CORREL('TOP3 quantification'!O3:O126,'TOP3 quantification'!AI3:AI126) | AJ8: =CORREL('TOP3 quantification'!O3:O126,'TOP3 quantification'!AJ3:AJ126)
I9: 03 Kontrolle 27 1 | J9: =CORREL('TOP3 quantification'!P3:P126,'TOP3 quantification'!J3:J126) | K9: =CORREL('TOP3 quantification'!P3:P126,'TOP3 quantification'!K3:K126) | L9: =CORREL('TOP3 quantification'!P3:P126,'TOP3 quantification'!L3:L126) | M9: =CORREL('TOP3 quantification'!P3:P126,'TOP3 quantification'!M3:M126) | N9: =CORREL('TOP3 quantification'!P3:P126,'TOP3 quantification'!N3:N126) | O9: =CORREL('TOP3 quantification'!P3:P126,'TOP3 quantification'!O3:O126) | P9: =CORREL('TOP3 quantification'!P3:P126,'TOP3 quantification'!P3:P126) | Q9: =CORREL('TOP3 quantification'!P3:P126,'TOP3 quantification'!Q3:Q126) | R9: =CORREL('TOP3 quantification'!P3:P126,'TOP3 quantification'!R3:R126) | S9: =CORREL('TOP3 quantification'!P3:P126,'TOP3 quantification'!S3:S126) | T9: =CORREL('TOP3 quantification'!P3:P126,'TOP3 quantification'!T3:T126) | U9: =CORREL('TOP3 quantification'!P3:P126,'TOP3 quantification'!U3:U126) | V9: =CORREL('TOP3 quantification'!P3:P126,'TOP3 quantification'!V3:V126) | W9: =CORREL('TOP3 quantification'!P3:P126,'TOP3 quantification'!W3:W126) | X9: =CORREL('TOP3 quantification'!P3:P126,'TOP3 quantification'!X3:X126) | Y9: =CORREL('TOP3 quantification'!P3:P126,'TOP3 quantification'!Y3:Y126) | Z9: =CORREL('TOP3 quantification'!P3:P126,'TOP3 quantification'!Z3:Z126) | AA9: =CORREL('TOP3 quantification'!P3:P126,'TOP3 quantification'!AA3:AA126) | AB9: =CORREL('TOP3 quantification'!P3:P126,'TOP3 quantification'!AB3:AB126) | AC9: =CORREL('TOP3 quantification'!P3:P126,'TOP3 quantification'!AC3:AC126) | AD9: =CORREL('TOP3 quantification'!P3:P126,'TOP3 quantification'!AD3:AD126) | AE9: =CORREL('TOP3 quantification'!P3:P126,'TOP3 quantification'!AE3:AE126) | AF9: =CORREL('TOP3 quantification'!P3:P126,'TOP3 quantification'!AF3:AF126) | AG9: =CORREL('TOP3 quantification'!P3:P126,'TOP3 quantification'!AG3:AG126) | AH9: =CORREL('TOP3 quantification'!P3:P126,'TOP3 quantification'!AH3:AH126) | AI9: =CORREL('TOP3 quantification'!P3:P126,'TOP3 quantification'!AI3:AI126) | AJ9: =CORREL('TOP3 quantification'!P3:P126,'TOP3 quantification'!AJ3:AJ126)
I10: 03 Kontrolle 27 2 | J10: =CORREL('TOP3 quantification'!Q3:Q126,'TOP3 quantification'!J3:J126) | K10: =CORREL('TOP3 quantification'!Q3:Q126,'TOP3 quantification'!K3:K126) | L10: =CORREL('TOP3 quantification'!Q3:Q126,'TOP3 quantification'!L3:L126) | M10: =CORREL('TOP3 quantification'!Q3:Q126,'TOP3 quantification'!M3:M126) | N10: =CORREL('TOP3 quantification'!Q3:Q126,'TOP3 quantification'!N3:N126) | O10: =CORREL('TOP3 quantification'!Q3:Q126,'TOP3 quantification'!O3:O126) | P10: =CORREL('TOP3 quantification'!Q3:Q126,'TOP3 quantification'!P3:P126) | Q10: =CORREL('TOP3 quantification'!Q3:Q126,'TOP3 quantification'!Q3:Q126) | R10: =CORREL('TOP3 quantification'!Q3:Q126,'TOP3 quantification'!R3:R126) | S10: =CORREL('TOP3 quantification'!Q3:Q126,'TOP3 quantification'!S3:S126) | T10: =CORREL('TOP3 quantification'!Q3:Q126,'TOP3 quantification'!T3:T126) | U10: =CORREL('TOP3 quantification'!Q3:Q126,'TOP3 quantification'!U3:U126) | V10: =CORREL('TOP3 quantification'!Q3:Q126,'TOP3 quantification'!V3:V126) | W10: =CORREL('TOP3 quantification'!Q3:Q126,'TOP3 quantification'!W3:W126) | X10: =CORREL('TOP3 quantification'!Q3:Q126,'TOP3 quantification'!X3:X126) | Y10: =CORREL('TOP3 quantification'!Q3:Q126,'TOP3 quantification'!Y3:Y126) | Z10: =CORREL('TOP3 quantification'!Q3:Q126,'TOP3 quantification'!Z3:Z126) | AA10: =CORREL('TOP3 quantification'!Q3:Q126,'TOP3 quantification'!AA3:AA126) | AB10: =CORREL('TOP3 quantification'!Q3:Q126,'TOP3 quantification'!AB3:AB126) | AC10: =CORREL('TOP3 quantification'!Q3:Q126,'TOP3 quantification'!AC3:AC126) | AD10: =CORREL('TOP3 quantification'!Q3:Q126,'TOP3 quantification'!AD3:AD126) | AE10: =CORREL('TOP3 quantification'!Q3:Q126,'TOP3 quantification'!AE3:AE126) | AF10: =CORREL('TOP3 quantification'!Q3:Q126,'TOP3 quantification'!AF3:AF126) | AG10: =CORREL('TOP3 quantification'!Q3:Q126,'TOP3 quantification'!AG3:AG126) | AH10: =CORREL('TOP3 quantification'!Q3:Q126,'TOP3 quantification'!AH3:AH126) | AI10: =CORREL('TOP3 quantification'!Q3:Q126,'TOP3 quantification'!AI3:AI126) | AJ10: =CORREL('TOP3 quantification'!Q3:Q126,'TOP3 quantification'!AJ3:AJ126)
