Workbook

Sheet TOP3 quantification
J1: Alex Kontrolle 14 | K1: Alex Kontrolle 14 | L1: Alex Kontrolle 14 | M1: Alex Kontrolle 15 | N1: Alex Kontrolle 15 | O1: Alex Kontrolle 15 | P1: Alex Kontrolle 27 | Q1: Alex Kontrolle 27 | R1: Alex Kontrolle 27 | S1: Alex Poly P 7 | T1: Alex Poly P 7 | U1: Alex Poly P 7 | V1: Alex Poly P 8 | W1: Alex Poly P 8 | X1: Alex Poly P 8 | Y1: Alex Poly P 25 | Z1: Alex Poly P 25 | AA1: Alex Poly P 25 | AB1: Alex Karz 33 | AC1: Alex Karz 33 | AD1: Alex Karz 33 | AE1: Alex Karz 39 | AF1: Alex Karz 39 | AG1: Alex Karz 39 | AH1: Alex Karz 40 | AI1: Alex Karz 40 | AJ1: Alex Karz 40 | AK1: Alex Kontrolle 14 | AL1: Alex Kontrolle 15 | AM1: Alex Kontrolle 27 | AN1: Alex Poly P 7 | AO1: Alex Poly P 8 | AP1: Alex Poly P 25 | AQ1: Alex Karz 33 | AR1: Alex Karz 39 | AS1: Alex Karz 40
A2: description | B2: IEP | C2: mw | D2: max score | E2: accession | F2: reported peptides | G2: sequence coverage | H2: FDR level | I2: entry | J2: 01 Kontrolle 14 1 | K2: 01 Kontrolle 14 2 | L2: 01 Kontrolle 14 3 | M2: 02 Kontrolle 15 1 | N2: 02 Kontrolle 15 2 | O2: 02 Kontrolle 15 3 | P2: 03 Kontrolle 27 1 | Q2: 03 Kontrolle 27 2 | R2: 03 Kontrolle 27 3 | S2: 04 Polyp 7 1 | T2: 04 Polyp 7 2 | U2: 04 Polyp 7 3 | V2: 05 Polyp 8 1 | W2: 05 Polyp 8 2 | X2: 05 Polyp 8 3 | Y2: 06 Polyp 25 1 | Z2: 06 Polyp 25 2 | AA2: 06 Polyp 25 3 | AB2: 07 Karz 33 1 | AC2: 07 Karz 33 2 | AD2: 07 Karz 33 3 | AE2: 08 Karz 39 1 | AF2: 08 Karz 39 2 | AG2: 08 Karz 39 3 | AH2: 09 Karz 40 1 | AI2: 09 Karz 40 2 | AJ2: 09 Karz 40 3 | AK2: AVERAGE 01 Kontrolle 14 | AL2: AVERAGE 02 Kontrolle 15 | AM2: AVERAGE 03 Kontrolle 27 | AN2: AVERAGE 04 Polyp 7 | AO2: AVERAGE 05 Polyp 8 | AP2: AVERAGE 06 Polyp 25 | AQ2: AVERAGE 07 Karz 33 | AR2: AVERAGE 08 Karz 39 | AS2: AVERAGE 09 Karz 40
A3: Transthyretin OS=Homo sapiens GN=TTR PE=1 SV=1 | B3: 5.4 | C3: 16001.098 | D3: 72153.63 | E3: P02766 | F3: 8 | G3: 73.47 | H3: 0 | I3: TTHY_HUMAN | J3: 747337.33 | K3: 317371.33 | L3: 252667 | M3: 175461.67 | N3: 252363.33 | O3: 256572.67 | P3: 1506 | Q3: 15413.333 | R3: 8527 | S3: 58724.333 | T3: 246765 | U3: 25873 | V3: 1733690.3 | W3: 228614 | X3: 254866.33 | Y3: 30603 | Z3: 17978.667 | AA3: 55012.667 | AB3: 13161.333 | AC3: 2934.6667 | AE3: 5664.5 | AF3: 20848 | AG3: 34166 | AI3: 14376 | AJ3: 3581 | AK3: =IFERROR(SUM(J3:L3)/COUNTIF(J3:L3,">0"),) | AL3: =IFERROR(SUM(M3:O3)/COUNTIF(M3:O3,">0"),) | AM3: =IFERROR(SUM(P3:R3)/COUNTIF(P3:R3,">0"),) | AN3: =IFERROR(SUM(S3:U3)/COUNTIF(S3:U3,">0"),) | AO3: =IFERROR(SUM(V3:X3)/COUNTIF(V3:X3,">0"),) | AP3: =IFERROR(SUM(Y3:AA3)/COUNTIF(Y3:AA3,">0"),) | AQ3: =IFERROR(SUM(AB3:AD3)/COUNTIF(AB3:AD3,">0"),) | AR3: =IFERROR(SUM(AE3:AG3)/COUNTIF(AE3:AG3,">0"),) | AS3: =IFERROR(SUM(AH3:AJ3)/COUNTIF(AH3:AJ3,">0"),)
A4: Zinc-alpha-2-glycoprotein OS=Homo sapiens GN=AZGP1 PE=1 SV=2 | B4: 5.64 | C4: 34486.872 | D4: 49082.86 | E4: P25311 | F4: 21 | G4: 79.53 | H4: 0 | I4: ZA2G_HUMAN | J4: 1155549.3 | K4: 873122.67 | L4: 984298.33 | M4: 986971.67 | N4: 783699.33 | O4: 1049151 | P4: 1023739.3 | Q4: 937224 | R4: 852834.67 | S4: 232017.33 | T4: 285931 | U4: 210150.33 | V4: 841780.67 | W4: 784298.33 | X4: 660095.33 | Y4: 781057.33 | Z4: 697848.33 | AA4: 829585 | AB4: 1505641.3 | AC4: 1393952.3 | AD4: 1169375 | AE4: 856576.33 | AF4: 565478 | AG4: 827113.33 | AH4: 626898 | AI4: 435237.33 | AJ4: 560792 | AK4: =IFERROR(SUM(J4:L4)/COUNTIF(J4:L4,">0"),) | AL4: =IFERROR(SUM(M4:O4)/COUNTIF(M4:O4,">0"),) | AM4: =IFERROR(SUM(P4:R4)/COUNTIF(P4:R4,">0"),) | AN4: =IFERROR(SUM(S4:U4)/COUNTIF(S4:U4,">0"),) | AO4: =IFERROR(SUM(V4:X4)/COUNTIF(V4:X4,">0"),) | AP4: =IFERROR(SUM(Y4:AA4)/COUNTIF(Y4:AA4,">0"),) | AQ4: =IFERROR(SUM(AB4:AD4)/COUNTIF(AB4:AD4,">0"),) | AR4: =IFERROR(SUM(AE4:AG4)/COUNTIF(AE4:AG4,">0"),) | AS4: =IFERROR(SUM(AH4:AJ4)/COUNTIF(AH4:AJ4,">0"),)
A5: Leucine-rich alpha-2-glycoprotein OS=Homo sapiens GN=LRG1 PE=1 SV=2 | B5: 6.5 | C5: 38406.063 | D5: 37983.68 | E5: P02750 | F5: 18 | G5: 65.99 | H5: 0 | I5: A2GL_HUMAN | J5: 551918.33 | K5: 631742 | L5: 357303.33 | M5: 595380 | N5: 395212 | O5: 417960.67 | P5: 1257159.7 | Q5: 1155761.7 | R5: 767305.33 | S5: 54724 | T5: 82321 | U5: 46761.333 | V5: 289449.33 | W5: 274042 | X5: 189731 | Y5: 747431.33 | Z5: 436112 | AA5: 421575.33 | AB5: 1701462 | AC5: 856544.67 | AD5: 677288.33 | AE5: 679494.67 | AF5: 467979.67 | AG5: 486924.67 | AH5: 2607320.3 | AI5: 1435735.7 | AJ5: 1251620 | AK5: =IFERROR(SUM(J5:L5)/COUNTIF(J5:L5,">0"),) | AL5: =IFERROR(SUM(M5:O5)/COUNTIF(M5:O5,">0"),) | AM5: =IFERROR(SUM(P5:R5)/COUNTIF(P5:R5,">0"),) | AN5: =IFERROR(SUM(S5:U5)/COUNTIF(S5:U5,">0"),) | AO5: =IFERROR(SUM(V5:X5)/COUNTIF(V5:X5,">0"),) | AP5: =IFERROR(SUM(Y5:AA5)/COUNTIF(Y5:AA5,">0"),) | AQ5: =IFERROR(SUM(AB5:AD5)/COUNTIF(AB5:AD5,">0"),) | AR5: =IFERROR(SUM(AE5:AG5)/COUNTIF(AE5:AG5,">0"),) | AS5: =IFERROR(SUM(AH5:AJ5)/COUNTIF(AH5:AJ5,">0"),)
A6: Apolipoprotein A-IV OS=Homo sapiens GN=APOA4 PE=1 SV=3 | B6: 5.11 | C6: 45399.118 | D6: 37898.54 | E6: P06727 | F6: 33 | G6: 88.38 | H6: 0 | I6: APOA4_HUMAN | J6: 804763.33 | K6: 640829 | L6: 538545.33 | M6: 427708.67 | N6: 444319 | O6: 446315 | P6: 213976.33 | Q6: 239853 | R6: 229197.67 | S6: 46246.333 | T6: 29189 | U6: 37576.333 | V6: 704784 | W6: 817850.67 | X6: 632806 | Y6: 327297.67 | Z6: 244958.67 | AA6: 244351.67 | AB6: 132462 | AC6: 107506.33 | AD6: 154578 | AE6: 360694 | AF6: 312070.67 | AG6: 358188.33 | AH6: 268390.33 | AI6: 205495.33 | AJ6: 241765 | AK6: =IFERROR(SUM(J6:L6)/COUNTIF(J6:L6,">0"),) | AL6: =IFERROR(SUM(M6:O6)/COUNTIF(M6:O6,">0"),) | AM6: =IFERROR(SUM(P6:R6)/COUNTIF(P6:R6,">0"),) | AN6: =IFERROR(SUM(S6:U6)/COUNTIF(S6:U6,">0"),) | AO6: =IFERROR(SUM(V6:X6)/COUNTIF(V6:X6,">0"),) | AP6: =IFERROR(SUM(Y6:AA6)/COUNTIF(Y6:AA6,">0"),) | AQ6: =IFERROR(SUM(AB6:AD6)/COUNTIF(AB6:AD6,">0"),) | AR6: =IFERROR(SUM(AE6:AG6)/COUNTIF(AE6:AG6,">0"),) | AS6: =IFERROR(SUM(AH6:AJ6)/COUNTIF(AH6:AJ6,">0"),)
A7: Ceruloplasmin OS=Homo sapiens GN=CP PE=1 SV=1 | B7: 5.34 | C7: 123060.8 | D7: 35552.6 | E7: P00450 | F7: 54 | G7: 71.46 | H7: 0 | I7: CERU_HUMAN | J7: 1862886 | K7: 1703283.3 | L7: 1740808.3 | M7: 2215839.3 | N7: 1604538.7 | O7: 2409470 | P7: 2748098.3 | Q7: 3714333.3 | R7: 3249689.3 | S7: 923473.33 | T7: 1205694 | U7: 795964.33 | V7: 1607358.3 | W7: 1604026 | X7: 1526014 | Y7: 1071879.7 | Z7: 1405913.7 | AA7: 1070506.3 | AB7: 1133214.3 | AC7: 620743 | AD7: 1146396 | AE7: 2544149 | AF7: 1583428.7 | AG7: 2540354 | AH7: 725663.67 | AI7: 463757 | AJ7: 737656.33 | AK7: =IFERROR(SUM(J7:L7)/COUNTIF(J7:L7,">0"),) | AL7: =IFERROR(SUM(M7:O7)/COUNTIF(M7:O7,">0"),) | AM7: =IFERROR(SUM(P7:R7)/COUNTIF(P7:R7,">0"),) | AN7: =IFERROR(SUM(S7:U7)/COUNTIF(S7:U7,">0"),) | AO7: =IFERROR(SUM(V7:X7)/COUNTIF(V7:X7,">0"),) | AP7: =IFERROR(SUM(Y7:AA7)/COUNTIF(Y7:AA7,">0"),) | AQ7: =IFERROR(SUM(AB7:AD7)/COUNTIF(AB7:AD7,">0"),) | AR7: =IFERROR(SUM(AE7:AG7)/COUNTIF(AE7:AG7,">0"),) | AS7: =IFERROR(SUM(AH7:AJ7)/COUNTIF(AH7:AJ7,">0"),)
A8: Alpha-2-macroglobulin OS=Homo sapiens GN=A2M PE=1 SV=3 | B8: 6 | C8: 164716.9 | D8: 32274.65 | E8: P01023 | F8: 73 | G8: 72.73 | H8: 0 | I8: A2MG_HUMAN | J8: 213592.33 | K8: 228566.33 | L8: 214369.33 | M8: 874769.67 | N8: 819091.33 | O8: 840349.67 | P8: 406976.33 | Q8: 419194 | R8: 352339 | S8: 427102 | T8: 444643.67 | U8: 280991 | V8: 224043.67 | W8: 232177.33 | X8: 177377 | Y8: 2858646.7 | Z8: 2653581.9 | AA8: 2174088.3 | AB8: 829397 | AC8: 672066.67 | AD8: 452346 | AE8: 1258168.7 | AF8: 1137531.3 | AG8: 1079767.7 | AH8: 280472.67 | AI8: 199614.67 | AJ8: 237106.67 | AK8: =IFERROR(SUM(J8:L8)/COUNTIF(J8:L8,">0"),) | AL8: =IFERROR(SUM(M8:O8)/COUNTIF(M8:O8,">0"),) | AM8: =IFERROR(SUM(P8:R8)/COUNTIF(P8:R8,">0"),) | AN8: =IFERROR(SUM(S8:U8)/COUNTIF(S8:U8,">0"),) | AO8: =IFERROR(SUM(V8:X8)/COUNTIF(V8:X8,">0"),) | AP8: =IFERROR(SUM(Y8:AA8)/COUNTIF(Y8:AA8,">0"),) | AQ8: =IFERROR(SUM(AB8:AD8)/COUNTIF(AB8:AD8,">0"),) | AR8: =IFERROR(SUM(AE8:AG8)/COUNTIF(AE8:AG8,">0"),) | AS8: =IFERROR(SUM(AH8:AJ8)/COUNTIF(AH8:AJ8,">0"),)
A9: Angiotensinogen OS=Homo sapiens GN=AGT PE=1 SV=1 | B9: 5.85 | C9: 53439.43 | D9: 30150.59 | E9: P01019 | F9: 17 | G9: 59.18 | H9: 0 | I9: ANGT_HUMAN | J9: 1136971.7 | K9: 926696.67 | L9: 769679.67 | M9: 1000300.3 | N9: 1249099.3 | O9: 911435 | P9: 1280669.3 | Q9: 1328310.7 | R9: 1195539.7 | S9: 383999 | T9: 394854 | U9: 164612.67 | V9: 835024 | W9: 640340 | X9: 672995.33 | Y9: 654583.33 | Z9: 606951.33 | AA9: 410365.33 | AB9: 947875 | AC9: 1382096.7 | AD9: 935707.33 | AE9: 557375.33 | AF9: 568508 | AG9: 583703 | AH9: 850814 | AI9: 734067.33 | AJ9: 1166258.7 | AK9: =IFERROR(SUM(J9:L9)/COUNTIF(J9:L9,">0"),) | AL9: =IFERROR(SUM(M9:O9)/COUNTIF(M9:O9,">0"),) | AM9: =IFERROR(SUM(P9:R9)/COUNTIF(P9:R9,">0"),) | AN9: =IFERROR(SUM(S9:U9)/COUNTIF(S9:U9,">0"),) | AO9: =IFERROR(SUM(V9:X9)/COUNTIF(V9:X9,">0"),) | AP9: =IFERROR(SUM(Y9:AA9)/COUNTIF(Y9:AA9,">0"),) | AQ9: =IFERROR(SUM(AB9:AD9)/COUNTIF(AB9:AD9,">0"),) | AR9: =IFERROR(SUM(AE9:AG9)/COUNTIF(AE9:AG9,">0"),) | AS9: =IFERROR(SUM(AH9:AJ9)/COUNTIF(AH9:AJ9,">0"),)
A10: Serum amyloid P-component OS=Homo sapiens GN=APCS PE=1 SV=2 | B10: 6.1 | C10: 25501.207 | D10: 29716.23 | E10: P02743 | F10: 11 | G10: 52.47 | H10: 0 | I10: SAMP_HUMAN | J10: 848712 | K10: 736237 | L10: 703629.67 | M10: 776941.67 | N10: 647328.33 | O10: 954173.67 | P10: 960206 | Q10: 1145426.7 | R10: 998638 | S10: 239235 | T10: 265945 | U10: 57150.667 | V10: 667303.67 | W10: 662216.33 | X10: 651973.33 | Y10: 437451.67 | Z10: 579400.33 | AA10: 445170.67 | AB10: 740674.67 | AC10: 615067 | AD10: 401477 | AE10: 622207 | AF10: 503884 | AG10: 547523.33 | AH10: 485483.33 | AI10: 416491.33 | AJ10: 397414 | AK10: =IFERROR(SUM(J10:L10)/COUNTIF(J10:L10,">0"),) | AL10: =IFERROR(SUM(M10:O10)/COUNTIF(M10:O10,">0"),) | AM10: =IFERROR(SUM(P10:R10)/COUNTIF(P10:R10,">0"),) | AN10: =IFERROR(SUM(S10:U10)/COUNTIF(S10:U10,">0"),) | AO10: =IFERROR(SUM(V10:X10)/COUNTIF(V10:X10,">0"),) | AP10: =IFERROR(SUM(Y10:AA10)/COUNTIF(Y10:AA10,">0"),) | AQ10: =IFERROR(SUM(AB10:AD10)/COUNTIF(AB10:AD10,">0"),) | AR10: =IFERROR(SUM(AE10:AG10)/COUNTIF(AE10:AG10,">0"),) | AS10: =IFERROR(SUM(AH10:AJ10)/COUNTIF(AH10:AJ10,">0"),)
A11: Pigment epithelium-derived factor OS=Homo sapiens GN=SERPINF1 PE=1 SV=4 | B11: 5.94 | C11: 46483.345 | D11: 27961.16 | E11: P36955 | F11: 19 | G11: 61.48 | H11: 0 | I11: PEDF_HUMAN | J11: 526449.33 | K11: 520121.33 | L11: 430991 | M11: 415459.33 | N11: 353653.33 | O11: 363957.33 | P11: 427918.67 | Q11: 464804 | R11: 381144.67 | S11: 101590.67 | T11: 143644.33 | U11: 61203.333 | V11: 302957.67 | W11: 293622.33 | X11: 248329 | Y11: 480003 | Z11: 373145 | AA11: 294558.67 | AB11: 637150 | AC11: 421861.33 | AD11: 291297 | AE11: 189264 | AF11: 183781.33 | AG11: 224206 | AH11: 445432.33 | AI11: 306763.67 | AJ11: 390085.67 | AK11: =IFERROR(SUM(J11:L11)/COUNTIF(J11:L11,">0"),) | AL11: =IFERROR(SUM(M11:O11)/COUNTIF(M11:O11,">0"),) | AM11: =IFERROR(SUM(P11:R11)/COUNTIF(P11:R11,">0"),) | AN11: =IFERROR(SUM(S11:U11)/COUNTIF(S11:U11,">0"),) | AO11: =IFERROR(SUM(V11:X11)/COUNTIF(V11:X11,">0"),) | AP11: =IFERROR(SUM(Y11:AA11)/COUNTIF(Y11:AA11,">0"),) | AQ11: =IFERROR(SUM(AB11:AD11)/COUNTIF(AB11:AD11,">0"),) | AR11: =IFERROR(SUM(AE11:AG11)/COUNTIF(AE11:AG11,">0"),) | AS11: =IFERROR(SUM(AH11:AJ11)/COUNTIF(AH11:AJ11,">0"),)
A12: Alpha-1-antichymotrypsin OS=Homo sapiens GN=SERPINA3 PE=1 SV=2 | B12: 5.18 | C12: 47822.052 | D12: 25728.85 | E12: P01011 | F12: 17 | G12: 48.94 | H12: 0 | I12: AACT_HUMAN | J12: 7248.3333 | K12: 18019 | L12: 14655.333 | M12: 11360.333 | N12: 18679 | O12: 21941 | P12: 1413876 | Q12: 995563 | R12: 1424838.3 | S12: 70960 | T12: 228503.67 | U12: 37471.333 | V12: 15101 | W12: 46114 | X12: 15202.667 | Y12: 15318 | Z12: 15250.333 | AA12: 18721.667 | AB12: 755472.33 | AC12: 585969.33 | AD12: 472006.67 | AE12: 70927.667 | AF12: 74892.333 | AG12: 23911.667 | AH12: 81419 | AI12: 49743.333 | AJ12: 62496.667 | AK12: =IFERROR(SUM(J12:L12)/COUNTIF(J12:L12,">0"),) | AL12: =IFERROR(SUM(M12:O12)/COUNTIF(M12:O12,">0"),) | AM12: =IFERROR(SUM(P12:R12)/COUNTIF(P12:R12,">0"),) | AN12: =IFERROR(SUM(S12:U12)/COUNTIF(S12:U12,">0"),) | AO12: =IFERROR(SUM(V12:X12)/COUNTIF(V12:X12,">0"),) | AP12: =IFERROR(SUM(Y12:AA12)/COUNTIF(Y12:AA12,">0"),) | AQ12: =IFERROR(SUM(AB12:AD12)/COUNTIF(AB12:AD12,">0"),) | AR12: =IFERROR(SUM(AE12:AG12)/COUNTIF(AE12:AG12,">0"),) | AS12: =IFERROR(SUM(AH12:AJ12)/COUNTIF(AH12:AJ12,">0"),)
A13: N-acetylmuramoyl-L-alanine amidase OS=Homo sapiens GN=PGLYRP2 PE=1 SV=1 | B13: 7.27 | C13: 62787.372 | D13: 25346.68 | E13: Q96PD5 | F13: 19 | G13: 61.46 | H13: 0 | I13: PGRP2_HUMAN | J13: 423885.67 | K13: 257526.33 | L13: 234383.67 | M13: 234621 | N13: 116122.33 | O13: 173022.67 | P13: 182166.33 | Q13: 137066.33 | R13: 123345.67 | S13: 191518.67 | T13: 171685.33 | U13: 66574 | V13: 227660 | W13: 160463 | X13: 164564 | Y13: 251923.33 | Z13: 165368 | AA13: 161752.67 | AB13: 43582 | AC13: 33022.333 | AD13: 45404.333 | AE13: 100669 | AF13: 77735 | AG13: 153086.33 | AH13: 73673 | AI13: 41835.333 | AJ13: 91010 | AK13: =IFERROR(SUM(J13:L13)/COUNTIF(J13:L13,">0"),) | AL13: =IFERROR(SUM(M13:O13)/COUNTIF(M13:O13,">0"),) | AM13: =IFERROR(SUM(P13:R13)/COUNTIF(P13:R13,">0"),) | AN13: =IFERROR(SUM(S13:U13)/COUNTIF(S13:U13,">0"),) | AO13: =IFERROR(SUM(V13:X13)/COUNTIF(V13:X13,">0"),) | AP13: =IFERROR(SUM(Y13:AA13)/COUNTIF(Y13:AA13,">0"),) | AQ13: =IFERROR(SUM(AB13:AD13)/COUNTIF(AB13:AD13,">0"),) | AR13: =IFERROR(SUM(AE13:AG13)/COUNTIF(AE13:AG13,">0"),) | AS13: =IFERROR(SUM(AH13:AJ13)/COUNTIF(AH13:AJ13,">0"),)
A14: Lumican OS=Homo sapiens GN=LUM PE=1 SV=2 | B14: 6.16 | C14: 38771.222 | D14: 23262.68 | E14: P51884 | F14: 14 | G14: 56.8 | H14: 0 | I14: LUM_HUMAN | J14: 522158 | K14: 503970.67 | L14: 353945 | M14: 489555.33 | N14: 398309 | O14: 419900 | P14: 297101 | Q14: 297404 | R14: 234341 | S14: 17605 | T14: 14112.5 | V14: 333528 | W14: 325938.33 | X14: 217631 | Y14: 278231.33 | Z14: 280364.33 | AA14: 199085.67 | AB14: 149889.67 | AC14: 162448.67 | AD14: 82309.333 | AE14: 275057.33 | AF14: 215590 | AG14: 248289.33 | AH14: 355933 | AI14: 256669.33 | AJ14: 335522.33 | AK14: =IFERROR(SUM(J14:L14)/COUNTIF(J14:L14,">0"),) | AL14: =IFERROR(SUM(M14:O14)/COUNTIF(M14:O14,">0"),) | AM14: =IFERROR(SUM(P14:R14)/COUNTIF(P14:R14,">0"),) | AN14: =IFERROR(SUM(S14:U14)/COUNTIF(S14:U14,">0"),) | AO14: =IFERROR(SUM(V14:X14)/COUNTIF(V14:X14,">0"),) | AP14: =IFERROR(SUM(Y14:AA14)/COUNTIF(Y14:AA14,">0"),) | AQ14: =IFERROR(SUM(AB14:AD14)/COUNTIF(AB14:AD14,">0"),) | AR14: =IFERROR(SUM(AE14:AG14)/COUNTIF(AE14:AG14,">0"),) | AS14: =IFERROR(SUM(AH14:AJ14)/COUNTIF(AH14:AJ14,">0"),)
A15: Serum amyloid A-1 protein OS=Homo sapiens GN=SAA1 PE=1 SV=1 | B15: 6.35 | C15: 13589.072 | D15: 21597.63 | E15: P0DJI8 | F15: 4 | G15: 47.54 | H15: 0 | I15: SAA1_HUMAN | L15: 7279 | V15: 16926 | Y15: 9787 | AB15: 2281.5 | AC15: 2099.5 | AD15: 2436 | AG15: 4448 | AH15: 83541.538 | AI15: 26260.393 | AJ15: 68118.037 | AK15: =IFERROR(SUM(J15:L15)/COUNTIF(J15:L15,">0"),) | AL15: =IFERROR(SUM(M15:O15)/COUNTIF(M15:O15,">0"),) | AM15: =IFERROR(SUM(P15:R15)/COUNTIF(P15:R15,">0"),) | AN15: =IFERROR(SUM(S15:U15)/COUNTIF(S15:U15,">0"),) | AO15: =IFERROR(SUM(V15:X15)/COUNTIF(V15:X15,">0"),) | AP15: =IFERROR(SUM(Y15:AA15)/COUNTIF(Y15:AA15,">0"),) | AQ15: =IFERROR(SUM(AB15:AD15)/COUNTIF(AB15:AD15,">0"),) | AR15: =IFERROR(SUM(AE15:AG15)/COUNTIF(AE15:AG15,">0"),) | AS15: =IFERROR(SUM(AH15:AJ15)/COUNTIF(AH15:AJ15,">0"),)
A16: Sex hormone-binding globulin OS=Homo sapiens GN=SHBG PE=1 SV=2 | B16: 6.24 | C16: 44007.38 | D16: 19685.25 | E16: P04278 | F16: 18 | G16: 90.8 | H16: 0 | I16: SHBG_HUMAN | J16: 123283.67 | K16: 101132.33 | L16: 84266.667 | M16: 53495 | N16: 39175.667 | O16: 39167 | P16: 163905.33 | Q16: 127203.67 | R16: 116459.33 | S16: 30261.667 | T16: 20340 | U16: 11377 | V16: 55640.333 | W16: 47135.667 | X16: 45926.333 | Y16: 182614.67 | Z16: 152805 | AA16: 123365.67 | AB16: 22541.667 | AC16: 20191 | AD16: 26370 | AE16: 40480 | AF16: 31568.333 | AG16: 45649.667 | AH16: 89020.333 | AI16: 50961.333 | AJ16: 85515 | AK16: =IFERROR(SUM(J16:L16)/COUNTIF(J16:L16,">0"),) | AL16: =IFERROR(SUM(M16:O16)/COUNTIF(M16:O16,">0"),) | AM16: =IFERROR(SUM(P16:R16)/COUNTIF(P16:R16,">0"),) | AN16: =IFERROR(SUM(S16:U16)/COUNTIF(S16:U16,">0"),) | AO16: =IFERROR(SUM(V16:X16)/COUNTIF(V16:X16,">0"),) | AP16: =IFERROR(SUM(Y16:AA16)/COUNTIF(Y16:AA16,">0"),) | AQ16: =IFERROR(SUM(AB16:AD16)/COUNTIF(AB16:AD16,">0"),) | AR16: =IFERROR(SUM(AE16:AG16)/COUNTIF(AE16:AG16,">0"),) | AS16: =IFERROR(SUM(AH16:AJ16)/COUNTIF(AH16:AJ16,">0"),)
A17: Insulin-like growth factor-binding protein complex acid labile subunit OS=Homo sapiens GN=IGFALS PE=1 SV=1 | B17: 6.33 | C17: 66776.411 | D17: 19304.69 | E17: P35858 | F17: 24 | G17: 54.71 | H17: 0 | I17: ALS_HUMAN | J17: 389020.33 | K17: 365404 | L17: 251439.33 | M17: 328841 | N17: 320968 | O17: 263197.33 | P17: 286410.33 | Q17: 226245.67 | R17: 223946.67 | S17: 50412.333 | T17: 34892 | U17: 10434.333 | V17: 140874.33 | W17: 143651.67 | X17: 99335.667 | Y17: 159892.33 | Z17: 117736.67 | AA17: 90569.333 | AB17: 46267.333 | AC17: 40334 | AD17: 34348.667 | AE17: 80345.667 | AF17: 60094 | AG17: 71398.333 | AH17: 54447.333 | AI17: 58852 | AJ17: 75811 | AK17: =IFERROR(SUM(J17:L17)/COUNTIF(J17:L17,">0"),) | AL17: =IFERROR(SUM(M17:O17)/COUNTIF(M17:O17,">0"),) | AM17: =IFERROR(SUM(P17:R17)/COUNTIF(P17:R17,">0"),) | AN17: =IFERROR(SUM(S17:U17)/COUNTIF(S17:U17,">0"),) | AO17: =IFERROR(SUM(V17:X17)/COUNTIF(V17:X17,">0"),) | AP17: =IFERROR(SUM(Y17:AA17)/COUNTIF(Y17:AA17,">0"),) | AQ17: =IFERROR(SUM(AB17:AD17)/COUNTIF(AB17:AD17,">0"),) | AR17: =IFERROR(SUM(AE17:AG17)/COUNTIF(AE17:AG17,">0"),) | AS17: =IFERROR(SUM(AH17:AJ17)/COUNTIF(AH17:AJ17,">0"),)
A18: Apolipoprotein B-100 OS=Homo sapiens GN=APOB PE=1 SV=2 | B18: 6.58 | C18: 516974.08 | D18: 18926.21 | E18: P04114 | F18: 256 | G18: 75.94 | H18: 0 | I18: APOB_HUMAN | J18: 386319.67 | K18: 429008 | L18: 345161.33 | M18: 282205.33 | N18: 273323.67 | O18: 278696.67 | P18: 432488.33 | Q18: 390957 | R18: 256714 | S18: 308693 | T18: 271038 | U18: 144719.67 | V18: 714394.33 | W18: 584882.67 | X18: 481307.33 | Y18: 229544.33 | Z18: 155586 | AA18: 118298 | AB18: 294079.33 | AC18: 105585.67 | AD18: 92515 | AE18: 187864.67 | AF18: 157487.67 | AG18: 209238.67 | AH18: 198235.67 | AI18: 144285.33 | AJ18: 171258.67 | AK18: =IFERROR(SUM(J18:L18)/COUNTIF(J18:L18,">0"),) | AL18: =IFERROR(SUM(M18:O18)/COUNTIF(M18:O18,">0"),) | AM18: =IFERROR(SUM(P18:R18)/COUNTIF(P18:R18,">0"),) | AN18: =IFERROR(SUM(S18:U18)/COUNTIF(S18:U18,">0"),) | AO18: =IFERROR(SUM(V18:X18)/COUNTIF(V18:X18,">0"),) | AP18: =IFERROR(SUM(Y18:AA18)/COUNTIF(Y18:AA18,">0"),) | AQ18: =IFERROR(SUM(AB18:AD18)/COUNTIF(AB18:AD18,">0"),) | AR18: =IFERROR(SUM(AE18:AG18)/COUNTIF(AE18:AG18,">0"),) | AS18: =IFERROR(SUM(AH18:AJ18)/COUNTIF(AH18:AJ18,">0"),)
A19: Complement component C9 OS=Homo sapiens GN=C9 PE=1 SV=2 | B19: 5.27 | C19: 64656.174 | D19: 17249.09 | E19: P02748 | F19: 31 | G19: 74.78 | H19: 0 | I19: CO9_HUMAN | J19: 274862 | K19: 284476.33 | L19: 243147 | M19: 104957 | N19: 111946.33 | O19: 101703.33 | P19: 395365 | Q19: 519035.33 | R19: 466031.33 | S19: 104079.33 | T19: 111509.33 | U19: 48405 | V19: 112582 | W19: 111379 | X19: 81880.333 | Y19: 220813.67 | Z19: 215136.67 | AA19: 187409.33 | AB19: 229626.67 | AC19: 198577 | AD19: 158876.67 | AE19: 403043 | AF19: 326133 | AG19: 347800.67 | AH19: 309274 | AI19: 221322.33 | AJ19: 288233.67 | AK19: =IFERROR(SUM(J19:L19)/COUNTIF(J19:L19,">0"),) | AL19: =IFERROR(SUM(M19:O19)/COUNTIF(M19:O19,">0"),) | AM19: =IFERROR(SUM(P19:R19)/COUNTIF(P19:R19,">0"),) | AN19: =IFERROR(SUM(S19:U19)/COUNTIF(S19:U19,">0"),) | AO19: =IFERROR(SUM(V19:X19)/COUNTIF(V19:X19,">0"),) | AP19: =IFERROR(SUM(Y19:AA19)/COUNTIF(Y19:AA19,">0"),) | AQ19: =IFERROR(SUM(AB19:AD19)/COUNTIF(AB19:AD19,">0"),) | AR19: =IFERROR(SUM(AE19:AG19)/COUNTIF(AE19:AG19,">0"),) | AS19: =IFERROR(SUM(AH19:AJ19)/COUNTIF(AH19:AJ19,">0"),)
A20: Apolipoprotein E OS=Homo sapiens GN=APOE PE=1 SV=1 | B20: 5.48 | C20: 36268.203 | D20: 16882.13 | E20: P02649 | F20: 20 | G20: 79.81 | H20: 0 | I20: APOE_HUMAN | J20: 58824.667 | K20: 52106.667 | L20: 41960.333 | M20: 47958.333 | N20: 42641 | O20: 35845 | P20: 76690.333 | Q20: 69312 | R20: 48238.667 | S20: 37720.333 | T20: 44142.333 | U20: 19914 | V20: 126882 | W20: 116342 | X20: 94684.333 | Y20: 47722.333 | Z20: 44460.333 | AA20: 37541.333 | AB20: 72713.667 | AC20: 47080.333 | AD20: 42391.333 | AE20: 36821 | AF20: 22216.333 | AG20: 23075 | AH20: 110386 | AI20: 80831.667 | AJ20: 124047.67 | AK20: =IFERROR(SUM(J20:L20)/COUNTIF(J20:L20,">0"),) | AL20: =IFERROR(SUM(M20:O20)/COUNTIF(M20:O20,">0"),) | AM20: =IFERROR(SUM(P20:R20)/COUNTIF(P20:R20,">0"),) | AN20: =IFERROR(SUM(S20:U20)/COUNTIF(S20:U20,">0"),) | AO20: =IFERROR(SUM(V20:X20)/COUNTIF(V20:X20,">0"),) | AP20: =IFERROR(SUM(Y20:AA20)/COUNTIF(Y20:AA20,">0"),) | AQ20: =IFERROR(SUM(AB20:AD20)/COUNTIF(AB20:AD20,">0"),) | AR20: =IFERROR(SUM(AE20:AG20)/COUNTIF(AE20:AG20,">0"),) | AS20: =IFERROR(SUM(AH20:AJ20)/COUNTIF(AH20:AJ20,">0"),)
A21: Tetranectin OS=Homo sapiens GN=CLEC3B PE=1 SV=3 | B21: 5.37 | C21: 22936.045 | D21: 16258.08 | E21: P05452 | F21: 9 | G21: 76.24 | H21: 0 | I21: TETN_HUMAN | J21: 235797 | K21: 228206.67 | L21: 190404.33 | M21: 153293.33 | N21: 107563.67 | O21: 126805.67 | P21: 134201 | Q21: 84820.667 | R21: 110958 | S21: 21926.333 | T21: 2741 | V21: 192181.67 | W21: 132483 | X21: 97161 | Y21: 113241.67 | Z21: 103352.67 | AA21: 118117 | AB21: 24453 | AC21: 18636 | AD21: 9237.5 | AE21: 71185 | AF21: 60949 | AG21: 92688 | AH21: 58248.333 | AI21: 68280.5 | AJ21: 62057 | AK21: =IFERROR(SUM(J21:L21)/COUNTIF(J21:L21,">0"),) | AL21: =IFERROR(SUM(M21:O21)/COUNTIF(M21:O21,">0"),) | AM21: =IFERROR(SUM(P21:R21)/COUNTIF(P21:R21,">0"),) | AN21: =IFERROR(SUM(S21:U21)/COUNTIF(S21:U21,">0"),) | AO21: =IFERROR(SUM(V21:X21)/COUNTIF(V21:X21,">0"),) | AP21: =IFERROR(SUM(Y21:AA21)/COUNTIF(Y21:AA21,">0"),) | AQ21: =IFERROR(SUM(AB21:AD21)/COUNTIF(AB21:AD21,">0"),) | AR21: =IFERROR(SUM(AE21:AG21)/COUNTIF(AE21:AG21,">0"),) | AS21: =IFERROR(SUM(AH21:AJ21)/COUNTIF(AH21:AJ21,">0"),)
A22: Heparin cofactor 2 OS=Homo sapiens GN=SERPIND1 PE=1 SV=3 | B22: 6.43 | C22: 57241.828 | D22: 15969.21 | E22: P05546 | F22: 28 | G22: 79.16 | H22: 0 | I22: HEP2_HUMAN | J22: 425291.33 | K22: 637289 | L22: 435447.33 | M22: 371661 | N22: 404052.67 | O22: 451248.67 | P22: 353972.67 | Q22: 291685.67 | R22: 318746 | S22: 150847 | T22: 159715.33 | U22: 114193.67 | V22: 510306.33 | W22: 579225.33 | X22: 708436.33 | Y22: 254358.67 | Z22: 232041 | AA22: 218070.33 | AB22: 47421 | AC22: 34862 | AD22: 31896.333 | AE22: 318483.33 | AF22: 279978 | AG22: 261534.33 | AH22: 253170.33 | AI22: 198933 | AJ22: 202364.33 | AK22: =IFERROR(SUM(J22:L22)/COUNTIF(J22:L22,">0"),) | AL22: =IFERROR(SUM(M22:O22)/COUNTIF(M22:O22,">0"),) | AM22: =IFERROR(SUM(P22:R22)/COUNTIF(P22:R22,">0"),) | AN22: =IFERROR(SUM(S22:U22)/COUNTIF(S22:U22,">0"),) | AO22: =IFERROR(SUM(V22:X22)/COUNTIF(V22:X22,">0"),) | AP22: =IFERROR(SUM(Y22:AA22)/COUNTIF(Y22:AA22,">0"),) | AQ22: =IFERROR(SUM(AB22:AD22)/COUNTIF(AB22:AD22,">0"),) | AR22: =IFERROR(SUM(AE22:AG22)/COUNTIF(AE22:AG22,">0"),) | AS22: =IFERROR(SUM(AH22:AJ22)/COUNTIF(AH22:AJ22,">0"),)
A23: C-reactive protein OS=Homo sapiens GN=CRP PE=1 SV=1 | B23: 5.31 | C23: 25209.685 | D23: 14806.04 | E23: P02741 | F23: 6 | G23: 27.68 | H23: 0 | I23: CRP_HUMAN | J23: 10871 | K23: 8014.3333 | L23: 10480.333 | M23: 19202 | N23: 4230 | O23: 11756.333 | P23: 567584.33 | Q23: 481040.33 | R23: 479123.67 | S23: 15511.667 | T23: 24182.667 | U23: 16138 | V23: 61952.667 | W23: 49040 | X23: 48966.333 | Y23: 8609 | Z23: 15765 | AA23: 7688.5 | AB23: 542308.67 | AC23: 181179.33 | AD23: 452804 | AE23: 178207.67 | AF23: 126036 | AG23: 179853 | AH23: 1477735.3 | AI23: 893081.33 | AJ23: 1480047.3 | AK23: =IFERROR(SUM(J23:L23)/COUNTIF(J23:L23,">0"),) | AL23: =IFERROR(SUM(M23:O23)/COUNTIF(M23:O23,">0"),) | AM23: =IFERROR(SUM(P23:R23)/COUNTIF(P23:R23,">0"),) | AN23: =IFERROR(SUM(S23:U23)/COUNTIF(S23:U23,">0"),) | AO23: =IFERROR(SUM(V23:X23)/COUNTIF(V23:X23,">0"),) | AP23: =IFERROR(SUM(Y23:AA23)/COUNTIF(Y23:AA23,">0"),) | AQ23: =IFERROR(SUM(AB23:AD23)/COUNTIF(AB23:AD23,">0"),) | AR23: =IFERROR(SUM(AE23:AG23)/COUNTIF(AE23:AG23,">0"),) | AS23: =IFERROR(SUM(AH23:AJ23)/COUNTIF(AH23:AJ23,">0"),)
A24: Platelet basic protein OS=Homo sapiens GN=PPBP PE=1 SV=3 | B24: 9.07 | C24: 14179.376 | D24: 14631.34 | E24: P02775 | F24: 6 | G24: 82.81 | H24: 0 | I24: CXCL7_HUMAN | J24: 88137.667 | K24: 45100 | L24: 57140 | M24: 29145 | N24: 15858 | O24: 14900.667 | P24: 68696 | Q24: 58754.667 | R24: 67760.667 | S24: 7840 | T24: 12889 | V24: 154615.33 | W24: 142543.33 | X24: 154998.67 | Y24: 64565.667 | Z24: 34192 | AA24: 74147 | AB24: 147251 | AC24: 134919.67 | AD24: 138639.33 | AE24: 56400.333 | AF24: 53734.333 | AG24: 25756.667 | AH24: 21211.333 | AI24: 2792 | AJ24: 26021.5 | AK24: =IFERROR(SUM(J24:L24)/COUNTIF(J24:L24,">0"),) | AL24: =IFERROR(SUM(M24:O24)/COUNTIF(M24:O24,">0"),) | AM24: =IFERROR(SUM(P24:R24)/COUNTIF(P24:R24,">0"),) | AN24: =IFERROR(SUM(S24:U24)/COUNTIF(S24:U24,">0"),) | AO24: =IFERROR(SUM(V24:X24)/COUNTIF(V24:X24,">0"),) | AP24: =IFERROR(SUM(Y24:AA24)/COUNTIF(Y24:AA24,">0"),) | AQ24: =IFERROR(SUM(AB24:AD24)/COUNTIF(AB24:AD24,">0"),) | AR24: =IFERROR(SUM(AE24:AG24)/COUNTIF(AE24:AG24,">0"),) | AS24: =IFERROR(SUM(AH24:AJ24)/COUNTIF(AH24:AJ24,">0"),)
A25: Clusterin OS=Homo sapiens GN=CLU PE=1 SV=1 | B25: 5.84 | C25: 53064.968 | D25: 13741.51 | E25: P10909 | F25: 16 | G25: 59.91 | H25: 0 | I25: CLUS_HUMAN | J25: 171812.33 | K25: 155081.67 | L25: 138623.33 | M25: 199581.67 | N25: 167820.33 | O25: 153859.33 | P25: 183721 | Q25: 157363 | R25: 112276 | S25: 3867 | T25: 8130 | V25: 269722.33 | W25: 257942.33 | X25: 185842.33 | Y25: 108750.67 | Z25: 106869.67 | AA25: 76739.667 | AB25: 131498 | AC25: 90093 | AD25: 68584.667 | AE25: 238264 | AF25: 193071 | AG25: 250756.67 | AH25: 188702 | AI25: 141171.67 | AJ25: 178612.67 | AK25: =IFERROR(SUM(J25:L25)/COUNTIF(J25:L25,">0"),) | AL25: =IFERROR(SUM(M25:O25)/COUNTIF(M25:O25,">0"),) | AM25: =IFERROR(SUM(P25:R25)/COUNTIF(P25:R25,">0"),) | AN25: =IFERROR(SUM(S25:U25)/COUNTIF(S25:U25,">0"),) | AO25: =IFERROR(SUM(V25:X25)/COUNTIF(V25:X25,">0"),) | AP25: =IFERROR(SUM(Y25:AA25)/COUNTIF(Y25:AA25,">0"),) | AQ25: =IFERROR(SUM(AB25:AD25)/COUNTIF(AB25:AD25,">0"),) | AR25: =IFERROR(SUM(AE25:AG25)/COUNTIF(AE25:AG25,">0"),) | AS25: =IFERROR(SUM(AH25:AJ25)/COUNTIF(AH25:AJ25,">0"),)
A26: Complement C2 OS=Homo sapiens GN=C2 PE=1 SV=2 | B26: 7.12 | C26: 84636.647 | D26: 12086.97 | E26: P06681 | F26: 40 | G26: 75.53 | H26: 0 | I26: CO2_HUMAN | J26: 206809.33 | K26: 220585.33 | L26: 206876.67 | M26: 209915 | N26: 197809.33 | O26: 203147 | P26: 260811.67 | Q26: 243854 | R26: 241437.33 | S26: 83773.333 | T26: 88889.333 | U26: 68534.333 | V26: 125801 | W26: 120727.67 | X26: 111656.33 | Y26: 194291 | Z26: 152795.33 | AA26: 149514 | AB26: 205164.33 | AC26: 185337 | AD26: 168194.33 | AE26: 137915.67 | AF26: 119873.33 | AG26: 118323 | AH26: 215352.33 | AI26: 158373 | AJ26: 182438.33 | AK26: =IFERROR(SUM(J26:L26)/COUNTIF(J26:L26,">0"),) | AL26: =IFERROR(SUM(M26:O26)/COUNTIF(M26:O26,">0"),) | AM26: =IFERROR(SUM(P26:R26)/COUNTIF(P26:R26,">0"),) | AN26: =IFERROR(SUM(S26:U26)/COUNTIF(S26:U26,">0"),) | AO26: =IFERROR(SUM(V26:X26)/COUNTIF(V26:X26,">0"),) | AP26: =IFERROR(SUM(Y26:AA26)/COUNTIF(Y26:AA26,">0"),) | AQ26: =IFERROR(SUM(AB26:AD26)/COUNTIF(AB26:AD26,">0"),) | AR26: =IFERROR(SUM(AE26:AG26)/COUNTIF(AE26:AG26,">0"),) | AS26: =IFERROR(SUM(AH26:AJ26)/COUNTIF(AH26:AJ26,">0"),)
A27: Contaminant, Enolase 1 OS=Saccharomyces cerevisiae GN=ENO1 PE=1 SV=2 | B27: 6.15 | C27: 47332.678 | D27: 12075.52 | E27: P00924 | F27: 18 | G27: 68.71 | H27: 0 | I27: ENO1_YEAST_CONTA | J27: 142137.67 | K27: 133207.67 | L27: 93598.67 | M27: 85221.667 | N27: 71045.326 | O27: 62698.188 | P27: 106038.67 | Q27: 105427.67 | R27: 111167.32 | S27: 76605.772 | T27: 114959.03 | U27: 55450.667 | V27: 79341.428 | W27: 126709 | X27: 69742.428 | Y27: 86049.667 | Z27: 73967 | AA27: 63022.299 | AB27: 166560.94 | AC27: 146551.06 | AD27: 97982.206 | AE27: 114463.09 | AF27: 112689.32 | AG27: 138257 | AH27: 67915.333 | AI27: 53657.333 | AJ27: 52538.724 | AK27: =IFERROR(SUM(J27:L27)/COUNTIF(J27:L27,">0"),) | AL27: =IFERROR(SUM(M27:O27)/COUNTIF(M27:O27,">0"),) | AM27: =IFERROR(SUM(P27:R27)/COUNTIF(P27:R27,">0"),) | AN27: =IFERROR(SUM(S27:U27)/COUNTIF(S27:U27,">0"),) | AO27: =IFERROR(SUM(V27:X27)/COUNTIF(V27:X27,">0"),) | AP27: =IFERROR(SUM(Y27:AA27)/COUNTIF(Y27:AA27,">0"),) | AQ27: =IFERROR(SUM(AB27:AD27)/COUNTIF(AB27:AD27,">0"),) | AR27: =IFERROR(SUM(AE27:AG27)/COUNTIF(AE27:AG27,">0"),) | AS27: =IFERROR(SUM(AH27:AJ27)/COUNTIF(AH27:AJ27,">0"),)
A28: Immunoglobulin lambda constant 1 OS=Homo sapiens GN=IGLC1 PE=1 SV=1 | B28: 7.99 | C28: 11518.75 | D28: 11678.57 | E28: P0CG04 | F28: 4 | G28: 56.6 | H28: 0 | I28: IGLC1_HUMAN | J28: 5716.2638 | K28: 4571.1523 | L28: 2479.8244 | M28: 3051.6667 | N28: 1554 | O28: 2902.25 | V28: 1013 | W28: 5157 | X28: 4897 | Y28: 5252 | Z28: 4345.5 | AA28: 4732.3333 | AE28: 8083.9978 | AF28: 6387.3317 | AG28: 7309.8669 | AK28: =IFERROR(SUM(J28:L28)/COUNTIF(J28:L28,">0"),) | AL28: =IFERROR(SUM(M28:O28)/COUNTIF(M28:O28,">0"),) | AM28: =IFERROR(SUM(P28:R28)/COUNTIF(P28:R28,">0"),) | AN28: =IFERROR(SUM(S28:U28)/COUNTIF(S28:U28,">0"),) | AO28: =IFERROR(SUM(V28:X28)/COUNTIF(V28:X28,">0"),) | AP28: =IFERROR(SUM(Y28:AA28)/COUNTIF(Y28:AA28,">0"),) | AQ28: =IFERROR(SUM(AB28:AD28)/COUNTIF(AB28:AD28,">0"),) | AR28: =IFERROR(SUM(AE28:AG28)/COUNTIF(AE28:AG28,">0"),) | AS28: =IFERROR(SUM(AH28:AJ28)/COUNTIF(AH28:AJ28,">0"),)
A29: Immunoglobulin lambda constant 2 OS=Homo sapiens GN=IGLC2 PE=1 SV=1 | B29: 7.07 | C29: 11464.655 | D29: 11678.57 | E29: P0DOY2 | F29: 5 | G29: 66.04 | H29: 0 | I29: IGLC2_HUMAN | J29: 37987.235 | K29: 20373.565 | L29: 17148.45 | M29: 3051.6667 | N29: 1554 | O29: 2902.25 | P29: 6143 | Q29: 6155.6667 | R29: 2301 | V29: 1013 | W29: 5157 | X29: 4897 | Y29: 5252 | Z29: 4345.5 | AA29: 4732.3333 | AD29: 2263.5 | AE29: 55670.667 | AF29: 29745.112 | AG29: 49025.133 | AH29: 22330 | AI29: 3704.5 | AJ29: 6982 | AK29: =IFERROR(SUM(J29:L29)/COUNTIF(J29:L29,">0"),) | AL29: =IFERROR(SUM(M29:O29)/COUNTIF(M29:O29,">0"),) | AM29: =IFERROR(SUM(P29:R29)/COUNTIF(P29:R29,">0"),) | AN29: =IFERROR(SUM(S29:U29)/COUNTIF(S29:U29,">0"),) | AO29: =IFERROR(SUM(V29:X29)/COUNTIF(V29:X29,">0"),) | AP29: =IFERROR(SUM(Y29:AA29)/COUNTIF(Y29:AA29,">0"),) | AQ29: =IFERROR(SUM(AB29:AD29)/COUNTIF(AB29:AD29,">0"),) | AR29: =IFERROR(SUM(AE29:AG29)/COUNTIF(AE29:AG29,">0"),) | AS29: =IFERROR(SUM(AH29:AJ29)/COUNTIF(AH29:AJ29,">0"),)
A30: Complement C1r subcomponent OS=Homo sapiens GN=C1R PE=1 SV=2 | B30: 5.77 | C30: 81658.408 | D30: 11089.25 | E30: P00736 | F30: 33 | G30: 67.66 | H30: 0 | I30: C1R_HUMAN | J30: 228691.67 | K30: 168050.67 | L30: 179667 | M30: 172828.67 | N30: 132416.67 | O30: 162562.67 | P30: 172056.67 | Q30: 189720 | R30: 186055.33 | S30: 33496.667 | T30: 34566.333 | U30: 51279.667 | V30: 146074.67 | W30: 114582.67 | X30: 137799.33 | Y30: 175616.67 | Z30: 206664.33 | AA30: 126190 | AB30: 39825 | AC30: 63895.667 | AD30: 46289.667 | AE30: 101541 | AF30: 98385.333 | AG30: 115160.67 | AH30: 48184 | AI30: 73618.333 | AJ30: 53130 | AK30: =IFERROR(SUM(J30:L30)/COUNTIF(J30:L30,">0"),) | AL30: =IFERROR(SUM(M30:O30)/COUNTIF(M30:O30,">0"),) | AM30: =IFERROR(SUM(P30:R30)/COUNTIF(P30:R30,">0"),) | AN30: =IFERROR(SUM(S30:U30)/COUNTIF(S30:U30,">0"),) | AO30: =IFERROR(SUM(V30:X30)/COUNTIF(V30:X30,">0"),) | AP30: =IFERROR(SUM(Y30:AA30)/COUNTIF(Y30:AA30,">0"),) | AQ30: =IFERROR(SUM(AB30:AD30)/COUNTIF(AB30:AD30,">0"),) | AR30: =IFERROR(SUM(AE30:AG30)/COUNTIF(AE30:AG30,">0"),) | AS30: =IFERROR(SUM(AH30:AJ30)/COUNTIF(AH30:AJ30,">0"),)
A31: Mannose-binding protein C OS=Homo sapiens GN=MBL2 PE=1 SV=2 | B31: 5.21 | C31: 26542.761 | D31: 10831.38 | E31: P11226 | F31: 10 | G31: 65.73 | H31: 0 | I31: MBL2_HUMAN | J31: 145420 | K31: 137407 | L31: 103001.67 | M31: 72867.667 | N31: 61593.333 | O31: 58886.333 | P31: 40188 | Q31: 34872.667 | R31: 41340.667 | U31: 5074.5 | V31: 13186.333 | W31: 11145.667 | X31: 9458 | Y31: 67103 | Z31: 64508.667 | AA31: 53051.333 | AB31: 38688 | AC31: 34293 | AD31: 14860.667 | AE31: 60325.667 | AF31: 53336.667 | AG31: 70413 | AH31: 93398.333 | AI31: 71324.667 | AJ31: 100269.33 | AK31: =IFERROR(SUM(J31:L31)/COUNTIF(J31:L31,">0"),) | AL31: =IFERROR(SUM(M31:O31)/COUNTIF(M31:O31,">0"),) | AM31: =IFERROR(SUM(P31:R31)/COUNTIF(P31:R31,">0"),) | AN31: =IFERROR(SUM(S31:U31)/COUNTIF(S31:U31,">0"),) | AO31: =IFERROR(SUM(V31:X31)/COUNTIF(V31:X31,">0"),) | AP31: =IFERROR(SUM(Y31:AA31)/COUNTIF(Y31:AA31,">0"),) | AQ31: =IFERROR(SUM(AB31:AD31)/COUNTIF(AB31:AD31,">0"),) | AR31: =IFERROR(SUM(AE31:AG31)/COUNTIF(AE31:AG31,">0"),) | AS31: =IFERROR(SUM(AH31:AJ31)/COUNTIF(AH31:AJ31,">0"),)
A32: Thyroxine-binding globulin OS=Homo sapiens GN=SERPINA7 PE=1 SV=2 | B32: 5.85 | C32: 46666.777 | D32: 10485.84 | E32: P05543 | F32: 19 | G32: 61.2 | H32: 0 | I32: THBG_HUMAN | J32: 260390 | K32: 255110.33 | L32: 254215.67 | M32: 305772.33 | N32: 363672.33 | O32: 328576.33 | P32: 368404.67 | Q32: 368182.33 | R32: 405095 | S32: 47014.667 | T32: 47466.333 | U32: 36131.333 | V32: 197948 | W32: 133023 | X32: 118969.67 | Y32: 206234 | Z32: 186520 | AA32: 151061.33 | AB32: 284229.33 | AC32: 214508.67 | AD32: 192893.33 | AE32: 106811 | AF32: 117569 | AG32: 162017.33 | AH32: 250090.33 | AI32: 279026 | AJ32: 399503 | AK32: =IFERROR(SUM(J32:L32)/COUNTIF(J32:L32,">0"),) | AL32: =IFERROR(SUM(M32:O32)/COUNTIF(M32:O32,">0"),) | AM32: =IFERROR(SUM(P32:R32)/COUNTIF(P32:R32,">0"),) | AN32: =IFERROR(SUM(S32:U32)/COUNTIF(S32:U32,">0"),) | AO32: =IFERROR(SUM(V32:X32)/COUNTIF(V32:X32,">0"),) | AP32: =IFERROR(SUM(Y32:AA32)/COUNTIF(Y32:AA32,">0"),) | AQ32: =IFERROR(SUM(AB32:AD32)/COUNTIF(AB32:AD32,">0"),) | AR32: =IFERROR(SUM(AE32:AG32)/COUNTIF(AE32:AG32,">0"),) | AS32: =IFERROR(SUM(AH32:AJ32)/COUNTIF(AH32:AJ32,">0"),)
A33: Protein AMBP OS=Homo sapiens GN=AMBP PE=1 SV=1 | B33: 5.87 | C33: 39911.993 | D33: 10437.61 | E33: P02760 | F33: 9 | G33: 46.02 | H33: 0 | I33: AMBP_HUMAN | J33: 51083.333 | K33: 49716.667 | L33: 25924.333 | M33: 59527.667 | N33: 38754.5 | O33: 34829 | P33: 37874.333 | Q33: 44959.333 | R33: 35379.667 | T33: 40906 | V33: 35483 | W33: 21221.667 | X33: 28204.667 | Y33: 32513 | Z33: 23597 | AA33: 34816.333 | AB33: 155083 | AD33: 171980.67 | AE33: 35377.333 | AF33: 41143.667 | AG33: 79594.667 | AH33: 50811.667 | AI33: 28768.667 | AJ33: 60377.667 | AK33: =IFERROR(SUM(J33:L33)/COUNTIF(J33:L33,">0"),) | AL33: =IFERROR(SUM(M33:O33)/COUNTIF(M33:O33,">0"),) | AM33: =IFERROR(SUM(P33:R33)/COUNTIF(P33:R33,">0"),) | AN33: =IFERROR(SUM(S33:U33)/COUNTIF(S33:U33,">0"),) | AO33: =IFERROR(SUM(V33:X33)/COUNTIF(V33:X33,">0"),) | AP33: =IFERROR(SUM(Y33:AA33)/COUNTIF(Y33:AA33,">0"),) | AQ33: =IFERROR(SUM(AB33:AD33)/COUNTIF(AB33:AD33,">0"),) | AR33: =IFERROR(SUM(AE33:AG33)/COUNTIF(AE33:AG33,">0"),) | AS33: =IFERROR(SUM(AH33:AJ33)/COUNTIF(AH33:AJ33,">0"),)
A34: Immunoglobulin kappa light chain OS=Homo sapiens PE=1 SV=1 | B34: 6.97 | C34: 23664.243 | D34: 10385.21 | E34: P0DOX7 | F34: 6 | G34: 50.47 | H34: 0 | I34: IGK_HUMAN | J34: 58036.667 | K34: 43825 | L34: 14149 | M34: 8508.6667 | N34: 3427 | O34: 1226 | P34: 6635 | Q34: 4680.8333 | R34: 2685.3333 | S34: 7698.3333 | T34: 18354 | V34: 14386.667 | W34: 14333 | X34: 11356.5 | Y34: 8296.3333 | Z34: 6632 | AA34: 5231.5 | AB34: 4783 | AC34: 3885.5 | AD34: 1625.5 | AE34: 28809.167 | AF34: 26475.167 | AG34: 51974 | AH34: 15411.833 | AI34: 7280.6667 | AJ34: 7286 | AK34: =IFERROR(SUM(J34:L34)/COUNTIF(J34:L34,">0"),) | AL34: =IFERROR(SUM(M34:O34)/COUNTIF(M34:O34,">0"),) | AM34: =IFERROR(SUM(P34:R34)/COUNTIF(P34:R34,">0"),) | AN34: =IFERROR(SUM(S34:U34)/COUNTIF(S34:U34,">0"),) | AO34: =IFERROR(SUM(V34:X34)/COUNTIF(V34:X34,">0"),) | AP34: =IFERROR(SUM(Y34:AA34)/COUNTIF(Y34:AA34,">0"),) | AQ34: =IFERROR(SUM(AB34:AD34)/COUNTIF(AB34:AD34,">0"),) | AR34: =IFERROR(SUM(AE34:AG34)/COUNTIF(AE34:AG34,">0"),) | AS34: =IFERROR(SUM(AH34:AJ34)/COUNTIF(AH34:AJ34,">0"),)
A35: Immunoglobulin kappa constant OS=Homo sapiens GN=IGKC PE=1 SV=2 | B35: 6.1 | C35: 11936.129 | D35: 10356.01 | E35: P01834 | F35: 5 | G35: 84.11 | H35: 0 | I35: IGKC_HUMAN | P35: 6635 | Q35: 4680.8333 | R35: 2685.3333 | Y35: 8296.3333 | Z35: 6632 | AA35: 5231.5 | AB35: 4783 | AC35: 3885.5 | AD35: 1625.5 | AE35: 28809.167 | AF35: 26475.167 | AG35: 51974 | AH35: 15411.833 | AI35: 7280.6667 | AJ35: 7286 | AK35: =IFERROR(SUM(J35:L35)/COUNTIF(J35:L35,">0"),) | AL35: =IFERROR(SUM(M35:O35)/COUNTIF(M35:O35,">0"),) | AM35: =IFERROR(SUM(P35:R35)/COUNTIF(P35:R35,">0"),) | AN35: =IFERROR(SUM(S35:U35)/COUNTIF(S35:U35,">0"),) | AO35: =IFERROR(SUM(V35:X35)/COUNTIF(V35:X35,">0"),) | AP35: =IFERROR(SUM(Y35:AA35)/COUNTIF(Y35:AA35,">0"),) | AQ35: =IFERROR(SUM(AB35:AD35)/COUNTIF(AB35:AD35,">0"),) | AR35: =IFERROR(SUM(AE35:AG35)/COUNTIF(AE35:AG35,">0"),) | AS35: =IFERROR(SUM(AH35:AJ35)/COUNTIF(AH35:AJ35,">0"),)
A36: Carboxypeptidase N subunit 2 OS=Homo sapiens GN=CPN2 PE=1 SV=3 | B36: 5.57 | C36: 61412.117 | D36: 10008.09 | E36: P22792 | F36: 16 | G36: 57.25 | H36: 0 | I36: CPN2_HUMAN | J36: 157828.67 | K36: 128873.33 | L36: 95024.667 | M36: 210789 | N36: 160802.67 | O36: 138668 | P36: 205541 | Q36: 162765 | R36: 139533.67 | S36: 83899.333 | T36: 64081.667 | U36: 95292.667 | V36: 143745.33 | W36: 121820.33 | X36: 93064 | Y36: 173100.33 | Z36: 154819.33 | AA36: 94985.333 | AB36: 58315.333 | AC36: 43664.667 | AD36: 22738.333 | AE36: 105389.33 | AF36: 75357.667 | AG36: 115091 | AH36: 148616.33 | AI36: 76406 | AJ36: 127714 | AK36: =IFERROR(SUM(J36:L36)/COUNTIF(J36:L36,">0"),) | AL36: =IFERROR(SUM(M36:O36)/COUNTIF(M36:O36,">0"),) | AM36: =IFERROR(SUM(P36:R36)/COUNTIF(P36:R36,">0"),) | AN36: =IFERROR(SUM(S36:U36)/COUNTIF(S36:U36,">0"),) | AO36: =IFERROR(SUM(V36:X36)/COUNTIF(V36:X36,">0"),) | AP36: =IFERROR(SUM(Y36:AA36)/COUNTIF(Y36:AA36,">0"),) | AQ36: =IFERROR(SUM(AB36:AD36)/COUNTIF(AB36:AD36,">0"),) | AR36: =IFERROR(SUM(AE36:AG36)/COUNTIF(AE36:AG36,">0"),) | AS36: =IFERROR(SUM(AH36:AJ36)/COUNTIF(AH36:AJ36,">0"),)
A37: Glutathione peroxidase 3 OS=Homo sapiens GN=GPX3 PE=1 SV=2 | B37: 8.22 | C37: 25630.453 | D37: 9427.59 | E37: P22352 | F37: 7 | G37: 44.25 | H37: 0 | I37: GPX3_HUMAN | J37: 149122.67 | K37: 64210.333 | L37: 92327.333 | M37: 99051 | N37: 72923.667 | O37: 71967 | P37: 112396.33 | Q37: 86330 | R37: 96395.667 | S37: 36617.333 | T37: 32452 | U37: 24161 | V37: 72067.667 | W37: 64304.667 | X37: 90491.333 | Y37: 111345 | Z37: 81161.333 | AA37: 81569.667 | AB37: 26145.667 | AC37: 4876 | AD37: 49380.333 | AE37: 62452.333 | AF37: 43344 | AG37: 70413 | AH37: 41272.333 | AI37: 24486.5 | AJ37: 35569.5 | AK37: =IFERROR(SUM(J37:L37)/COUNTIF(J37:L37,">0"),) | AL37: =IFERROR(SUM(M37:O37)/COUNTIF(M37:O37,">0"),) | AM37: =IFERROR(SUM(P37:R37)/COUNTIF(P37:R37,">0"),) | AN37: =IFERROR(SUM(S37:U37)/COUNTIF(S37:U37,">0"),) | AO37: =IFERROR(SUM(V37:X37)/COUNTIF(V37:X37,">0"),) | AP37: =IFERROR(SUM(Y37:AA37)/COUNTIF(Y37:AA37,">0"),) | AQ37: =IFERROR(SUM(AB37:AD37)/COUNTIF(AB37:AD37,">0"),) | AR37: =IFERROR(SUM(AE37:AG37)/COUNTIF(AE37:AG37,">0"),) | AS37: =IFERROR(SUM(AH37:AJ37)/COUNTIF(AH37:AJ37,">0"),)
A38: Monocyte differentiation antigen CD14 OS=Homo sapiens GN=CD14 PE=1 SV=2 | B38: 5.8 | C38: 40703.558 | D38: 9291.793 | E38: P08571 | F38: 12 | G38: 67.47 | H38: 0 | I38: CD14_HUMAN | J38: 55871.667 | K38: 48464.333 | L38: 38786 | M38: 43381.333 | N38: 38026 | O38: 35331.667 | P38: 51664.667 | Q38: 49610.667 | R38: 44793.333 | S38: 43724 | T38: 32678 | U38: 7355 | V38: 45159.667 | W38: 40408.667 | X38: 31200.333 | Y38: 39107.333 | Z38: 36092 | AA38: 32468.667 | AB38: 33307 | AC38: 30664 | AD38: 19864 | AE38: 30553.667 | AF38: 30515.333 | AG38: 42759.333 | AH38: 139325 | AI38: 84931.667 | AJ38: 131916 | AK38: =IFERROR(SUM(J38:L38)/COUNTIF(J38:L38,">0"),) | AL38: =IFERROR(SUM(M38:O38)/COUNTIF(M38:O38,">0"),) | AM38: =IFERROR(SUM(P38:R38)/COUNTIF(P38:R38,">0"),) | AN38: =IFERROR(SUM(S38:U38)/COUNTIF(S38:U38,">0"),) | AO38: =IFERROR(SUM(V38:X38)/COUNTIF(V38:X38,">0"),) | AP38: =IFERROR(SUM(Y38:AA38)/COUNTIF(Y38:AA38,">0"),) | AQ38: =IFERROR(SUM(AB38:AD38)/COUNTIF(AB38:AD38,">0"),) | AR38: =IFERROR(SUM(AE38:AG38)/COUNTIF(AE38:AG38,">0"),) | AS38: =IFERROR(SUM(AH38:AJ38)/COUNTIF(AH38:AJ38,">0"),)
A39: Platelet factor 4 OS=Homo sapiens GN=PF4 PE=1 SV=2 | B39: 8.78 | C39: 11130.091 | D39: 9157.242 | E39: P02776 | F39: 4 | G39: 49.5 | H39: 0 | I39: PLF4_HUMAN | J39: 86482.667 | K39: 64916 | L39: 66051.5 | M39: 117122.33 | N39: 54525 | O39: 107412.67 | P39: 48983.5 | Q39: 35753.5 | R39: 58007 | V39: 47695 | W39: 26072 | X39: 43820.333 | Y39: 72284.333 | Z39: 35001.333 | AA39: 70304.333 | AB39: 188459.5 | AC39: 74571.667 | AD39: 91054 | AE39: 60113.5 | AF39: 48372 | AG39: 82648.333 | AH39: 59832.667 | AI39: 97255 | AJ39: 124488.5 | AK39: =IFERROR(SUM(J39:L39)/COUNTIF(J39:L39,">0"),) | AL39: =IFERROR(SUM(M39:O39)/COUNTIF(M39:O39,">0"),) | AM39: =IFERROR(SUM(P39:R39)/COUNTIF(P39:R39,">0"),) | AN39: =IFERROR(SUM(S39:U39)/COUNTIF(S39:U39,">0"),) | AO39: =IFERROR(SUM(V39:X39)/COUNTIF(V39:X39,">0"),) | AP39: =IFERROR(SUM(Y39:AA39)/COUNTIF(Y39:AA39,">0"),) | AQ39: =IFERROR(SUM(AB39:AD39)/COUNTIF(AB39:AD39,">0"),) | AR39: =IFERROR(SUM(AE39:AG39)/COUNTIF(AE39:AG39,">0"),) | AS39: =IFERROR(SUM(AH39:AJ39)/COUNTIF(AH39:AJ39,">0"),)
A40: Hemoglobin subunit beta OS=Homo sapiens GN=HBB PE=1 SV=2 | B40: 6.88 | C40: 16112.482 | D40: 8594.48 | E40: P68871 | F40: 10 | G40: 82.31 | H40: 0 | I40: HBB_HUMAN | J40: 10805.333 | K40: 9016 | L40: 5780 | M40: 10191 | O40: 2510 | P40: 38184 | Q40: 21148 | R40: 33133.667 | Y40: 16420.333 | Z40: 15704.333 | AA40: 17165.333 | AB40: 86151.333 | AC40: 62590 | AD40: 98460.667 | AE40: 6351 | AF40: 14441 | AG40: 8592 | AH40: 12033.667 | AI40: 14692.667 | AJ40: 20211.333 | AK40: =IFERROR(SUM(J40:L40)/COUNTIF(J40:L40,">0"),) | AL40: =IFERROR(SUM(M40:O40)/COUNTIF(M40:O40,">0"),) | AM40: =IFERROR(SUM(P40:R40)/COUNTIF(P40:R40,">0"),) | AN40: =IFERROR(SUM(S40:U40)/COUNTIF(S40:U40,">0"),) | AO40: =IFERROR(SUM(V40:X40)/COUNTIF(V40:X40,">0"),) | AP40: =IFERROR(SUM(Y40:AA40)/COUNTIF(Y40:AA40,">0"),) | AQ40: =IFERROR(SUM(AB40:AD40)/COUNTIF(AB40:AD40,">0"),) | AR40: =IFERROR(SUM(AE40:AG40)/COUNTIF(AE40:AG40,">0"),) | AS40: =IFERROR(SUM(AH40:AJ40)/COUNTIF(AH40:AJ40,">0"),)
A41: Serum amyloid A-2 protein OS=Homo sapiens GN=SAA2 PE=1 SV=1 | B41: 9.5 | C41: 13584.143 | D41: 8516.463 | E41: P0DJI9 | F41: 4 | G41: 41.8 | H41: 0 | I41: SAA2_HUMAN | AB41: 2281.5 | AC41: 2099.5 | AD41: 2436 | AH41: 26845.777 | AI41: 11239.911 | AJ41: 28464.63 | AK41: =IFERROR(SUM(J41:L41)/COUNTIF(J41:L41,">0"),) | AL41: =IFERROR(SUM(M41:O41)/COUNTIF(M41:O41,">0"),) | AM41: =IFERROR(SUM(P41:R41)/COUNTIF(P41:R41,">0"),) | AN41: =IFERROR(SUM(S41:U41)/COUNTIF(S41:U41,">0"),) | AO41: =IFERROR(SUM(V41:X41)/COUNTIF(V41:X41,">0"),) | AP41: =IFERROR(SUM(Y41:AA41)/COUNTIF(Y41:AA41,">0"),) | AQ41: =IFERROR(SUM(AB41:AD41)/COUNTIF(AB41:AD41,">0"),) | AR41: =IFERROR(SUM(AE41:AG41)/COUNTIF(AE41:AG41,">0"),) | AS41: =IFERROR(SUM(AH41:AJ41)/COUNTIF(AH41:AJ41,">0"),)
A42: Biotinidase OS=Homo sapiens GN=BTD PE=1 SV=2 | B42: 5.79 | C42: 62045.459 | D42: 7634.668 | E42: P43251 | F42: 12 | G42: 37.2 | H42: 0 | I42: BTD_HUMAN | J42: 137517.67 | K42: 144449.67 | L42: 117418 | M42: 145077 | N42: 126397.33 | O42: 158528.33 | P42: 101397.67 | Q42: 99332.667 | R42: 113595 | S42: 17341.333 | T42: 19754 | U42: 8320.6667 | V42: 78688.333 | W42: 77894.333 | X42: 90182 | Y42: 123111.67 | Z42: 108415.33 | AA42: 114499 | AB42: 81199.667 | AC42: 57813.667 | AD42: 58943 | AE42: 49512.333 | AF42: 44863 | AG42: 23166 | AH42: 61004.667 | AI42: 54198 | AJ42: 61907 | AK42: =IFERROR(SUM(J42:L42)/COUNTIF(J42:L42,">0"),) | AL42: =IFERROR(SUM(M42:O42)/COUNTIF(M42:O42,">0"),) | AM42: =IFERROR(SUM(P42:R42)/COUNTIF(P42:R42,">0"),) | AN42: =IFERROR(SUM(S42:U42)/COUNTIF(S42:U42,">0"),) | AO42: =IFERROR(SUM(V42:X42)/COUNTIF(V42:X42,">0"),) | AP42: =IFERROR(SUM(Y42:AA42)/COUNTIF(Y42:AA42,">0"),) | AQ42: =IFERROR(SUM(AB42:AD42)/COUNTIF(AB42:AD42,">0"),) | AR42: =IFERROR(SUM(AE42:AG42)/COUNTIF(AE42:AG42,">0"),) | AS42: =IFERROR(SUM(AH42:AJ42)/COUNTIF(AH42:AJ42,">0"),)
A43: Contaminant, Trypsin OS=Sus scrofa PE=1 SV=1 | B43: 6.92 | C43: 25567.316 | D43: 7621.283 | E43: P00761 | F43: 7 | G43: 64.26 | H43: 0 | I43: TRYP_PIG_CONTA | J43: 287913.67 | K43: 340365.67 | L43: 260810 | M43: 303610.67 | N43: 293604.33 | O43: 299606 | P43: 139941.67 | Q43: 188225.33 | R43: 70890 | S43: 125302.33 | T43: 137582.33 | U43: 82912 | V43: 260881 | W43: 265174.67 | X43: 222877 | Y43: 157708.67 | Z43: 159157 | AA43: 139047.67 | AB43: 218816.67 | AC43: 233384 | AD43: 152612.67 | AE43: 292216.67 | AF43: 329463.67 | AG43: 275475 | AH43: 262989.33 | AI43: 201667.33 | AJ43: 263061.67 | AK43: =IFERROR(SUM(J43:L43)/COUNTIF(J43:L43,">0"),) | AL43: =IFERROR(SUM(M43:O43)/COUNTIF(M43:O43,">0"),) | AM43: =IFERROR(SUM(P43:R43)/COUNTIF(P43:R43,">0"),) | AN43: =IFERROR(SUM(S43:U43)/COUNTIF(S43:U43,">0"),) | AO43: =IFERROR(SUM(V43:X43)/COUNTIF(V43:X43,">0"),) | AP43: =IFERROR(SUM(Y43:AA43)/COUNTIF(Y43:AA43,">0"),) | AQ43: =IFERROR(SUM(AB43:AD43)/COUNTIF(AB43:AD43,">0"),) | AR43: =IFERROR(SUM(AE43:AG43)/COUNTIF(AE43:AG43,">0"),) | AS43: =IFERROR(SUM(AH43:AJ43)/COUNTIF(AH43:AJ43,">0"),)
A44: Cholinesterase OS=Homo sapiens GN=BCHE PE=1 SV=1 | B44: 7.17 | C44: 68988.437 | D44: 7500.341 | E44: P06276 | F44: 16 | G44: 38.21 | H44: 0 | I44: CHLE_HUMAN | J44: 147059 | K44: 142798.67 | L44: 151761 | M44: 168551.67 | N44: 141976.33 | O44: 132612.67 | P44: 122797.67 | Q44: 88803 | R44: 100989.67 | S44: 31162.667 | T44: 13088.333 | U44: 6661 | V44: 73408 | W44: 72402.667 | X44: 63422.667 | Y44: 120985 | Z44: 117856.67 | AA44: 98508.333 | AB44: 56785.667 | AC44: 39944 | AD44: 46781 | AE44: 68449 | AF44: 59537.667 | AG44: 62622.333 | AH44: 33658.5 | AI44: 39653.667 | AJ44: 46103.333 | AK44: =IFERROR(SUM(J44:L44)/COUNTIF(J44:L44,">0"),) | AL44: =IFERROR(SUM(M44:O44)/COUNTIF(M44:O44,">0"),) | AM44: =IFERROR(SUM(P44:R44)/COUNTIF(P44:R44,">0"),) | AN44: =IFERROR(SUM(S44:U44)/COUNTIF(S44:U44,">0"),) | AO44: =IFERROR(SUM(V44:X44)/COUNTIF(V44:X44,">0"),) | AP44: =IFERROR(SUM(Y44:AA44)/COUNTIF(Y44:AA44,">0"),) | AQ44: =IFERROR(SUM(AB44:AD44)/COUNTIF(AB44:AD44,">0"),) | AR44: =IFERROR(SUM(AE44:AG44)/COUNTIF(AE44:AG44,">0"),) | AS44: =IFERROR(SUM(AH44:AJ44)/COUNTIF(AH44:AJ44,">0"),)
A45: Protein S100-A8 OS=Homo sapiens GN=S100A8 PE=1 SV=1 | B45: 6.62 | C45: 10891.555 | D45: 7324.429 | E45: P05109 | F45: 3 | G45: 31.18 | H45: 0 | I45: S10A8_HUMAN | J45: 13502.5 | K45: 3048 | L45: 8738.5 | M45: 22903.667 | N45: 18109.5 | O45: 30930 | P45: 52604.667 | Q45: 33274.333 | R45: 61758.667 | V45: 2456 | X45: 12522 | Y45: 11249 | Z45: 5160.5 | AA45: 19045 | AB45: 46085 | AC45: 31559 | AD45: 86167.333 | AE45: 8996 | AG45: 31719 | AH45: 22653 | AJ45: 51409.5 | AK45: =IFERROR(SUM(J45:L45)/COUNTIF(J45:L45,">0"),) | AL45: =IFERROR(SUM(M45:O45)/COUNTIF(M45:O45,">0"),) | AM45: =IFERROR(SUM(P45:R45)/COUNTIF(P45:R45,">0"),) | AN45: =IFERROR(SUM(S45:U45)/COUNTIF(S45:U45,">0"),) | AO45: =IFERROR(SUM(V45:X45)/COUNTIF(V45:X45,">0"),) | AP45: =IFERROR(SUM(Y45:AA45)/COUNTIF(Y45:AA45,">0"),) | AQ45: =IFERROR(SUM(AB45:AD45)/COUNTIF(AB45:AD45,">0"),) | AR45: =IFERROR(SUM(AE45:AG45)/COUNTIF(AE45:AG45,">0"),) | AS45: =IFERROR(SUM(AH45:AJ45)/COUNTIF(AH45:AJ45,">0"),)
A46: Ficolin-3 OS=Homo sapiens GN=FCN3 PE=1 SV=2 | B46: 6.21 | C46: 33416.275 | D46: 7148.68 | E46: O75636 | F46: 10 | G46: 66.89 | H46: 0 | I46: FCN3_HUMAN | J46: 157206.33 | K46: 153896.67 | L46: 131020 | M46: 155077.67 | N46: 131559.67 | O46: 164836.67 | P46: 119251.67 | Q46: 113394 | R46: 122283.33 | S46: 6075.3333 | T46: 10755.5 | V46: 114896 | W46: 110040.33 | X46: 97198.333 | Y46: 74852.667 | Z46: 72014.667 | AA46: 42499.333 | AB46: 83687 | AC46: 59478 | AD46: 54889 | AE46: 40544 | AF46: 34389.667 | AG46: 16772.333 | AH46: 12322.5 | AI46: 18521 | AJ46: 6256.3333 | AK46: =IFERROR(SUM(J46:L46)/COUNTIF(J46:L46,">0"),) | AL46: =IFERROR(SUM(M46:O46)/COUNTIF(M46:O46,">0"),) | AM46: =IFERROR(SUM(P46:R46)/COUNTIF(P46:R46,">0"),) | AN46: =IFERROR(SUM(S46:U46)/COUNTIF(S46:U46,">0"),) | AO46: =IFERROR(SUM(V46:X46)/COUNTIF(V46:X46,">0"),) | AP46: =IFERROR(SUM(Y46:AA46)/COUNTIF(Y46:AA46,">0"),) | AQ46: =IFERROR(SUM(AB46:AD46)/COUNTIF(AB46:AD46,">0"),) | AR46: =IFERROR(SUM(AE46:AG46)/COUNTIF(AE46:AG46,">0"),) | AS46: =IFERROR(SUM(AH46:AJ46)/COUNTIF(AH46:AJ46,">0"),)
A47: Vitronectin OS=Homo sapiens GN=VTN PE=1 SV=1 | B47: 5.43 | C47: 55104.037 | D47: 7094.878 | E47: P04004 | F47: 16 | G47: 63.81 | H47: 0 | I47: VTNC_HUMAN | J47: 112844.33 | K47: 85139.667 | L47: 57730 | M47: 130798 | N47: 83547.333 | O47: 104437.67 | P47: 134828 | Q47: 204186.67 | R47: 132403.67 | S47: 50172 | T47: 42388.333 | U47: 37691.333 | V47: 183930 | W47: 160423 | X47: 164736.67 | Y47: 91561.333 | Z47: 49339.333 | AA47: 47359.667 | AB47: 58636 | AC47: 32424.667 | AD47: 30807.667 | AE47: 22689.667 | AF47: 32459.667 | AG47: 62190.333 | AH47: 76896.667 | AI47: 37328 | AJ47: 96389.667 | AK47: =IFERROR(SUM(J47:L47)/COUNTIF(J47:L47,">0"),) | AL47: =IFERROR(SUM(M47:O47)/COUNTIF(M47:O47,">0"),) | AM47: =IFERROR(SUM(P47:R47)/COUNTIF(P47:R47,">0"),) | AN47: =IFERROR(SUM(S47:U47)/COUNTIF(S47:U47,">0"),) | AO47: =IFERROR(SUM(V47:X47)/COUNTIF(V47:X47,">0"),) | AP47: =IFERROR(SUM(Y47:AA47)/COUNTIF(Y47:AA47,">0"),) | AQ47: =IFERROR(SUM(AB47:AD47)/COUNTIF(AB47:AD47,">0"),) | AR47: =IFERROR(SUM(AE47:AG47)/COUNTIF(AE47:AG47,">0"),) | AS47: =IFERROR(SUM(AH47:AJ47)/COUNTIF(AH47:AJ47,">0"),)
A48: Beta-2-microglobulin OS=Homo sapiens GN=B2M PE=1 SV=1 | B48: 6.07 | C48: 13828.637 | D48: 6597.6 | E48: P61769 | F48: 3 | G48: 46.22 | H48: 0 | I48: B2MG_HUMAN | J48: 66646.333 | K48: 29117 | L48: 35537 | M48: 6984 | N48: 17924 | P48: 61300 | Q48: 47235.5 | R48: 48350.5 | S48: 15000 | T48: 15076 | U48: 25721 | V48: 34210.5 | W48: 15012 | X48: 16312 | Y48: 9161 | Z48: 67158 | AA48: 17980.5 | AB48: 65364.667 | AC48: 66284 | AD48: 31978.5 | AE48: 10355 | AF48: 7702 | AG48: 13708 | AI48: 32564 | AJ48: 33998 | AK48: =IFERROR(SUM(J48:L48)/COUNTIF(J48:L48,">0"),) | AL48: =IFERROR(SUM(M48:O48)/COUNTIF(M48:O48,">0"),) | AM48: =IFERROR(SUM(P48:R48)/COUNTIF(P48:R48,">0"),) | AN48: =IFERROR(SUM(S48:U48)/COUNTIF(S48:U48,">0"),) | AO48: =IFERROR(SUM(V48:X48)/COUNTIF(V48:X48,">0"),) | AP48: =IFERROR(SUM(Y48:AA48)/COUNTIF(Y48:AA48,">0"),) | AQ48: =IFERROR(SUM(AB48:AD48)/COUNTIF(AB48:AD48,">0"),) | AR48: =IFERROR(SUM(AE48:AG48)/COUNTIF(AE48:AG48,">0"),) | AS48: =IFERROR(SUM(AH48:AJ48)/COUNTIF(AH48:AJ48,">0"),)
A49: Beta-Ala-His dipeptidase OS=Homo sapiens GN=CNDP1 PE=1 SV=4 | B49: 4.98 | C49: 56820.259 | D49: 6099.116 | E49: Q96KN2 | F49: 17 | G49: 51.28 | H49: 0 | I49: CNDP1_HUMAN | J49: 125977.67 | K49: 87136.667 | L49: 63919.667 | M49: 60325.333 | N49: 43550.667 | O49: 38128.333 | P49: 56356.333 | Q49: 56945.333 | R49: 47641.333 | S49: 13222 | T49: 3694.5 | U49: 4519 | V49: 85667.333 | W49: 79081.333 | X49: 49990 | Y49: 42606 | Z49: 39305 | AA49: 19245.333 | AB49: 14608.333 | AC49: 9516 | AD49: 9393.6667 | AE49: 41695.333 | AF49: 29439 | AG49: 39386.333 | AH49: 36218.667 | AI49: 16487 | AJ49: 24931.667 | AK49: =IFERROR(SUM(J49:L49)/COUNTIF(J49:L49,">0"),) | AL49: =IFERROR(SUM(M49:O49)/COUNTIF(M49:O49,">0"),) | AM49: =IFERROR(SUM(P49:R49)/COUNTIF(P49:R49,">0"),) | AN49: =IFERROR(SUM(S49:U49)/COUNTIF(S49:U49,">0"),) | AO49: =IFERROR(SUM(V49:X49)/COUNTIF(V49:X49,">0"),) | AP49: =IFERROR(SUM(Y49:AA49)/COUNTIF(Y49:AA49,">0"),) | AQ49: =IFERROR(SUM(AB49:AD49)/COUNTIF(AB49:AD49,">0"),) | AR49: =IFERROR(SUM(AE49:AG49)/COUNTIF(AE49:AG49,">0"),) | AS49: =IFERROR(SUM(AH49:AJ49)/COUNTIF(AH49:AJ49,">0"),)
A50: Complement factor D OS=Homo sapiens GN=CFD PE=1 SV=5 | B50: 7.55 | C50: 27546.21 | D50: 6016.66 | E50: P00746 | F50: 9 | G50: 56.13 | H50: 0 | I50: CFAD_HUMAN | J50: 74019.333 | K50: 21659.333 | L50: 28350 | M50: 33091.333 | N50: 7889 | O50: 11614 | P50: 32607 | Q50: 47572 | R50: 47281.333 | S50: 11418.333 | V50: 49682 | W50: 41373.667 | X50: 17283.667 | Y50: 74411 | Z50: 40508 | AA50: 45008 | AB50: 11305.5 | AC50: 7561 | AD50: 7545 | AE50: 28521 | AF50: 14980.333 | AG50: 39213.667 | AH50: 29670 | AJ50: 34133 | AK50: =IFERROR(SUM(J50:L50)/COUNTIF(J50:L50,">0"),) | AL50: =IFERROR(SUM(M50:O50)/COUNTIF(M50:O50,">0"),) | AM50: =IFERROR(SUM(P50:R50)/COUNTIF(P50:R50,">0"),) | AN50: =IFERROR(SUM(S50:U50)/COUNTIF(S50:U50,">0"),) | AO50: =IFERROR(SUM(V50:X50)/COUNTIF(V50:X50,">0"),) | AP50: =IFERROR(SUM(Y50:AA50)/COUNTIF(Y50:AA50,">0"),) | AQ50: =IFERROR(SUM(AB50:AD50)/COUNTIF(AB50:AD50,">0"),) | AR50: =IFERROR(SUM(AE50:AG50)/COUNTIF(AE50:AG50,">0"),) | AS50: =IFERROR(SUM(AH50:AJ50)/COUNTIF(AH50:AJ50,">0"),)
A51: Serum paraoxonase/arylesterase 1 OS=Homo sapiens GN=PON1 PE=1 SV=3 | B51: 4.92 | C51: 39902.448 | D51: 5617.481 | E51: P27169 | F51: 9 | G51: 36.9 | H51: 0 | I51: PON1_HUMAN | J51: 37990.333 | K51: 9153 | L51: 8950 | M51: 34752.667 | N51: 9555 | O51: 20118.333 | P51: 16965 | Q51: 18271 | R51: 8515 | S51: 10902.333 | T51: 3086 | V51: 80563.667 | W51: 71119 | X51: 37274.667 | Y51: 3701.5 | Z51: 13698 | AA51: 6051.3333 | AB51: 3191 | AC51: 3390 | AD51: 4750 | AE51: 18423.667 | AF51: 18236.667 | AG51: 10526.5 | AH51: 2768 | AJ51: 16052.333 | AK51: =IFERROR(SUM(J51:L51)/COUNTIF(J51:L51,">0"),) | AL51: =IFERROR(SUM(M51:O51)/COUNTIF(M51:O51,">0"),) | AM51: =IFERROR(SUM(P51:R51)/COUNTIF(P51:R51,">0"),) | AN51: =IFERROR(SUM(S51:U51)/COUNTIF(S51:U51,">0"),) | AO51: =IFERROR(SUM(V51:X51)/COUNTIF(V51:X51,">0"),) | AP51: =IFERROR(SUM(Y51:AA51)/COUNTIF(Y51:AA51,">0"),) | AQ51: =IFERROR(SUM(AB51:AD51)/COUNTIF(AB51:AD51,">0"),) | AR51: =IFERROR(SUM(AE51:AG51)/COUNTIF(AE51:AG51,">0"),) | AS51: =IFERROR(SUM(AH51:AJ51)/COUNTIF(AH51:AJ51,">0"),)
A52: Kallistatin OS=Homo sapiens GN=SERPINA4 PE=1 SV=3 | B52: 7.56 | C52: 48713.128 | D52: 5425.777 | E52: P29622 | F52: 16 | G52: 49.41 | H52: 0 | I52: KAIN_HUMAN | J52: 83469 | K52: 93905 | L52: 83165.333 | M52: 102493.67 | N52: 112365.33 | O52: 92100 | P52: 102904.33 | Q52: 73171 | R52: 81375.667 | S52: 30416 | T52: 3718 | V52: 63012 | W52: 55530.333 | X52: 57716.333 | Y52: 70850.333 | Z52: 77047 | AA52: 69253 | AB52: 14421 | AC52: 3744 | AE52: 25118.333 | AF52: 15236 | AG52: 22420.667 | AH52: 6526 | AI52: 7139 | AK52: =IFERROR(SUM(J52:L52)/COUNTIF(J52:L52,">0"),) | AL52: =IFERROR(SUM(M52:O52)/COUNTIF(M52:O52,">0"),) | AM52: =IFERROR(SUM(P52:R52)/COUNTIF(P52:R52,">0"),) | AN52: =IFERROR(SUM(S52:U52)/COUNTIF(S52:U52,">0"),) | AO52: =IFERROR(SUM(V52:X52)/COUNTIF(V52:X52,">0"),) | AP52: =IFERROR(SUM(Y52:AA52)/COUNTIF(Y52:AA52,">0"),) | AQ52: =IFERROR(SUM(AB52:AD52)/COUNTIF(AB52:AD52,">0"),) | AR52: =IFERROR(SUM(AE52:AG52)/COUNTIF(AE52:AG52,">0"),) | AS52: =IFERROR(SUM(AH52:AJ52)/COUNTIF(AH52:AJ52,">0"),)
A53: Insulin-like growth factor II OS=Homo sapiens GN=IGF2 PE=1 SV=1 | B53: 9.55 | C53: 20596.597 | D53: 5295.651 | E53: P01344 | F53: 2 | G53: 13.89 | H53: 0 | I53: IGF2_HUMAN | J53: 21573 | K53: 3965 | L53: 9863 | M53: 40464 | O53: 27401 | R53: 3195 | T53: 6959 | V53: 10094 | X53: 10694 | AG53: 15207 | AJ53: 3273 | AK53: =IFERROR(SUM(J53:L53)/COUNTIF(J53:L53,">0"),) | AL53: =IFERROR(SUM(M53:O53)/COUNTIF(M53:O53,">0"),) | AM53: =IFERROR(SUM(P53:R53)/COUNTIF(P53:R53,">0"),) | AN53: =IFERROR(SUM(S53:U53)/COUNTIF(S53:U53,">0"),) | AO53: =IFERROR(SUM(V53:X53)/COUNTIF(V53:X53,">0"),) | AP53: =IFERROR(SUM(Y53:AA53)/COUNTIF(Y53:AA53,">0"),) | AQ53: =IFERROR(SUM(AB53:AD53)/COUNTIF(AB53:AD53,">0"),) | AR53: =IFERROR(SUM(AE53:AG53)/COUNTIF(AE53:AG53,">0"),) | AS53: =IFERROR(SUM(AH53:AJ53)/COUNTIF(AH53:AJ53,">0"),)
A54: Apolipoprotein A-I OS=Homo sapiens GN=APOA1 PE=1 SV=1 | B54: 5.43 | C54: 30777.869 | D54: 5267.039 | E54: P02647 | F54: 12 | G54: 53.93 | H54: 0 | I54: APOA1_HUMAN | J54: 44528.333 | K54: 46204 | L54: 36493.667 | M54: 22916.333 | N54: 20594.667 | O54: 21470.667 | P54: 38158 | Q54: 38892.667 | R54: 38773.667 | S54: 14146 | T54: 10234.5 | V54: 61009 | W54: 57384 | X54: 50129 | Y54: 39495.333 | Z54: 29730.667 | AA54: 35002.333 | AB54: 3641 | AE54: 10311.667 | AF54: 9509.3333 | AG54: 9377.3333 | AH54: 22615 | AI54: 14619.667 | AJ54: 22031.667 | AK54: =IFERROR(SUM(J54:L54)/COUNTIF(J54:L54,">0"),) | AL54: =IFERROR(SUM(M54:O54)/COUNTIF(M54:O54,">0"),) | AM54: =IFERROR(SUM(P54:R54)/COUNTIF(P54:R54,">0"),) | AN54: =IFERROR(SUM(S54:U54)/COUNTIF(S54:U54,">0"),) | AO54: =IFERROR(SUM(V54:X54)/COUNTIF(V54:X54,">0"),) | AP54: =IFERROR(SUM(Y54:AA54)/COUNTIF(Y54:AA54,">0"),) | AQ54: =IFERROR(SUM(AB54:AD54)/COUNTIF(AB54:AD54,">0"),) | AR54: =IFERROR(SUM(AE54:AG54)/COUNTIF(AE54:AG54,">0"),) | AS54: =IFERROR(SUM(AH54:AJ54)/COUNTIF(AH54:AJ54,">0"),)
A55: Plasma protease C1 inhibitor OS=Homo sapiens GN=SERPING1 PE=1 SV=2 | B55: 6.08 | C55: 55382.402 | D55: 5096.079 | E55: P05155 | F55: 7 | G55: 19.2 | H55: 0 | I55: IC1_HUMAN | J55: 150220.67 | K55: 113744 | L55: 120125.67 | M55: 19367.667 | N55: 22811.667 | O55: 10630.667 | P55: 32032.333 | Q55: 28434.333 | R55: 26559.667 | V55: 22334 | W55: 15512.667 | X55: 16947.333 | Y55: 19434.667 | Z55: 19477.667 | AA55: 6080 | AB55: 13662.333 | AE55: 58657.667 | AF55: 59351.667 | AG55: 77221.333 | AH55: 6870.6667 | AI55: 5662 | AJ55: 15530 | AK55: =IFERROR(SUM(J55:L55)/COUNTIF(J55:L55,">0"),) | AL55: =IFERROR(SUM(M55:O55)/COUNTIF(M55:O55,">0"),) | AM55: =IFERROR(SUM(P55:R55)/COUNTIF(P55:R55,">0"),) | AN55: =IFERROR(SUM(S55:U55)/COUNTIF(S55:U55,">0"),) | AO55: =IFERROR(SUM(V55:X55)/COUNTIF(V55:X55,">0"),) | AP55: =IFERROR(SUM(Y55:AA55)/COUNTIF(Y55:AA55,">0"),) | AQ55: =IFERROR(SUM(AB55:AD55)/COUNTIF(AB55:AD55,">0"),) | AR55: =IFERROR(SUM(AE55:AG55)/COUNTIF(AE55:AG55,">0"),) | AS55: =IFERROR(SUM(AH55:AJ55)/COUNTIF(AH55:AJ55,">0"),)
A56: Ficolin-2 OS=Homo sapiens GN=FCN2 PE=1 SV=2 | B56: 6.33 | C56: 34457.415 | D56: 5077.492 | E56: Q15485 | F56: 7 | G56: 63.58 | H56: 0 | I56: FCN2_HUMAN | J56: 58828.667 | K56: 43368.667 | L56: 36196.667 | M56: 49289 | N56: 26385.333 | O56: 22404.333 | P56: 56319 | Q56: 52426.667 | R56: 45624.333 | V56: 57492.667 | W56: 54393 | X56: 35428 | Y56: 48605.333 | Z56: 39964.333 | AA56: 28879 | AB56: 26237.667 | AC56: 25550 | AD56: 20764.5 | AE56: 13665.667 | AF56: 17080 | AG56: 15586.667 | AH56: 11041 | AI56: 7051.3333 | AJ56: 15330.5 | AK56: =IFERROR(SUM(J56:L56)/COUNTIF(J56:L56,">0"),) | AL56: =IFERROR(SUM(M56:O56)/COUNTIF(M56:O56,">0"),) | AM56: =IFERROR(SUM(P56:R56)/COUNTIF(P56:R56,">0"),) | AN56: =IFERROR(SUM(S56:U56)/COUNTIF(S56:U56,">0"),) | AO56: =IFERROR(SUM(V56:X56)/COUNTIF(V56:X56,">0"),) | AP56: =IFERROR(SUM(Y56:AA56)/COUNTIF(Y56:AA56,">0"),) | AQ56: =IFERROR(SUM(AB56:AD56)/COUNTIF(AB56:AD56,">0"),) | AR56: =IFERROR(SUM(AE56:AG56)/COUNTIF(AE56:AG56,">0"),) | AS56: =IFERROR(SUM(AH56:AJ56)/COUNTIF(AH56:AJ56,">0"),)
A57: Immunoglobulin heavy constant alpha 1 OS=Homo sapiens GN=IGHA1 PE=1 SV=2 | B57: 6.06 | C57: 38510.083 | D57: 4938.222 | E57: P01876 | F57: 11 | G57: 45.04 | H57: 0 | I57: IGHA1_HUMAN | J57: 62822.333 | K57: 47090 | L57: 53986.333 | M57: 6263.6667 | N57: 5278 | P57: 2058 | Q57: 3363 | R57: 4756 | V57: 6990 | W57: 9192.6667 | X57: 12182.667 | Y57: 5819 | Z57: 5919 | AA57: 5013 | AB57: 12496 | AD57: 9887.5 | AE57: 139620.55 | AF57: 110443.43 | AG57: 143417.79 | AH57: 1635 | AI57: 5160 | AJ57: 7870.6667 | AK57: =IFERROR(SUM(J57:L57)/COUNTIF(J57:L57,">0"),) | AL57: =IFERROR(SUM(M57:O57)/COUNTIF(M57:O57,">0"),) | AM57: =IFERROR(SUM(P57:R57)/COUNTIF(P57:R57,">0"),) | AN57: =IFERROR(SUM(S57:U57)/COUNTIF(S57:U57,">0"),) | AO57: =IFERROR(SUM(V57:X57)/COUNTIF(V57:X57,">0"),) | AP57: =IFERROR(SUM(Y57:AA57)/COUNTIF(Y57:AA57,">0"),) | AQ57: =IFERROR(SUM(AB57:AD57)/COUNTIF(AB57:AD57,">0"),) | AR57: =IFERROR(SUM(AE57:AG57)/COUNTIF(AE57:AG57,">0"),) | AS57: =IFERROR(SUM(AH57:AJ57)/COUNTIF(AH57:AJ57,">0"),)
A58: Haptoglobin OS=Homo sapiens GN=HP PE=1 SV=1 | B58: 6.12 | C58: 45889.684 | D58: 4902.126 | E58: P00738 | F58: 10 | G58: 31.77 | H58: 0 | I58: HPT_HUMAN | J58: 14099.333 | K58: 7650.3333 | L58: 8945.6667 | M58: 11779.333 | N58: 9101.3333 | O58: 12163.667 | P58: 18025.333 | Q58: 13551.5 | R58: 12535.333 | S58: 17461 | T58: 9079.5 | V58: 18312.333 | W58: 14175 | X58: 18060.667 | Y58: 30404 | Z58: 23820 | AA58: 17727 | AB58: 159123.33 | AC58: 103953 | AD58: 130703.67 | AE58: 28622 | AF58: 20286.333 | AG58: 26440 | AH58: 21910.667 | AI58: 2874.5 | AJ58: 10403.667 | AK58: =IFERROR(SUM(J58:L58)/COUNTIF(J58:L58,">0"),) | AL58: =IFERROR(SUM(M58:O58)/COUNTIF(M58:O58,">0"),) | AM58: =IFERROR(SUM(P58:R58)/COUNTIF(P58:R58,">0"),) | AN58: =IFERROR(SUM(S58:U58)/COUNTIF(S58:U58,">0"),) | AO58: =IFERROR(SUM(V58:X58)/COUNTIF(V58:X58,">0"),) | AP58: =IFERROR(SUM(Y58:AA58)/COUNTIF(Y58:AA58,">0"),) | AQ58: =IFERROR(SUM(AB58:AD58)/COUNTIF(AB58:AD58,">0"),) | AR58: =IFERROR(SUM(AE58:AG58)/COUNTIF(AE58:AG58,">0"),) | AS58: =IFERROR(SUM(AH58:AJ58)/COUNTIF(AH58:AJ58,">0"),)
A59: Carbonic anhydrase 1 OS=Homo sapiens GN=CA1 PE=1 SV=2 | B59: 6.67 | C59: 28927.265 | D59: 4592.334 | E59: P00915 | F59: 10 | G59: 58.62 | H59: 0 | I59: CAH1_HUMAN | J59: 15792.667 | K59: 16078.333 | L59: 15451 | M59: 14106.667 | N59: 18814.333 | O59: 16370.333 | P59: 54941.333 | Q59: 48799.667 | R59: 48856 | S59: 31196.333 | T59: 61872.5 | U59: 17336.5 | V59: 10733 | W59: 10835.333 | X59: 11633.667 | Y59: 69630.333 | Z59: 79589.333 | AA59: 67226.667 | AB59: 97829.667 | AC59: 82333.333 | AD59: 73698.333 | AE59: 5052 | AF59: 17834 | AG59: 15049 | AH59: 26207.667 | AI59: 22028 | AJ59: 25880 | AK59: =IFERROR(SUM(J59:L59)/COUNTIF(J59:L59,">0"),) | AL59: =IFERROR(SUM(M59:O59)/COUNTIF(M59:O59,">0"),) | AM59: =IFERROR(SUM(P59:R59)/COUNTIF(P59:R59,">0"),) | AN59: =IFERROR(SUM(S59:U59)/COUNTIF(S59:U59,">0"),) | AO59: =IFERROR(SUM(V59:X59)/COUNTIF(V59:X59,">0"),) | AP59: =IFERROR(SUM(Y59:AA59)/COUNTIF(Y59:AA59,">0"),) | AQ59: =IFERROR(SUM(AB59:AD59)/COUNTIF(AB59:AD59,">0"),) | AR59: =IFERROR(SUM(AE59:AG59)/COUNTIF(AE59:AG59,">0"),) | AS59: =IFERROR(SUM(AH59:AJ59)/COUNTIF(AH59:AJ59,">0"),)
A60: Carboxypeptidase B2 OS=Homo sapiens GN=CPB2 PE=1 SV=2 | B60: 7.53 | C60: 48994.582 | D60: 4579.199 | E60: Q96IY4 | F60: 18 | G60: 48.46 | H60: 0 | I60: CBPB2_HUMAN | J60: 87614.667 | K60: 113557 | L60: 97404.333 | M60: 101905.67 | N60: 90611.333 | O60: 93553.667 | P60: 155102.33 | Q60: 128135.33 | R60: 129103 | S60: 2092 | T60: 2932.5 | U60: 4715 | V60: 82531.667 | W60: 70338 | X60: 74087 | Y60: 79773.333 | Z60: 70994.667 | AA60: 76313.667 | AB60: 78797.667 | AC60: 51718.333 | AD60: 35052.667 | AE60: 43381.333 | AF60: 31244 | AG60: 35354 | AH60: 60890.667 | AI60: 58934.333 | AJ60: 69281.333 | AK60: =IFERROR(SUM(J60:L60)/COUNTIF(J60:L60,">0"),) | AL60: =IFERROR(SUM(M60:O60)/COUNTIF(M60:O60,">0"),) | AM60: =IFERROR(SUM(P60:R60)/COUNTIF(P60:R60,">0"),) | AN60: =IFERROR(SUM(S60:U60)/COUNTIF(S60:U60,">0"),) | AO60: =IFERROR(SUM(V60:X60)/COUNTIF(V60:X60,">0"),) | AP60: =IFERROR(SUM(Y60:AA60)/COUNTIF(Y60:AA60,">0"),) | AQ60: =IFERROR(SUM(AB60:AD60)/COUNTIF(AB60:AD60,">0"),) | AR60: =IFERROR(SUM(AE60:AG60)/COUNTIF(AE60:AG60,">0"),) | AS60: =IFERROR(SUM(AH60:AJ60)/COUNTIF(AH60:AJ60,">0"),)
A61: Contaminant, Enolase 2 OS=Saccharomyces cerevisiae GN=ENO2 PE=1 SV=2 | B61: 5.59 | C61: 47444.764 | D61: 4470.547 | E61: P00925 | F61: 15 | G61: 58.96 | H61: 0 | I61: ENO2_YEAST_CONTA | J61: 14901.565 | K61: 11637.677 | L61: 14777.955 | M61: 9058.0259 | N61: 7926.5309 | O61: 7971.6651 | P61: 4083.8052 | Q61: 3202.7933 | R61: 3010.6715 | S61: 20579.338 | T61: 23698.759 | U61: 7611.5584 | V61: 8093.4173 | W61: 7244.2445 | X61: 5818.109 | Y61: 7137.1841 | Z61: 6209.9997 | AA61: 5222.8783 | AB61: 30430.197 | AC61: 18402.641 | AD61: 12801.577 | AE61: 58850.553 | AF61: 20843.434 | AG61: 20111.584 | AH61: 10961.219 | AI61: 15149.101 | AJ61: 10715.767 | AK61: =IFERROR(SUM(J61:L61)/COUNTIF(J61:L61,">0"),) | AL61: =IFERROR(SUM(M61:O61)/COUNTIF(M61:O61,">0"),) | AM61: =IFERROR(SUM(P61:R61)/COUNTIF(P61:R61,">0"),) | AN61: =IFERROR(SUM(S61:U61)/COUNTIF(S61:U61,">0"),) | AO61: =IFERROR(SUM(V61:X61)/COUNTIF(V61:X61,">0"),) | AP61: =IFERROR(SUM(Y61:AA61)/COUNTIF(Y61:AA61,">0"),) | AQ61: =IFERROR(SUM(AB61:AD61)/COUNTIF(AB61:AD61,">0"),) | AR61: =IFERROR(SUM(AE61:AG61)/COUNTIF(AE61:AG61,">0"),) | AS61: =IFERROR(SUM(AH61:AJ61)/COUNTIF(AH61:AJ61,">0"),)
A62: Carboxypeptidase N catalytic chain OS=Homo sapiens GN=CPN1 PE=1 SV=1 | B62: 6.92 | C62: 52571.45 | D62: 4299.373 | E62: P15169 | F62: 15 | G62: 51.75 | H62: 0 | I62: CBPN_HUMAN | J62: 81783.667 | K62: 66643.667 | L62: 26539 | M62: 96796.333 | N62: 67765.667 | O62: 73592 | P62: 166097.33 | Q62: 136614.67 | R62: 117216.67 | S62: 50810.667 | T62: 41793.667 | U62: 35888 | V62: 80839.333 | W62: 55766.333 | X62: 55703 | Y62: 75949.333 | Z62: 61422 | AA62: 55443.333 | AB62: 21964 | AC62: 5153.3333 | AD62: 19378.667 | AE62: 58645.333 | AF62: 16329.667 | AG62: 28140.333 | AH62: 68591 | AI62: 61169 | AJ62: 61979 | AK62: =IFERROR(SUM(J62:L62)/COUNTIF(J62:L62,">0"),) | AL62: =IFERROR(SUM(M62:O62)/COUNTIF(M62:O62,">0"),) | AM62: =IFERROR(SUM(P62:R62)/COUNTIF(P62:R62,">0"),) | AN62: =IFERROR(SUM(S62:U62)/COUNTIF(S62:U62,">0"),) | AO62: =IFERROR(SUM(V62:X62)/COUNTIF(V62:X62,">0"),) | AP62: =IFERROR(SUM(Y62:AA62)/COUNTIF(Y62:AA62,">0"),) | AQ62: =IFERROR(SUM(AB62:AD62)/COUNTIF(AB62:AD62,">0"),) | AR62: =IFERROR(SUM(AE62:AG62)/COUNTIF(AE62:AG62,">0"),) | AS62: =IFERROR(SUM(AH62:AJ62)/COUNTIF(AH62:AJ62,">0"),)
A63: Galectin-3-binding protein OS=Homo sapiens GN=LGALS3BP PE=1 SV=1 | B63: 4.94 | C63: 66243.522 | D63: 4296.564 | E63: Q08380 | F63: 21 | G63: 42.56 | H63: 0 | I63: LG3BP_HUMAN | J63: 42494.667 | K63: 34894.667 | L63: 32102.333 | M63: 141413 | N63: 115706.33 | O63: 128543.67 | P63: 65455.333 | Q63: 64121 | R63: 50422 | S63: 34180 | T63: 24614 | U63: 10453 | V63: 28337.333 | W63: 29620 | X63: 21383.667 | Y63: 55110 | Z63: 42959 | AA63: 38969 | AB63: 48103.667 | AC63: 41995.667 | AD63: 46116 | AE63: 17275.667 | AF63: 20895 | AG63: 19823 | AH63: 30805 | AI63: 25344.667 | AJ63: 42799 | AK63: =IFERROR(SUM(J63:L63)/COUNTIF(J63:L63,">0"),) | AL63: =IFERROR(SUM(M63:O63)/COUNTIF(M63:O63,">0"),) | AM63: =IFERROR(SUM(P63:R63)/COUNTIF(P63:R63,">0"),) | AN63: =IFERROR(SUM(S63:U63)/COUNTIF(S63:U63,">0"),) | AO63: =IFERROR(SUM(V63:X63)/COUNTIF(V63:X63,">0"),) | AP63: =IFERROR(SUM(Y63:AA63)/COUNTIF(Y63:AA63,">0"),) | AQ63: =IFERROR(SUM(AB63:AD63)/COUNTIF(AB63:AD63,">0"),) | AR63: =IFERROR(SUM(AE63:AG63)/COUNTIF(AE63:AG63,">0"),) | AS63: =IFERROR(SUM(AH63:AJ63)/COUNTIF(AH63:AJ63,">0"),)
A64: Corticosteroid-binding globulin OS=Homo sapiens GN=SERPINA6 PE=1 SV=1 | B64: 5.59 | C64: 45312.064 | D64: 4021.317 | E64: P08185 | F64: 9 | G64: 34.81 | H64: 0 | I64: CBG_HUMAN | J64: 88568.333 | K64: 55435.667 | L64: 46429.667 | M64: 103693.67 | N64: 75192 | O64: 64241 | P64: 108918 | Q64: 110183 | R64: 72598 | S64: 28389 | T64: 25301 | V64: 63046.333 | W64: 55594.667 | X64: 42069 | Y64: 78566.333 | Z64: 65728 | AA64: 56283 | AB64: 55294.667 | AC64: 33890 | AD64: 48605.667 | AE64: 33863.333 | AF64: 34657.667 | AG64: 40820.667 | AH64: 52016.667 | AI64: 26703.333 | AJ64: 42444.5 | AK64: =IFERROR(SUM(J64:L64)/COUNTIF(J64:L64,">0"),) | AL64: =IFERROR(SUM(M64:O64)/COUNTIF(M64:O64,">0"),) | AM64: =IFERROR(SUM(P64:R64)/COUNTIF(P64:R64,">0"),) | AN64: =IFERROR(SUM(S64:U64)/COUNTIF(S64:U64,">0"),) | AO64: =IFERROR(SUM(V64:X64)/COUNTIF(V64:X64,">0"),) | AP64: =IFERROR(SUM(Y64:AA64)/COUNTIF(Y64:AA64,">0"),) | AQ64: =IFERROR(SUM(AB64:AD64)/COUNTIF(AB64:AD64,">0"),) | AR64: =IFERROR(SUM(AE64:AG64)/COUNTIF(AE64:AG64,">0"),) | AS64: =IFERROR(SUM(AH64:AJ64)/COUNTIF(AH64:AJ64,">0"),)
A65: L-lactate dehydrogenase B chain OS=Homo sapiens GN=LDHB PE=1 SV=2 | B65: 5.64 | C65: 36923.703 | D65: 3819.212 | E65: P07195 | F65: 9 | G65: 42.51 | H65: 0 | I65: LDHB_HUMAN | J65: 27344.966 | K65: 22693.667 | L65: 17335.333 | M65: 33174.775 | N65: 28567.667 | O65: 19729 | P65: 29419.333 | Q65: 41524 | R65: 40516.333 | T65: 4538 | V65: 22049.667 | W65: 17194.333 | X65: 12312 | Y65: 29207.333 | Z65: 24004.333 | AA65: 18846.667 | AB65: 28279 | AC65: 16625 | AD65: 22113 | AF65: 5577 | AG65: 5805 | AH65: 20466.667 | AI65: 20348 | AJ65: 23408.667 | AK65: =IFERROR(SUM(J65:L65)/COUNTIF(J65:L65,">0"),) | AL65: =IFERROR(SUM(M65:O65)/COUNTIF(M65:O65,">0"),) | AM65: =IFERROR(SUM(P65:R65)/COUNTIF(P65:R65,">0"),) | AN65: =IFERROR(SUM(S65:U65)/COUNTIF(S65:U65,">0"),) | AO65: =IFERROR(SUM(V65:X65)/COUNTIF(V65:X65,">0"),) | AP65: =IFERROR(SUM(Y65:AA65)/COUNTIF(Y65:AA65,">0"),) | AQ65: =IFERROR(SUM(AB65:AD65)/COUNTIF(AB65:AD65,">0"),) | AR65: =IFERROR(SUM(AE65:AG65)/COUNTIF(AE65:AG65,">0"),) | AS65: =IFERROR(SUM(AH65:AJ65)/COUNTIF(AH65:AJ65,">0"),)
A66: Coagulation factor X OS=Homo sapiens GN=F10 PE=1 SV=2 | B66: 5.58 | C66: 56100.424 | D66: 3720.112 | E66: P00742 | F66: 17 | G66: 59.63 | H66: 0 | I66: FA10_HUMAN | J66: 132024 | K66: 57959.667 | L66: 44524.333 | M66: 122225.33 | N66: 102780 | O66: 99270.667 | P66: 146228.33 | Q66: 142153 | R66: 158358.67 | S66: 37663.333 | T66: 35892 | U66: 43310.667 | V66: 121776.33 | W66: 99198 | X66: 102710.67 | Y66: 103456.33 | Z66: 85423 | AA66: 94072.667 | AB66: 37585.667 | AC66: 32022 | AD66: 42616.333 | AE66: 11874.5 | AF66: 17075.667 | AG66: 31211.667 | AH66: 34613.333 | AI66: 9476.6667 | AJ66: 11066.333 | AK66: =IFERROR(SUM(J66:L66)/COUNTIF(J66:L66,">0"),) | AL66: =IFERROR(SUM(M66:O66)/COUNTIF(M66:O66,">0"),) | AM66: =IFERROR(SUM(P66:R66)/COUNTIF(P66:R66,">0"),) | AN66: =IFERROR(SUM(S66:U66)/COUNTIF(S66:U66,">0"),) | AO66: =IFERROR(SUM(V66:X66)/COUNTIF(V66:X66,">0"),) | AP66: =IFERROR(SUM(Y66:AA66)/COUNTIF(Y66:AA66,">0"),) | AQ66: =IFERROR(SUM(AB66:AD66)/COUNTIF(AB66:AD66,">0"),) | AR66: =IFERROR(SUM(AE66:AG66)/COUNTIF(AE66:AG66,">0"),) | AS66: =IFERROR(SUM(AH66:AJ66)/COUNTIF(AH66:AJ66,">0"),)
A67: Protein S100-A9 OS=Homo sapiens GN=S100A9 PE=1 SV=1 | B67: 5.68 | C67: 13299.061 | D67: 3664.088 | E67: P06702 | F67: 2 | G67: 37.72 | H67: 0 | I67: S10A9_HUMAN | J67: 7609 | K67: 5565 | L67: 6106 | M67: 4962 | O67: 3259 | P67: 79912 | Q67: 72037 | R67: 81312 | V67: 8970 | W67: 3444 | X67: 6226 | Y67: 17927 | Z67: 16848 | AA67: 18153 | AB67: 145566.5 | AD67: 124559 | AE67: 2085 | AG67: 12723 | AK67: =IFERROR(SUM(J67:L67)/COUNTIF(J67:L67,">0"),) | AL67: =IFERROR(SUM(M67:O67)/COUNTIF(M67:O67,">0"),) | AM67: =IFERROR(SUM(P67:R67)/COUNTIF(P67:R67,">0"),) | AN67: =IFERROR(SUM(S67:U67)/COUNTIF(S67:U67,">0"),) | AO67: =IFERROR(SUM(V67:X67)/COUNTIF(V67:X67,">0"),) | AP67: =IFERROR(SUM(Y67:AA67)/COUNTIF(Y67:AA67,">0"),) | AQ67: =IFERROR(SUM(AB67:AD67)/COUNTIF(AB67:AD67,">0"),) | AR67: =IFERROR(SUM(AE67:AG67)/COUNTIF(AE67:AG67,">0"),) | AS67: =IFERROR(SUM(AH67:AJ67)/COUNTIF(AH67:AJ67,">0"),)
A68: Dopamine beta-hydroxylase OS=Homo sapiens GN=DBH PE=1 SV=3 | B68: 5.95 | C68: 69920.509 | D68: 3549.065 | E68: P09172 | F68: 17 | G68: 45.71 | H68: 0 | I68: DOPO_HUMAN | J68: 90382.333 | K68: 50792 | L68: 41064.333 | M68: 65423 | N68: 52705 | O68: 51840.667 | P68: 44729.667 | Q68: 45773.333 | R68: 41977.333 | S68: 50192 | T68: 94421 | V68: 41823 | W68: 12123.333 | X68: 14341 | Y68: 72968.333 | Z68: 59523.667 | AA68: 46120.333 | AB68: 2017 | AC68: 1985 | AD68: 15416 | AE68: 33958.333 | AF68: 77376 | AG68: 30131.333 | AI68: 12321 | AJ68: 4505 | AK68: =IFERROR(SUM(J68:L68)/COUNTIF(J68:L68,">0"),) | AL68: =IFERROR(SUM(M68:O68)/COUNTIF(M68:O68,">0"),) | AM68: =IFERROR(SUM(P68:R68)/COUNTIF(P68:R68,">0"),) | AN68: =IFERROR(SUM(S68:U68)/COUNTIF(S68:U68,">0"),) | AO68: =IFERROR(SUM(V68:X68)/COUNTIF(V68:X68,">0"),) | AP68: =IFERROR(SUM(Y68:AA68)/COUNTIF(Y68:AA68,">0"),) | AQ68: =IFERROR(SUM(AB68:AD68)/COUNTIF(AB68:AD68,">0"),) | AR68: =IFERROR(SUM(AE68:AG68)/COUNTIF(AE68:AG68,">0"),) | AS68: =IFERROR(SUM(AH68:AJ68)/COUNTIF(AH68:AJ68,">0"),)
A69: Complement factor I OS=Homo sapiens GN=CFI PE=1 SV=2 | B69: 7.31 | C69: 68145.505 | D69: 3490.66 | E69: P05156 | F69: 17 | G69: 47.34 | H69: 0 | I69: CFAI_HUMAN | J69: 41073 | K69: 22207.333 | L69: 36977.667 | M69: 48757.667 | N69: 36262 | O69: 44029.333 | P69: 86345.333 | Q69: 81061.667 | R69: 91906.667 | T69: 4434 | V69: 37353.667 | W69: 29451.333 | X69: 32092.667 | Y69: 26957.333 | Z69: 23518.667 | AA69: 24209.333 | AB69: 15338.333 | AC69: 9084 | AD69: 8122.3333 | AE69: 33662.333 | AF69: 17238.333 | AG69: 42238.333 | AH69: 21476.5 | AI69: 9635.3333 | AJ69: 26371.333 | AK69: =IFERROR(SUM(J69:L69)/COUNTIF(J69:L69,">0"),) | AL69: =IFERROR(SUM(M69:O69)/COUNTIF(M69:O69,">0"),) | AM69: =IFERROR(SUM(P69:R69)/COUNTIF(P69:R69,">0"),) | AN69: =IFERROR(SUM(S69:U69)/COUNTIF(S69:U69,">0"),) | AO69: =IFERROR(SUM(V69:X69)/COUNTIF(V69:X69,">0"),) | AP69: =IFERROR(SUM(Y69:AA69)/COUNTIF(Y69:AA69,">0"),) | AQ69: =IFERROR(SUM(AB69:AD69)/COUNTIF(AB69:AD69,">0"),) | AR69: =IFERROR(SUM(AE69:AG69)/COUNTIF(AE69:AG69,">0"),) | AS69: =IFERROR(SUM(AH69:AJ69)/COUNTIF(AH69:AJ69,">0"),)
A70: Chitinase-3-like protein 1 OS=Homo sapiens GN=CHI3L1 PE=1 SV=2 | B70: 8.52 | C70: 43024.722 | D70: 3416.291 | E70: P36222 | F70: 5 | G70: 20.63 | H70: 0 | I70: CH3L1_HUMAN | J70: 6825 | K70: 12365 | L70: 9862 | M70: 6668 | O70: 7426 | P70: 10375 | Q70: 10179 | R70: 6950 | W70: 1972 | X70: 6711 | Y70: 9122 | Z70: 8785 | AB70: 16191 | AC70: 15221 | AD70: 21562.5 | AE70: 3491 | AF70: 14012 | AH70: 48632.667 | AI70: 41219 | AJ70: 48799.667 | AK70: =IFERROR(SUM(J70:L70)/COUNTIF(J70:L70,">0"),) | AL70: =IFERROR(SUM(M70:O70)/COUNTIF(M70:O70,">0"),) | AM70: =IFERROR(SUM(P70:R70)/COUNTIF(P70:R70,">0"),) | AN70: =IFERROR(SUM(S70:U70)/COUNTIF(S70:U70,">0"),) | AO70: =IFERROR(SUM(V70:X70)/COUNTIF(V70:X70,">0"),) | AP70: =IFERROR(SUM(Y70:AA70)/COUNTIF(Y70:AA70,">0"),) | AQ70: =IFERROR(SUM(AB70:AD70)/COUNTIF(AB70:AD70,">0"),) | AR70: =IFERROR(SUM(AE70:AG70)/COUNTIF(AE70:AG70,">0"),) | AS70: =IFERROR(SUM(AH70:AJ70)/COUNTIF(AH70:AJ70,">0"),)
A71: Gelsolin OS=Homo sapiens GN=GSN PE=1 SV=1 | B71: 5.84 | C71: 86096.823 | D71: 3231.495 | E71: P06396 | F71: 19 | G71: 36.83 | H71: 0 | I71: GELS_HUMAN | J71: 89705 | K71: 71787.333 | L71: 58200 | M71: 37280.333 | N71: 30161.667 | O71: 20517.667 | P71: 42871.333 | Q71: 43999.333 | R71: 32115.667 | S71: 12915 | T71: 13085.333 | U71: 6799.3333 | V71: 26064 | W71: 21353.667 | X71: 17692 | Y71: 28484.333 | Z71: 22135 | AA71: 22444.333 | AB71: 5052.3333 | AC71: 3847 | AD71: 4022 | AE71: 22295.333 | AF71: 20598 | AG71: 26408.333 | AH71: 29892.5 | AI71: 5508.5 | AJ71: 14411 | AK71: =IFERROR(SUM(J71:L71)/COUNTIF(J71:L71,">0"),) | AL71: =IFERROR(SUM(M71:O71)/COUNTIF(M71:O71,">0"),) | AM71: =IFERROR(SUM(P71:R71)/COUNTIF(P71:R71,">0"),) | AN71: =IFERROR(SUM(S71:U71)/COUNTIF(S71:U71,">0"),) | AO71: =IFERROR(SUM(V71:X71)/COUNTIF(V71:X71,">0"),) | AP71: =IFERROR(SUM(Y71:AA71)/COUNTIF(Y71:AA71,">0"),) | AQ71: =IFERROR(SUM(AB71:AD71)/COUNTIF(AB71:AD71,">0"),) | AR71: =IFERROR(SUM(AE71:AG71)/COUNTIF(AE71:AG71,">0"),) | AS71: =IFERROR(SUM(AH71:AJ71)/COUNTIF(AH71:AJ71,">0"),)
A72: Profilin-1 OS=Homo sapiens GN=PFN1 PE=1 SV=2 | B72: 8.46 | C72: 15225.349 | D72: 3214.353 | E72: P07737 | F72: 5 | G72: 50 | H72: 0 | I72: PROF1_HUMAN | J72: 26051.333 | K72: 23637.333 | L72: 22231.5 | M72: 6991 | N72: 14266 | O72: 3397.5 | P72: 12274.333 | Q72: 11244.333 | R72: 18035 | S72: 9279 | T72: 10161 | V72: 42942.667 | W72: 41188.333 | X72: 31797 | Y72: 20868.333 | Z72: 13131.5 | AA72: 15864 | AB72: 28341 | AD72: 4665 | AF72: 7155 | AG72: 10690.5 | AH72: 9566 | AJ72: 19198 | AK72: =IFERROR(SUM(J72:L72)/COUNTIF(J72:L72,">0"),) | AL72: =IFERROR(SUM(M72:O72)/COUNTIF(M72:O72,">0"),) | AM72: =IFERROR(SUM(P72:R72)/COUNTIF(P72:R72,">0"),) | AN72: =IFERROR(SUM(S72:U72)/COUNTIF(S72:U72,">0"),) | AO72: =IFERROR(SUM(V72:X72)/COUNTIF(V72:X72,">0"),) | AP72: =IFERROR(SUM(Y72:AA72)/COUNTIF(Y72:AA72,">0"),) | AQ72: =IFERROR(SUM(AB72:AD72)/COUNTIF(AB72:AD72,">0"),) | AR72: =IFERROR(SUM(AE72:AG72)/COUNTIF(AE72:AG72,">0"),) | AS72: =IFERROR(SUM(AH72:AJ72)/COUNTIF(AH72:AJ72,">0"),)
A73: Coagulation factor IX OS=Homo sapiens GN=F9 PE=1 SV=2 | B73: 5.19 | C73: 53147.149 | D73: 3141.961 | E73: P00740 | F73: 14 | G73: 48.16 | H73: 0 | I73: FA9_HUMAN | J73: 53542.333 | K73: 42623.667 | L73: 49766.667 | M73: 54830.667 | N73: 35128.333 | O73: 66587.667 | P73: 61580.667 | Q73: 49262.333 | R73: 54198.667 | V73: 73972 | W73: 71255.333 | X73: 78577 | Y73: 102455 | Z73: 101598 | AA73: 102982.33 | AB73: 44827.333 | AC73: 2497 | AE73: 24345 | AF73: 39650 | AG73: 44655.667 | AH73: 35982.333 | AI73: 2263 | AJ73: 33113.667 | AK73: =IFERROR(SUM(J73:L73)/COUNTIF(J73:L73,">0"),) | AL73: =IFERROR(SUM(M73:O73)/COUNTIF(M73:O73,">0"),) | AM73: =IFERROR(SUM(P73:R73)/COUNTIF(P73:R73,">0"),) | AN73: =IFERROR(SUM(S73:U73)/COUNTIF(S73:U73,">0"),) | AO73: =IFERROR(SUM(V73:X73)/COUNTIF(V73:X73,">0"),) | AP73: =IFERROR(SUM(Y73:AA73)/COUNTIF(Y73:AA73,">0"),) | AQ73: =IFERROR(SUM(AB73:AD73)/COUNTIF(AB73:AD73,">0"),) | AR73: =IFERROR(SUM(AE73:AG73)/COUNTIF(AE73:AG73,">0"),) | AS73: =IFERROR(SUM(AH73:AJ73)/COUNTIF(AH73:AJ73,">0"),)
A74: Pregnancy zone protein OS=Homo sapiens GN=PZP PE=1 SV=4 | B74: 5.93 | C74: 165345.89 | D74: 3096.912 | E74: P20742 | F74: 28 | G74: 27.53 | H74: 0 | I74: PZP_HUMAN | J74: 9803.027 | K74: 15085.664 | L74: 15199.653 | M74: 21745.851 | N74: 20343.323 | O74: 22748.923 | P74: 29245.818 | Q74: 27572.344 | R74: 32246.8 | S74: 4181.8593 | T74: 6731.7012 | U74: 6628.5028 | V74: 17713.602 | W74: 17313.462 | X74: 18495.899 | Y74: 27729.907 | Z74: 116965.08 | AA74: 93400.053 | AB74: 47401.227 | AC74: 34351.857 | AD74: 26630.596 | AE74: 24119.38 | AF74: 37259.042 | AG74: 21969.989 | AH74: 13072.901 | AI74: 22914.108 | AJ74: 25909.648 | AK74: =IFERROR(SUM(J74:L74)/COUNTIF(J74:L74,">0"),) | AL74: =IFERROR(SUM(M74:O74)/COUNTIF(M74:O74,">0"),) | AM74: =IFERROR(SUM(P74:R74)/COUNTIF(P74:R74,">0"),) | AN74: =IFERROR(SUM(S74:U74)/COUNTIF(S74:U74,">0"),) | AO74: =IFERROR(SUM(V74:X74)/COUNTIF(V74:X74,">0"),) | AP74: =IFERROR(SUM(Y74:AA74)/COUNTIF(Y74:AA74,">0"),) | AQ74: =IFERROR(SUM(AB74:AD74)/COUNTIF(AB74:AD74,">0"),) | AR74: =IFERROR(SUM(AE74:AG74)/COUNTIF(AE74:AG74,">0"),) | AS74: =IFERROR(SUM(AH74:AJ74)/COUNTIF(AH74:AJ74,">0"),)
A75: Fetuin-B OS=Homo sapiens GN=FETUB PE=1 SV=2 | B75: 6.47 | C75: 42910.409 | D75: 3062.017 | E75: Q9UGM5 | F75: 10 | G75: 36.13 | H75: 0 | I75: FETUB_HUMAN | J75: 38119.667 | K75: 30186 | L75: 25472.333 | M75: 40613.667 | N75: 29893.667 | O75: 38531 | P75: 35700.667 | Q75: 31961 | R75: 34626.667 | S75: 19694.333 | T75: 30505.333 | U75: 12437.667 | V75: 39222.667 | W75: 32236 | X75: 43101 | Y75: 6488.3333 | Z75: 8304.6667 | AA75: 16609 | AB75: 10860 | AE75: 36697.333 | AF75: 28173.333 | AG75: 55054.333 | AH75: 9163.6667 | AJ75: 1328 | AK75: =IFERROR(SUM(J75:L75)/COUNTIF(J75:L75,">0"),) | AL75: =IFERROR(SUM(M75:O75)/COUNTIF(M75:O75,">0"),) | AM75: =IFERROR(SUM(P75:R75)/COUNTIF(P75:R75,">0"),) | AN75: =IFERROR(SUM(S75:U75)/COUNTIF(S75:U75,">0"),) | AO75: =IFERROR(SUM(V75:X75)/COUNTIF(V75:X75,">0"),) | AP75: =IFERROR(SUM(Y75:AA75)/COUNTIF(Y75:AA75,">0"),) | AQ75: =IFERROR(SUM(AB75:AD75)/COUNTIF(AB75:AD75,">0"),) | AR75: =IFERROR(SUM(AE75:AG75)/COUNTIF(AE75:AG75,">0"),) | AS75: =IFERROR(SUM(AH75:AJ75)/COUNTIF(AH75:AJ75,">0"),)
A76: Hepatocyte growth factor activator OS=Homo sapiens GN=HGFAC PE=1 SV=1 | B76: 6.89 | C76: 72905.947 | D76: 3058.788 | E76: Q04756 | F76: 16 | G76: 37.86 | H76: 0 | I76: HGFA_HUMAN | J76: 141435.67 | K76: 52184 | L76: 42451.333 | M76: 61984.333 | N76: 27028 | O76: 24920.667 | P76: 302763.67 | Q76: 69834.667 | R76: 38757 | S76: 33950.333 | T76: 25398.333 | U76: 4484 | V76: 179266 | W76: 56097 | X76: 39015.667 | Y76: 65210.333 | Z76: 53067.333 | AA76: 38799 | AB76: 68507.333 | AC76: 43953.333 | AD76: 25883.333 | AE76: 38738 | AF76: 21008 | AG76: 41941 | AH76: 27806.333 | AI76: 11105 | AJ76: 35523.667 | AK76: =IFERROR(SUM(J76:L76)/COUNTIF(J76:L76,">0"),) | AL76: =IFERROR(SUM(M76:O76)/COUNTIF(M76:O76,">0"),) | AM76: =IFERROR(SUM(P76:R76)/COUNTIF(P76:R76,">0"),) | AN76: =IFERROR(SUM(S76:U76)/COUNTIF(S76:U76,">0"),) | AO76: =IFERROR(SUM(V76:X76)/COUNTIF(V76:X76,">0"),) | AP76: =IFERROR(SUM(Y76:AA76)/COUNTIF(Y76:AA76,">0"),) | AQ76: =IFERROR(SUM(AB76:AD76)/COUNTIF(AB76:AD76,">0"),) | AR76: =IFERROR(SUM(AE76:AG76)/COUNTIF(AE76:AG76,">0"),) | AS76: =IFERROR(SUM(AH76:AJ76)/COUNTIF(AH76:AJ76,">0"),)
A77: Phosphatidylinositol-glycan-specific phospholipase D OS=Homo sapiens GN=GPLD1 PE=1 SV=3 | B77: 5.89 | C77: 92963.898 | D77: 2873.209 | E77: P80108 | F77: 20 | G77: 41.31 | H77: 0 | I77: PHLD_HUMAN | J77: 38131.667 | K77: 36031 | L77: 30318.333 | M77: 45460.667 | N77: 44144 | O77: 36991 | P77: 29952 | Q77: 24248 | R77: 20308.333 | S77: 29999.333 | T77: 51670 | U77: 17006.5 | V77: 49869 | W77: 44839 | X77: 33023.667 | Y77: 65770.667 | Z77: 31061.333 | AA77: 34045 | AB77: 9156 | AC77: 6902 | AD77: 8469 | AE77: 21086 | AF77: 20611 | AG77: 20800 | AH77: 8907 | AI77: 7801.3333 | AJ77: 8485 | AK77: =IFERROR(SUM(J77:L77)/COUNTIF(J77:L77,">0"),) | AL77: =IFERROR(SUM(M77:O77)/COUNTIF(M77:O77,">0"),) | AM77: =IFERROR(SUM(P77:R77)/COUNTIF(P77:R77,">0"),) | AN77: =IFERROR(SUM(S77:U77)/COUNTIF(S77:U77,">0"),) | AO77: =IFERROR(SUM(V77:X77)/COUNTIF(V77:X77,">0"),) | AP77: =IFERROR(SUM(Y77:AA77)/COUNTIF(Y77:AA77,">0"),) | AQ77: =IFERROR(SUM(AB77:AD77)/COUNTIF(AB77:AD77,">0"),) | AR77: =IFERROR(SUM(AE77:AG77)/COUNTIF(AE77:AG77,">0"),) | AS77: =IFERROR(SUM(AH77:AJ77)/COUNTIF(AH77:AJ77,">0"),)
A78: Insulin-like growth factor-binding protein 3 OS=Homo sapiens GN=IGFBP3 PE=1 SV=2 | B78: 8.66 | C78: 32700.734 | D78: 2714.278 | E78: P17936 | F78: 7 | G78: 32.65 | H78: 0 | I78: IBP3_HUMAN | J78: 29132 | K78: 26249.667 | L78: 22768.333 | M78: 72389.667 | N78: 57736.333 | O78: 65676.333 | P78: 14454 | Q78: 14831 | R78: 12088.5 | S78: 23252 | T78: 27106 | V78: 30302 | W78: 17700 | X78: 36204 | Y78: 9316 | AA78: 10550.5 | AB78: 5340.5 | AE78: 19040.333 | AF78: 13122.5 | AG78: 17372 | AH78: 9814.5 | AI78: 9727.5 | AJ78: 6535 | AK78: =IFERROR(SUM(J78:L78)/COUNTIF(J78:L78,">0"),) | AL78: =IFERROR(SUM(M78:O78)/COUNTIF(M78:O78,">0"),) | AM78: =IFERROR(SUM(P78:R78)/COUNTIF(P78:R78,">0"),) | AN78: =IFERROR(SUM(S78:U78)/COUNTIF(S78:U78,">0"),) | AO78: =IFERROR(SUM(V78:X78)/COUNTIF(V78:X78,">0"),) | AP78: =IFERROR(SUM(Y78:AA78)/COUNTIF(Y78:AA78,">0"),) | AQ78: =IFERROR(SUM(AB78:AD78)/COUNTIF(AB78:AD78,">0"),) | AR78: =IFERROR(SUM(AE78:AG78)/COUNTIF(AE78:AG78,">0"),) | AS78: =IFERROR(SUM(AH78:AJ78)/COUNTIF(AH78:AJ78,">0"),)
A79: Mannan-binding lectin serine protease 1 OS=Homo sapiens GN=MASP1 PE=1 SV=3 | B79: 5.15 | C79: 80900.595 | D79: 2222.028 | E79: P48740 | F79: 17 | G79: 39.06 | H79: 0 | I79: MASP1_HUMAN | J79: 51177 | K79: 21623.333 | L79: 18814.333 | M79: 58202.333 | N79: 7479.6667 | O79: 32294 | P79: 40268.333 | Q79: 32605.333 | R79: 27233.333 | S79: 5036.5 | T79: 11186 | V79: 40897.333 | W79: 35601 | X79: 35595.333 | Y79: 37870.333 | Z79: 36957.333 | AA79: 35453.333 | AB79: 5159.5 | AC79: 8444 | AD79: 10539.333 | AE79: 20321.333 | AF79: 22683 | AG79: 15547.333 | AH79: 9035.5 | AI79: 2262 | AJ79: 10940.333 | AK79: =IFERROR(SUM(J79:L79)/COUNTIF(J79:L79,">0"),) | AL79: =IFERROR(SUM(M79:O79)/COUNTIF(M79:O79,">0"),) | AM79: =IFERROR(SUM(P79:R79)/COUNTIF(P79:R79,">0"),) | AN79: =IFERROR(SUM(S79:U79)/COUNTIF(S79:U79,">0"),) | AO79: =IFERROR(SUM(V79:X79)/COUNTIF(V79:X79,">0"),) | AP79: =IFERROR(SUM(Y79:AA79)/COUNTIF(Y79:AA79,">0"),) | AQ79: =IFERROR(SUM(AB79:AD79)/COUNTIF(AB79:AD79,">0"),) | AR79: =IFERROR(SUM(AE79:AG79)/COUNTIF(AE79:AG79,">0"),) | AS79: =IFERROR(SUM(AH79:AJ79)/COUNTIF(AH79:AJ79,">0"),)
A80: Fibrinogen beta chain OS=Homo sapiens GN=FGB PE=1 SV=2 | B80: 8.25 | C80: 56612.617 | D80: 2174.58 | E80: P02675 | F80: 9 | G80: 27.7 | H80: 0 | I80: FIBB_HUMAN | J80: 6690.5 | K80: 3121 | L80: 6272 | M80: 6243.3333 | N80: 9204 | O80: 5564.6667 | Q80: 2456 | S80: 2771 | T80: 11196 | W80: 4608 | Y80: 3900 | Z80: 4191 | AA80: 2351 | AB80: 11984.667 | AC80: 11947 | AD80: 12837 | AE80: 16609.667 | AF80: 16892 | AG80: 20274 | AH80: 39345 | AI80: 30707.333 | AJ80: 50624 | AK80: =IFERROR(SUM(J80:L80)/COUNTIF(J80:L80,">0"),) | AL80: =IFERROR(SUM(M80:O80)/COUNTIF(M80:O80,">0"),) | AM80: =IFERROR(SUM(P80:R80)/COUNTIF(P80:R80,">0"),) | AN80: =IFERROR(SUM(S80:U80)/COUNTIF(S80:U80,">0"),) | AO80: =IFERROR(SUM(V80:X80)/COUNTIF(V80:X80,">0"),) | AP80: =IFERROR(SUM(Y80:AA80)/COUNTIF(Y80:AA80,">0"),) | AQ80: =IFERROR(SUM(AB80:AD80)/COUNTIF(AB80:AD80,">0"),) | AR80: =IFERROR(SUM(AE80:AG80)/COUNTIF(AE80:AG80,">0"),) | AS80: =IFERROR(SUM(AH80:AJ80)/COUNTIF(AH80:AJ80,">0"),)
A81: 14-3-3 protein zeta/delta OS=Homo sapiens GN=YWHAZ PE=1 SV=1 | B81: 4.53 | C81: 27916.239 | D81: 2116.76 | E81: P63104 | F81: 7 | G81: 48.57 | H81: 0 | I81: 1433Z_HUMAN | J81: 22549.667 | K81: 12493.333 | L81: 12450.667 | M81: 32463.333 | N81: 64501.667 | O81: 29684.667 | P81: 12277.333 | Q81: 22498.667 | R81: 25961 | T81: 18725 | V81: 24234.333 | W81: 23650.667 | X81: 17107.333 | Y81: 17038.333 | Z81: 12353.667 | AA81: 11522 | AB81: 19419.667 | AC81: 17146 | AD81: 19269.667 | AE81: 34484.667 | AF81: 15409.333 | AG81: 9606.5 | AH81: 38426 | AI81: 18333.667 | AJ81: 27242 | AK81: =IFERROR(SUM(J81:L81)/COUNTIF(J81:L81,">0"),) | AL81: =IFERROR(SUM(M81:O81)/COUNTIF(M81:O81,">0"),) | AM81: =IFERROR(SUM(P81:R81)/COUNTIF(P81:R81,">0"),) | AN81: =IFERROR(SUM(S81:U81)/COUNTIF(S81:U81,">0"),) | AO81: =IFERROR(SUM(V81:X81)/COUNTIF(V81:X81,">0"),) | AP81: =IFERROR(SUM(Y81:AA81)/COUNTIF(Y81:AA81,">0"),) | AQ81: =IFERROR(SUM(AB81:AD81)/COUNTIF(AB81:AD81,">0"),) | AR81: =IFERROR(SUM(AE81:AG81)/COUNTIF(AE81:AG81,">0"),) | AS81: =IFERROR(SUM(AH81:AJ81)/COUNTIF(AH81:AJ81,">0"),)
A82: Serum albumin OS=Homo sapiens GN=ALB PE=1 SV=2 | B82: 5.86 | C82: 71362.711 | D82: 2029.635 | E82: P02768 | F82: 17 | G82: 36.12 | H82: 0 | I82: ALBU_HUMAN | J82: 18275.667 | K82: 9155.6667 | L82: 7273.5 | M82: 6131.5 | O82: 4413.3333 | P82: 10067 | Q82: 6739.3333 | R82: 11025.5 | U82: 19668 | V82: 31804 | W82: 29019.333 | X82: 18975.333 | Y82: 7997.5 | Z82: 8133 | AA82: 5658 | AB82: 9137 | AC82: 15176 | AD82: 5953 | AE82: 7694 | AF82: 3031 | AG82: 5154.5 | AH82: 55125.667 | AI82: 67776.333 | AJ82: 79047 | AK82: =IFERROR(SUM(J82:L82)/COUNTIF(J82:L82,">0"),) | AL82: =IFERROR(SUM(M82:O82)/COUNTIF(M82:O82,">0"),) | AM82: =IFERROR(SUM(P82:R82)/COUNTIF(P82:R82,">0"),) | AN82: =IFERROR(SUM(S82:U82)/COUNTIF(S82:U82,">0"),) | AO82: =IFERROR(SUM(V82:X82)/COUNTIF(V82:X82,">0"),) | AP82: =IFERROR(SUM(Y82:AA82)/COUNTIF(Y82:AA82,">0"),) | AQ82: =IFERROR(SUM(AB82:AD82)/COUNTIF(AB82:AD82,">0"),) | AR82: =IFERROR(SUM(AE82:AG82)/COUNTIF(AE82:AG82,">0"),) | AS82: =IFERROR(SUM(AH82:AJ82)/COUNTIF(AH82:AJ82,">0"),)
A83: Protein Z-dependent protease inhibitor OS=Homo sapiens GN=SERPINA10 PE=1 SV=1 | B83: 8.55 | C83: 50821.157 | D83: 1991.649 | E83: Q9UK55 | F83: 8 | G83: 26.35 | H83: 0 | I83: ZPI_HUMAN | J83: 27291.333 | K83: 36031.333 | L83: 13488.5 | M83: 36497 | N83: 31808.667 | O83: 26833 | P83: 35311.667 | Q83: 28997.333 | R83: 30765 | S83: 8440 | T83: 15366 | V83: 48999.333 | W83: 41727.333 | X83: 36493.667 | Y83: 27953.333 | Z83: 17855 | AA83: 17391.667 | AB83: 17011 | AC83: 8376.3333 | AD83: 13705.667 | AE83: 26545 | AF83: 16631 | AG83: 17208 | AH83: 81215.667 | AI83: 58019 | AJ83: 66670 | AK83: =IFERROR(SUM(J83:L83)/COUNTIF(J83:L83,">0"),) | AL83: =IFERROR(SUM(M83:O83)/COUNTIF(M83:O83,">0"),) | AM83: =IFERROR(SUM(P83:R83)/COUNTIF(P83:R83,">0"),) | AN83: =IFERROR(SUM(S83:U83)/COUNTIF(S83:U83,">0"),) | AO83: =IFERROR(SUM(V83:X83)/COUNTIF(V83:X83,">0"),) | AP83: =IFERROR(SUM(Y83:AA83)/COUNTIF(Y83:AA83,">0"),) | AQ83: =IFERROR(SUM(AB83:AD83)/COUNTIF(AB83:AD83,">0"),) | AR83: =IFERROR(SUM(AE83:AG83)/COUNTIF(AE83:AG83,">0"),) | AS83: =IFERROR(SUM(AH83:AJ83)/COUNTIF(AH83:AJ83,">0"),)
A84: Immunoglobulin heavy constant mu OS=Homo sapiens GN=IGHM PE=1 SV=4 | B84: 6.33 | C84: 50124.127 | D84: 1918.959 | E84: P01871 | F84: 11 | G84: 35.54 | H84: 0 | I84: IGHM_HUMAN | J84: 67491 | K84: 75272 | L84: 61556 | M84: 18375.667 | N84: 11417.333 | O84: 16523.333 | P84: 32617.333 | Q84: 26540 | R84: 9564.6667 | V84: 46792.667 | W84: 38046 | X84: 45683 | Y84: 15433.667 | Z84: 21406.667 | AA84: 27032.333 | AB84: 17492.333 | AD84: 9831 | AE84: 9323 | AF84: 12332 | AG84: 14497.5 | AH84: 15828.667 | AI84: 11627 | AJ84: 27315.667 | AK84: =IFERROR(SUM(J84:L84)/COUNTIF(J84:L84,">0"),) | AL84: =IFERROR(SUM(M84:O84)/COUNTIF(M84:O84,">0"),) | AM84: =IFERROR(SUM(P84:R84)/COUNTIF(P84:R84,">0"),) | AN84: =IFERROR(SUM(S84:U84)/COUNTIF(S84:U84,">0"),) | AO84: =IFERROR(SUM(V84:X84)/COUNTIF(V84:X84,">0"),) | AP84: =IFERROR(SUM(Y84:AA84)/COUNTIF(Y84:AA84,">0"),) | AQ84: =IFERROR(SUM(AB84:AD84)/COUNTIF(AB84:AD84,">0"),) | AR84: =IFERROR(SUM(AE84:AG84)/COUNTIF(AE84:AG84,">0"),) | AS84: =IFERROR(SUM(AH84:AJ84)/COUNTIF(AH84:AJ84,">0"),)
A85: Vitamin K-dependent protein C OS=Homo sapiens GN=PROC PE=1 SV=1 | B85: 5.82 | C85: 53440.009 | D85: 1899.146 | E85: P04070 | F85: 8 | G85: 42.95 | H85: 0 | I85: PROC_HUMAN | J85: 24796.667 | K85: 9670 | L85: 21603 | M85: 37585 | N85: 8043 | O85: 19777.667 | P85: 18496 | Q85: 15742.333 | R85: 10086.667 | S85: 13056.333 | T85: 21016.333 | U85: 5488 | V85: 28419 | W85: 18474 | X85: 25785 | Y85: 11984.667 | Z85: 8151 | AA85: 7276.3333 | AC85: 8028 | AD85: 4560 | AE85: 11949.333 | AF85: 8442 | AG85: 12783 | AH85: 7392 | AI85: 6598 | AJ85: 7559.5 | AK85: =IFERROR(SUM(J85:L85)/COUNTIF(J85:L85,">0"),) | AL85: =IFERROR(SUM(M85:O85)/COUNTIF(M85:O85,">0"),) | AM85: =IFERROR(SUM(P85:R85)/COUNTIF(P85:R85,">0"),) | AN85: =IFERROR(SUM(S85:U85)/COUNTIF(S85:U85,">0"),) | AO85: =IFERROR(SUM(V85:X85)/COUNTIF(V85:X85,">0"),) | AP85: =IFERROR(SUM(Y85:AA85)/COUNTIF(Y85:AA85,">0"),) | AQ85: =IFERROR(SUM(AB85:AD85)/COUNTIF(AB85:AD85,">0"),) | AR85: =IFERROR(SUM(AE85:AG85)/COUNTIF(AE85:AG85,">0"),) | AS85: =IFERROR(SUM(AH85:AJ85)/COUNTIF(AH85:AJ85,">0"),)
A86: Neutrophil gelatinase-associated lipocalin OS=Homo sapiens GN=LCN2 PE=1 SV=2 | B86: 9.2 | C86: 22759.184 | D86: 1828.212 | E86: P80188 | F86: 3 | G86: 26.77 | H86: 0 | I86: NGAL_HUMAN | L86: 5326 | M86: 5387.5 | N86: 3935 | W86: 4844 | AB86: 24041.333 | AC86: 10990 | AE86: 7871 | AH86: 24042.333 | AK86: =IFERROR(SUM(J86:L86)/COUNTIF(J86:L86,">0"),) | AL86: =IFERROR(SUM(M86:O86)/COUNTIF(M86:O86,">0"),) | AM86: =IFERROR(SUM(P86:R86)/COUNTIF(P86:R86,">0"),) | AN86: =IFERROR(SUM(S86:U86)/COUNTIF(S86:U86,">0"),) | AO86: =IFERROR(SUM(V86:X86)/COUNTIF(V86:X86,">0"),) | AP86: =IFERROR(SUM(Y86:AA86)/COUNTIF(Y86:AA86,">0"),) | AQ86: =IFERROR(SUM(AB86:AD86)/COUNTIF(AB86:AD86,">0"),) | AR86: =IFERROR(SUM(AE86:AG86)/COUNTIF(AE86:AG86,">0"),) | AS86: =IFERROR(SUM(AH86:AJ86)/COUNTIF(AH86:AJ86,">0"),)
A87: Attractin OS=Homo sapiens GN=ATRN PE=1 SV=2 | B87: 7 | C87: 163555.54 | D87: 1753.708 | E87: O75882 | F87: 18 | G87: 19.31 | H87: 0 | I87: ATRN_HUMAN | J87: 71917.667 | K87: 52133.667 | L87: 46849.333 | M87: 89306.667 | N87: 55364.667 | O87: 61013.667 | P87: 46573.333 | Q87: 42478.333 | R87: 34392.667 | S87: 7868 | T87: 19137.667 | U87: 10352.5 | V87: 44452.333 | W87: 38455.333 | X87: 34337.333 | Y87: 58334 | Z87: 55522.667 | AA87: 50904 | AB87: 32612.667 | AC87: 17509.333 | AD87: 26738.333 | AE87: 40882.667 | AF87: 38165.333 | AG87: 43791 | AH87: 20088.333 | AI87: 23204.667 | AJ87: 24151 | AK87: =IFERROR(SUM(J87:L87)/COUNTIF(J87:L87,">0"),) | AL87: =IFERROR(SUM(M87:O87)/COUNTIF(M87:O87,">0"),) | AM87: =IFERROR(SUM(P87:R87)/COUNTIF(P87:R87,">0"),) | AN87: =IFERROR(SUM(S87:U87)/COUNTIF(S87:U87,">0"),) | AO87: =IFERROR(SUM(V87:X87)/COUNTIF(V87:X87,">0"),) | AP87: =IFERROR(SUM(Y87:AA87)/COUNTIF(Y87:AA87,">0"),) | AQ87: =IFERROR(SUM(AB87:AD87)/COUNTIF(AB87:AD87,">0"),) | AR87: =IFERROR(SUM(AE87:AG87)/COUNTIF(AE87:AG87,">0"),) | AS87: =IFERROR(SUM(AH87:AJ87)/COUNTIF(AH87:AJ87,">0"),)
A88: Transforming growth factor-beta-induced protein ig-h3 OS=Homo sapiens GN=TGFBI PE=1 SV=1 | B88: 7.52 | C88: 75308.321 | D88: 1750.777 | E88: Q15582 | F88: 5 | G88: 9.22 | H88: 0 | I88: BGH3_HUMAN | J88: 22968.667 | L88: 30573 | M88: 15431 | N88: 18278 | P88: 18197 | Q88: 18194.5 | R88: 22186 | S88: 27517 | V88: 13024.333 | W88: 25250 | X88: 24794 | AA88: 8886.5 | AG88: 15616 | AI88: 40999.333 | AJ88: 41301.333 | AK88: =IFERROR(SUM(J88:L88)/COUNTIF(J88:L88,">0"),) | AL88: =IFERROR(SUM(M88:O88)/COUNTIF(M88:O88,">0"),) | AM88: =IFERROR(SUM(P88:R88)/COUNTIF(P88:R88,">0"),) | AN88: =IFERROR(SUM(S88:U88)/COUNTIF(S88:U88,">0"),) | AO88: =IFERROR(SUM(V88:X88)/COUNTIF(V88:X88,">0"),) | AP88: =IFERROR(SUM(Y88:AA88)/COUNTIF(Y88:AA88,">0"),) | AQ88: =IFERROR(SUM(AB88:AD88)/COUNTIF(AB88:AD88,">0"),) | AR88: =IFERROR(SUM(AE88:AG88)/COUNTIF(AE88:AG88,">0"),) | AS88: =IFERROR(SUM(AH88:AJ88)/COUNTIF(AH88:AJ88,">0"),)
A89: Catalase OS=Homo sapiens GN=CAT PE=1 SV=3 | B89: 6.97 | C89: 59984.365 | D89: 1736.469 | E89: P04040 | F89: 5 | G89: 10.82 | H89: 0 | I89: CATA_HUMAN | J89: 8776 | L89: 5113.5 | M89: 11803.667 | N89: 11365.5 | O89: 11807 | P89: 21586.333 | Q89: 21324.333 | R89: 18240.333 | V89: 7586 | W89: 7100 | X89: 5292 | Y89: 11954.5 | Z89: 11497 | AA89: 11197.5 | AB89: 30310.667 | AD89: 21722.5 | AE89: 5041 | AF89: 4663 | AI89: 10687 | AJ89: 12805 | AK89: =IFERROR(SUM(J89:L89)/COUNTIF(J89:L89,">0"),) | AL89: =IFERROR(SUM(M89:O89)/COUNTIF(M89:O89,">0"),) | AM89: =IFERROR(SUM(P89:R89)/COUNTIF(P89:R89,">0"),) | AN89: =IFERROR(SUM(S89:U89)/COUNTIF(S89:U89,">0"),) | AO89: =IFERROR(SUM(V89:X89)/COUNTIF(V89:X89,">0"),) | AP89: =IFERROR(SUM(Y89:AA89)/COUNTIF(Y89:AA89,">0"),) | AQ89: =IFERROR(SUM(AB89:AD89)/COUNTIF(AB89:AD89,">0"),) | AR89: =IFERROR(SUM(AE89:AG89)/COUNTIF(AE89:AG89,">0"),) | AS89: =IFERROR(SUM(AH89:AJ89)/COUNTIF(AH89:AJ89,">0"),)
A90: L-selectin OS=Homo sapiens GN=SELL PE=1 SV=2 | B90: 6.17 | C90: 43669.868 | D90: 1697.236 | E90: P14151 | F90: 5 | G90: 13.98 | H90: 0 | I90: LYAM1_HUMAN | J90: 44088 | K90: 4032 | L90: 36071.5 | M90: 40627.333 | N90: 65761 | O90: 31199.333 | P90: 25209.667 | Q90: 23620 | R90: 20831 | V90: 15750.333 | W90: 18496.5 | X90: 15930 | Y90: 23201.333 | Z90: 20647.333 | AA90: 17985 | AB90: 24488.333 | AC90: 39765 | AD90: 39218 | AE90: 20617 | AF90: 40548 | AG90: 28109.5 | AH90: 26605.5 | AI90: 38464 | AJ90: 26177.333 | AK90: =IFERROR(SUM(J90:L90)/COUNTIF(J90:L90,">0"),) | AL90: =IFERROR(SUM(M90:O90)/COUNTIF(M90:O90,">0"),) | AM90: =IFERROR(SUM(P90:R90)/COUNTIF(P90:R90,">0"),) | AN90: =IFERROR(SUM(S90:U90)/COUNTIF(S90:U90,">0"),) | AO90: =IFERROR(SUM(V90:X90)/COUNTIF(V90:X90,">0"),) | AP90: =IFERROR(SUM(Y90:AA90)/COUNTIF(Y90:AA90,">0"),) | AQ90: =IFERROR(SUM(AB90:AD90)/COUNTIF(AB90:AD90,">0"),) | AR90: =IFERROR(SUM(AE90:AG90)/COUNTIF(AE90:AG90,">0"),) | AS90: =IFERROR(SUM(AH90:AJ90)/COUNTIF(AH90:AJ90,">0"),)
A91: Tropomyosin alpha-4 chain OS=Homo sapiens GN=TPM4 PE=1 SV=3 | B91: 4.47 | C91: 28635.913 | D91: 1548.924 | E91: P67936 | F91: 4 | G91: 17.74 | H91: 0 | I91: TPM4_HUMAN | J91: 5657.5 | K91: 8136.5 | L91: 3382.5 | M91: 18290.333 | N91: 17113.5 | O91: 6107.6667 | V91: 25760.333 | W91: 22345.667 | X91: 18790 | Z91: 4348 | AA91: 3200 | AB91: 8208 | AC91: 7422 | AD91: 3018 | AE91: 12604.5 | AF91: 15188.5 | AG91: 14699 | AH91: 18330 | AJ91: 11720.5 | AK91: =IFERROR(SUM(J91:L91)/COUNTIF(J91:L91,">0"),) | AL91: =IFERROR(SUM(M91:O91)/COUNTIF(M91:O91,">0"),) | AM91: =IFERROR(SUM(P91:R91)/COUNTIF(P91:R91,">0"),) | AN91: =IFERROR(SUM(S91:U91)/COUNTIF(S91:U91,">0"),) | AO91: =IFERROR(SUM(V91:X91)/COUNTIF(V91:X91,">0"),) | AP91: =IFERROR(SUM(Y91:AA91)/COUNTIF(Y91:AA91,">0"),) | AQ91: =IFERROR(SUM(AB91:AD91)/COUNTIF(AB91:AD91,">0"),) | AR91: =IFERROR(SUM(AE91:AG91)/COUNTIF(AE91:AG91,">0"),) | AS91: =IFERROR(SUM(AH91:AJ91)/COUNTIF(AH91:AJ91,">0"),)
A92: Keratin, type II cytoskeletal 1 OS=Homo sapiens GN=KRT1 PE=1 SV=6 | B92: 8.27 | C92: 66209.896 | D92: 1533.36 | E92: P04264 | F92: 18 | G92: 41.61 | H92: 0 | I92: K2C1_HUMAN | J92: 30401.333 | K92: 40301.333 | L92: 27704.333 | M92: 26945.333 | N92: 31639 | O92: 26379.333 | P92: 11571.333 | Q92: 12645.333 | R92: 9059 | T92: 5623 | V92: 38621.119 | W92: 39178 | X92: 36794 | Y92: 38068.12 | Z92: 39223.667 | AA92: 35733 | AB92: 47465 | AC92: 34760.667 | AD92: 21478 | AE92: 26523.667 | AF92: 23498.276 | AG92: 28847 | AH92: 23446.242 | AI92: 27921.333 | AJ92: 32273 | AK92: =IFERROR(SUM(J92:L92)/COUNTIF(J92:L92,">0"),) | AL92: =IFERROR(SUM(M92:O92)/COUNTIF(M92:O92,">0"),) | AM92: =IFERROR(SUM(P92:R92)/COUNTIF(P92:R92,">0"),) | AN92: =IFERROR(SUM(S92:U92)/COUNTIF(S92:U92,">0"),) | AO92: =IFERROR(SUM(V92:X92)/COUNTIF(V92:X92,">0"),) | AP92: =IFERROR(SUM(Y92:AA92)/COUNTIF(Y92:AA92,">0"),) | AQ92: =IFERROR(SUM(AB92:AD92)/COUNTIF(AB92:AD92,">0"),) | AR92: =IFERROR(SUM(AE92:AG92)/COUNTIF(AE92:AG92,">0"),) | AS92: =IFERROR(SUM(AH92:AJ92)/COUNTIF(AH92:AJ92,">0"),)
A93: L-lactate dehydrogenase A chain OS=Homo sapiens GN=LDHA PE=1 SV=2 | B93: 8.37 | C93: 36973.93 | D93: 1389.74 | E93: P00338 | F93: 3 | G93: 11.14 | H93: 0 | I93: LDHA_HUMAN | J93: 11856.051 | K93: 3384.5471 | L93: 4660.2645 | M93: 15832.225 | O93: 12729.268 | P93: 2786.2293 | Q93: 8339.2561 | R93: 7508.2824 | V93: 9057.7005 | W93: 8240.122 | X93: 8445.1788 | AJ93: 7625 | AK93: =IFERROR(SUM(J93:L93)/COUNTIF(J93:L93,">0"),) | AL93: =IFERROR(SUM(M93:O93)/COUNTIF(M93:O93,">0"),) | AM93: =IFERROR(SUM(P93:R93)/COUNTIF(P93:R93,">0"),) | AN93: =IFERROR(SUM(S93:U93)/COUNTIF(S93:U93,">0"),) | AO93: =IFERROR(SUM(V93:X93)/COUNTIF(V93:X93,">0"),) | AP93: =IFERROR(SUM(Y93:AA93)/COUNTIF(Y93:AA93,">0"),) | AQ93: =IFERROR(SUM(AB93:AD93)/COUNTIF(AB93:AD93,">0"),) | AR93: =IFERROR(SUM(AE93:AG93)/COUNTIF(AE93:AG93,">0"),) | AS93: =IFERROR(SUM(AH93:AJ93)/COUNTIF(AH93:AJ93,">0"),)
A94: Vasorin OS=Homo sapiens GN=VASN PE=1 SV=1 | B94: 7.09 | C94: 72796.246 | D94: 1386.667 | E94: Q6EMK4 | F94: 8 | G94: 20.51 | H94: 0 | I94: VASN_HUMAN | J94: 35964.667 | K94: 31325.333 | L94: 29226.667 | M94: 25691.667 | N94: 23601.333 | O94: 16793.667 | P94: 23797.333 | Q94: 22682.333 | R94: 12850.333 | T94: 16700 | U94: 4493 | V94: 20875 | W94: 21035.667 | X94: 15505.667 | Y94: 41507.333 | Z94: 40280.333 | AA94: 29296 | AB94: 26522 | AC94: 24880 | AD94: 21716.5 | AE94: 24759.333 | AF94: 17884.667 | AG94: 21798.667 | AH94: 27827 | AI94: 22523 | AJ94: 23715.333 | AK94: =IFERROR(SUM(J94:L94)/COUNTIF(J94:L94,">0"),) | AL94: =IFERROR(SUM(M94:O94)/COUNTIF(M94:O94,">0"),) | AM94: =IFERROR(SUM(P94:R94)/COUNTIF(P94:R94,">0"),) | AN94: =IFERROR(SUM(S94:U94)/COUNTIF(S94:U94,">0"),) | AO94: =IFERROR(SUM(V94:X94)/COUNTIF(V94:X94,">0"),) | AP94: =IFERROR(SUM(Y94:AA94)/COUNTIF(Y94:AA94,">0"),) | AQ94: =IFERROR(SUM(AB94:AD94)/COUNTIF(AB94:AD94,">0"),) | AR94: =IFERROR(SUM(AE94:AG94)/COUNTIF(AE94:AG94,">0"),) | AS94: =IFERROR(SUM(AH94:AJ94)/COUNTIF(AH94:AJ94,">0"),)
A95: Immunoglobulin alpha-2 heavy chain OS=Homo sapiens PE=1 SV=1 | B95: 6.38 | C95: 49375.228 | D95: 1351.183 | E95: P0DOX2 | F95: 5 | G95: 11.87 | H95: 0 | I95: IGA2_HUMAN | AB95: 8175 | AE95: 42587.698 | AF95: 20988.576 | AG95: 55445.853 | AK95: =IFERROR(SUM(J95:L95)/COUNTIF(J95:L95,">0"),) | AL95: =IFERROR(SUM(M95:O95)/COUNTIF(M95:O95,">0"),) | AM95: =IFERROR(SUM(P95:R95)/COUNTIF(P95:R95,">0"),) | AN95: =IFERROR(SUM(S95:U95)/COUNTIF(S95:U95,">0"),) | AO95: =IFERROR(SUM(V95:X95)/COUNTIF(V95:X95,">0"),) | AP95: =IFERROR(SUM(Y95:AA95)/COUNTIF(Y95:AA95,">0"),) | AQ95: =IFERROR(SUM(AB95:AD95)/COUNTIF(AB95:AD95,">0"),) | AR95: =IFERROR(SUM(AE95:AG95)/COUNTIF(AE95:AG95,">0"),) | AS95: =IFERROR(SUM(AH95:AJ95)/COUNTIF(AH95:AJ95,">0"),)
A96: Complement C1r subcomponent-like protein OS=Homo sapiens GN=C1RL PE=1 SV=2 | B96: 6.78 | C96: 54239.77 | D96: 1337.918 | E96: Q9NZP8 | F96: 7 | G96: 15.61 | H96: 0 | I96: C1RL_HUMAN | J96: 31669.333 | K96: 20717 | L96: 60586 | M96: 56426.298 | N96: 17745.956 | O96: 19455.652 | P96: 64851.667 | Q96: 64419.667 | R96: 71542 | T96: 18051.5 | V96: 14149.126 | W96: 22680.24 | X96: 23774.743 | Y96: 46702 | Z96: 25099.222 | AA96: 16583 | AB96: 13029.987 | AC96: 13062.5 | AD96: 12702.785 | AE96: 17743.994 | AF96: 12621.667 | AG96: 17326.268 | AH96: 3329 | AI96: 17170.667 | AJ96: 8100.5349 | AK96: =IFERROR(SUM(J96:L96)/COUNTIF(J96:L96,">0"),) | AL96: =IFERROR(SUM(M96:O96)/COUNTIF(M96:O96,">0"),) | AM96: =IFERROR(SUM(P96:R96)/COUNTIF(P96:R96,">0"),) | AN96: =IFERROR(SUM(S96:U96)/COUNTIF(S96:U96,">0"),) | AO96: =IFERROR(SUM(V96:X96)/COUNTIF(V96:X96,">0"),) | AP96: =IFERROR(SUM(Y96:AA96)/COUNTIF(Y96:AA96,">0"),) | AQ96: =IFERROR(SUM(AB96:AD96)/COUNTIF(AB96:AD96,">0"),) | AR96: =IFERROR(SUM(AE96:AG96)/COUNTIF(AE96:AG96,">0"),) | AS96: =IFERROR(SUM(AH96:AJ96)/COUNTIF(AH96:AJ96,">0"),)
A97: Hepatocyte growth factor-like protein OS=Homo sapiens GN=MST1 PE=1 SV=2 | B97: 7.49 | C97: 82886.201 | D97: 1332.032 | E97: P26927 | F97: 17 | G97: 37.13 | H97: 0 | I97: HGFL_HUMAN | J97: 56340.667 | L97: 43129.333 | M97: 45005.667 | N97: 2349 | O97: 42830.667 | P97: 39594.667 | Q97: 32021.333 | R97: 42056 | T97: 20354 | U97: 29200 | V97: 38377 | W97: 30168.333 | X97: 47412.667 | Y97: 10032 | Z97: 34777 | AA97: 18505 | AB97: 11330.5 | AD97: 4687.25 | AE97: 1857 | AF97: 7164 | AG97: 13524.667 | AH97: 14801 | AI97: 57443 | AJ97: 15729.667 | AK97: =IFERROR(SUM(J97:L97)/COUNTIF(J97:L97,">0"),) | AL97: =IFERROR(SUM(M97:O97)/COUNTIF(M97:O97,">0"),) | AM97: =IFERROR(SUM(P97:R97)/COUNTIF(P97:R97,">0"),) | AN97: =IFERROR(SUM(S97:U97)/COUNTIF(S97:U97,">0"),) | AO97: =IFERROR(SUM(V97:X97)/COUNTIF(V97:X97,">0"),) | AP97: =IFERROR(SUM(Y97:AA97)/COUNTIF(Y97:AA97,">0"),) | AQ97: =IFERROR(SUM(AB97:AD97)/COUNTIF(AB97:AD97,">0"),) | AR97: =IFERROR(SUM(AE97:AG97)/COUNTIF(AE97:AG97,">0"),) | AS97: =IFERROR(SUM(AH97:AJ97)/COUNTIF(AH97:AJ97,">0"),)
A98: Tenascin-X OS=Homo sapiens GN=TNXB PE=1 SV=4 | B98: 4.87 | C98: 465235.18 | D98: 1252.161 | E98: P22105 | F98: 12 | G98: 5 | H98: 0 | I98: TENX_HUMAN | J98: 24281 | K98: 26474.667 | L98: 18012.333 | M98: 20114.333 | N98: 17188.333 | O98: 15454.667 | P98: 10924.667 | Q98: 10333 | R98: 10049.667 | S98: 24497.5 | T98: 20628 | U98: 6500 | V98: 12829 | W98: 9611.3333 | X98: 8921.6667 | Y98: 41607.667 | Z98: 31885 | AA98: 8358.3333 | AB98: 11704 | AC98: 2929 | AD98: 7312 | AE98: 11859.5 | AF98: 21763.333 | AG98: 16413 | AH98: 11828 | AI98: 9375.6667 | AJ98: 12744 | AK98: =IFERROR(SUM(J98:L98)/COUNTIF(J98:L98,">0"),) | AL98: =IFERROR(SUM(M98:O98)/COUNTIF(M98:O98,">0"),) | AM98: =IFERROR(SUM(P98:R98)/COUNTIF(P98:R98,">0"),) | AN98: =IFERROR(SUM(S98:U98)/COUNTIF(S98:U98,">0"),) | AO98: =IFERROR(SUM(V98:X98)/COUNTIF(V98:X98,">0"),) | AP98: =IFERROR(SUM(Y98:AA98)/COUNTIF(Y98:AA98,">0"),) | AQ98: =IFERROR(SUM(AB98:AD98)/COUNTIF(AB98:AD98,">0"),) | AR98: =IFERROR(SUM(AE98:AG98)/COUNTIF(AE98:AG98,">0"),) | AS98: =IFERROR(SUM(AH98:AJ98)/COUNTIF(AH98:AJ98,">0"),)
A99: Sulfhydryl oxidase 1 OS=Homo sapiens GN=QSOX1 PE=1 SV=3 | B99: 9.07 | C99: 83376.217 | D99: 1222.685 | E99: O00391 | F99: 6 | G99: 15.93 | H99: 0 | I99: QSOX1_HUMAN | J99: 28778.667 | K99: 27333 | L99: 22166 | M99: 16450.667 | N99: 18309 | O99: 55399 | P99: 25120 | Q99: 23463 | S99: 13090.667 | T99: 14768 | V99: 21543.667 | W99: 17368.5 | Y99: 19220.333 | Z99: 17940 | AA99: 11120 | AB99: 10820 | AD99: 4444.5 | AE99: 18524 | AF99: 16868 | AG99: 28807 | AH99: 32472 | AI99: 5115 | AJ99: 41467.667 | AK99: =IFERROR(SUM(J99:L99)/COUNTIF(J99:L99,">0"),) | AL99: =IFERROR(SUM(M99:O99)/COUNTIF(M99:O99,">0"),) | AM99: =IFERROR(SUM(P99:R99)/COUNTIF(P99:R99,">0"),) | AN99: =IFERROR(SUM(S99:U99)/COUNTIF(S99:U99,">0"),) | AO99: =IFERROR(SUM(V99:X99)/COUNTIF(V99:X99,">0"),) | AP99: =IFERROR(SUM(Y99:AA99)/COUNTIF(Y99:AA99,">0"),) | AQ99: =IFERROR(SUM(AB99:AD99)/COUNTIF(AB99:AD99,">0"),) | AR99: =IFERROR(SUM(AE99:AG99)/COUNTIF(AE99:AG99,">0"),) | AS99: =IFERROR(SUM(AH99:AJ99)/COUNTIF(AH99:AJ99,">0"),)
A100: Intercellular adhesion molecule 1 OS=Homo sapiens GN=ICAM1 PE=1 SV=2 | B100: 7.92 | C100: 58623.66 | D100: 1215.885 | E100: P05362 | F100: 7 | G100: 18.8 | H100: 0 | I100: ICAM1_HUMAN | J100: 12861 | M100: 18000 | N100: 10324 | O100: 9001 | Q100: 12431 | R100: 12125 | T100: 11749 | W100: 8634 | X100: 10655.5 | Y100: 7979 | Z100: 5994.5 | AA100: 9773 | AB100: 11679 | AE100: 9856 | AG100: 12216.5 | AH100: 31374.667 | AI100: 14936.5 | AJ100: 38319.667 | AK100: =IFERROR(SUM(J100:L100)/COUNTIF(J100:L100,">0"),) | AL100: =IFERROR(SUM(M100:O100)/COUNTIF(M100:O100,">0"),) | AM100: =IFERROR(SUM(P100:R100)/COUNTIF(P100:R100,">0"),) | AN100: =IFERROR(SUM(S100:U100)/COUNTIF(S100:U100,">0"),) | AO100: =IFERROR(SUM(V100:X100)/COUNTIF(V100:X100,">0"),) | AP100: =IFERROR(SUM(Y100:AA100)/COUNTIF(Y100:AA100,">0"),) | AQ100: =IFERROR(SUM(AB100:AD100)/COUNTIF(AB100:AD100,">0"),) | AR100: =IFERROR(SUM(AE100:AG100)/COUNTIF(AE100:AG100,">0"),) | AS100: =IFERROR(SUM(AH100:AJ100)/COUNTIF(AH100:AJ100,">0"),)
...

Sheet correlation
J1: Alex Kontrolle 14 | K1: Alex Kontrolle 14 | L1: Alex Kontrolle 14 | M1: Alex Kontrolle 15 | N1: Alex Kontrolle 15 | O1: Alex Kontrolle 15 | P1: Alex Kontrolle 27 | Q1: Alex Kontrolle 27 | R1: Alex Kontrolle 27 | S1: Alex Poly P 7 | T1: Alex Poly P 7 | U1: Alex Poly P 7 | V1: Alex Poly P 8 | W1: Alex Poly P 8 | X1: Alex Poly P 8 | Y1: Alex Poly P 25 | Z1: Alex Poly P 25 | AA1: Alex Poly P 25 | AB1: Alex Karz 33 | AC1: Alex Karz 33 | AD1: Alex Karz 33 | AE1: Alex Karz 39 | AF1: Alex Karz 39 | AG1: Alex Karz 39 | AH1: Alex Karz 40 | AI1: Alex Karz 40 | AJ1: Alex Karz 40
J2: 01 Kontrolle 14 1 | K2: 01 Kontrolle 14 2 | L2: 01 Kontrolle 14 3 | M2: 02 Kontrolle 15 1 | N2: 02 Kontrolle 15 2 | O2: 02 Kontrolle 15 3 | P2: 03 Kontrolle 27 1 | Q2: 03 Kontrolle 27 2 | R2: 03 Kontrolle 27 3 | S2: 04 Polyp 7 1 | T2: 04 Polyp 7 2 | U2: 04 Polyp 7 3 | V2: 05 Polyp 8 1 | W2: 05 Polyp 8 2 | X2: 05 Polyp 8 3 | Y2: 06 Polyp 25 1 | Z2: 06 Polyp 25 2 | AA2: 06 Polyp 25 3 | AB2: 07 Karz 33 1 | AC2: 07 Karz 33 2 | AD2: 07 Karz 33 3 | AE2: 08 Karz 39 1 | AF2: 08 Karz 39 2 | AG2: 08 Karz 39 3 | AH2: 09 Karz 40 1 | AI2: 09 Karz 40 2 | AJ2: 09 Karz 40 3
I3: 01 Kontrolle 14 1 | J3: =CORREL('TOP3 quantification'!J3:J126,'TOP3 quantification'!J3:J126) | K3: =CORREL('TOP3 quantification'!J3:J126,'TOP3 quantification'!K3:K126) | L3: =CORREL('TOP3 quantification'!J3:J126,'TOP3 quantification'!L3:L126) | M3: =CORREL('TOP3 quantification'!J3:J126,'TOP3 quantification'!M3:M126) | N3: =CORREL('TOP3 quantification'!J3:J126,'TOP3 quantification'!N3:N126) | O3: =CORREL('TOP3 quantification'!J3:J126,'TOP3 quantification'!O3:O126) | P3: =CORREL('TOP3 quantification'!J3:J126,'TOP3 quantification'!P3:P126) | Q3: =CORREL('TOP3 quantification'!J3:J126,'TOP3 quantification'!Q3:Q126) | R3: =CORREL('TOP3 quantification'!J3:J126,'TOP3 quantification'!R3:R126) | S3: =CORREL('TOP3 quantification'!J3:J126,'TOP3 quantification'!S3:S126) | T3: =CORREL('TOP3 quantification'!J3:J126,'TOP3 quantification'!T3:T126) | U3: =CORREL('TOP3 quantification'!J3:J126,'TOP3 quantification'!U3:U126) | V3: =CORREL('TOP3 quantification'!J3:J126,'TOP3 quantification'!V3:V126) | W3: =CORREL('TOP3 quantification'!J3:J126,'TOP3 quantification'!W3:W126) | X3: =CORREL('TOP3 quantification'!J3:J126,'TOP3 quantification'!X3:X126) | Y3: =CORREL('TOP3 quantification'!J3:J126,'TOP3 quantification'!Y3:Y126) | Z3: =CORREL('TOP3 quantification'!J3:J126,'TOP3 quantification'!Z3:Z126) | AA3: =CORREL('TOP3 quantification'!J3:J126,'TOP3 quantification'!AA3:AA126) | AB3: =CORREL('TOP3 quantification'!J3:J126,'TOP3 quantification'!AB3:AB126) | AC3: =CORREL('TOP3 quantification'!J3:J126,'TOP3 quantification'!AC3:AC126) | AD3: =CORREL('TOP3 quantification'!J3:J126,'TOP3 quantification'!AD3:AD126) | AE3: =CORREL('TOP3 quantification'!J3:J126,'TOP3 quantification'!AE3:AE126) | AF3: =CORREL('TOP3 quantification'!J3:J126,'TOP3 quantification'!AF3:AF126) | AG3: =CORREL('TOP3 quantification'!J3:J126,'TOP3 quantification'!AG3:AG126) | AH3: =CORREL('TOP3 quantification'!J3:J126,'TOP3 quantification'!AH3:AH126) | AI3: =CORREL('TOP3 quantification'!J3:J126,'TOP3 quantification'!AI3:AI126) | AJ3: =CORREL('TOP3 quantification'!J3:J126,'TOP3 quantification'!AJ3:AJ126)
I4: 01 Kontrolle 14 2 | J4: =CORREL('TOP3 quantification'!K3:K126,'TOP3 quantification'!J3:J126) | K4: =CORREL('TOP3 quantification'!K3:K126,'TOP3 quantification'!K3:K126) | L4: =CORREL('TOP3 quantification'!K3:K126,'TOP3 quantification'!L3:L126) | M4: =CORREL('TOP3 quantification'!K3:K126,'TOP3 quantification'!M3:M126) | N4: =CORREL('TOP3 quantification'!K3:K126,'TOP3 quantification'!N3:N126) | O4: =CORREL('TOP3 quantification'!K3:K126,'TOP3 quantification'!O3:O126) | P4: =CORREL('TOP3 quantification'!K3:K126,'TOP3 quantification'!P3:P126) | Q4: =CORREL('TOP3 quantification'!K3:K126,'TOP3 quantification'!Q3:Q126) | R4: =CORREL('TOP3 quantification'!K3:K126,'TOP3 quantification'!R3:R126) | S4: =CORREL('TOP3 quantification'!K3:K126,'TOP3 quantification'!S3:S126) | T4: =CORREL('TOP3 quantification'!K3:K126,'TOP3 quantification'!T3:T126) | U4: =CORREL('TOP3 quantification'!K3:K126,'TOP3 quantification'!U3:U126) | V4: =CORREL('TOP3 quantification'!K3:K126,'TOP3 quantification'!V3:V126) | W4: =CORREL('TOP3 quantification'!K3:K126,'TOP3 quantification'!W3:W126) | X4: =CORREL('TOP3 quantification'!K3:K126,'TOP3 quantification'!X3:X126) | Y4: =CORREL('TOP3 quantification'!K3:K126,'TOP3 quantification'!Y3:Y126) | Z4: =CORREL('TOP3 quantification'!K3:K126,'TOP3 quantification'!Z3:Z126) | AA4: =CORREL('TOP3 quantification'!K3:K126,'TOP3 quantification'!AA3:AA126) | AB4: =CORREL('TOP3 quantification'!K3:K126,'TOP3 quantification'!AB3:AB126) | AC4: =CORREL('TOP3 quantification'!K3:K126,'TOP3 quantification'!AC3:AC126) | AD4: =CORREL('TOP3 quantification'!K3:K126,'TOP3 quantification'!AD3:AD126) | AE4: =CORREL('TOP3 quantification'!K3:K126,'TOP3 quantification'!AE3:AE126) | AF4: =CORREL('TOP3 quantification'!K3:K126,'TOP3 quantification'!AF3:AF126) | AG4: =CORREL('TOP3 quantification'!K3:K126,'TOP3 quantification'!AG3:AG126) | AH4: =CORREL('TOP3 quantification'!K3:K126,'TOP3 quantification'!AH3:AH126) | AI4: =CORREL('TOP3 quantification'!K3:K126,'TOP3 quantification'!AI3:AI126) | AJ4: =CORREL('TOP3 quantification'!K3:K126,'TOP3 quantification'!AJ3:AJ126)
I5: 01 Kontrolle 14 3 | J5: =CORREL('TOP3 quantification'!L3:L126,'TOP3 quantification'!J3:J126) | K5: =CORREL('TOP3 quantification'!L3:L126,'TOP3 quantification'!K3:K126) | L5: =CORREL('TOP3 quantification'!L3:L126,'TOP3 quantification'!L3:L126) | M5: =CORREL('TOP3 quantification'!L3:L126,'TOP3 quantification'!M3:M126) | N5: =CORREL('TOP3 quantification'!L3:L126,'TOP3 quantification'!N3:N126) | O5: =CORREL('TOP3 quantification'!L3:L126,'TOP3 quantification'!O3:O126) | P5: =CORREL('TOP3 quantification'!L3:L126,'TOP3 quantification'!P3:P126) | Q5: =CORREL('TOP3 quantification'!L3:L126,'TOP3 quantification'!Q3:Q126) | R5: =CORREL('TOP3 quantification'!L3:L126,'TOP3 quantification'!R3:R126) | S5: =CORREL('TOP3 quantification'!L3:L126,'TOP3 quantification'!S3:S126) | T5: =CORREL('TOP3 quantification'!L3:L126,'TOP3 quantification'!T3:T126) | U5: =CORREL('TOP3 quantification'!L3:L126,'TOP3 quantification'!U3:U126) | V5: =CORREL('TOP3 quantification'!L3:L126,'TOP3 quantification'!V3:V126) | W5: =CORREL('TOP3 quantification'!L3:L126,'TOP3 quantification'!W3:W126) | X5: =CORREL('TOP3 quantification'!L3:L126,'TOP3 quantification'!X3:X126) | Y5: =CORREL('TOP3 quantification'!L3:L126,'TOP3 quantification'!Y3:Y126) | Z5: =CORREL('TOP3 quantification'!L3:L126,'TOP3 quantification'!Z3:Z126) | AA5: =CORREL('TOP3 quantification'!L3:L126,'TOP3 quantification'!AA3:AA126) | AB5: =CORREL('TOP3 quantification'!L3:L126,'TOP3 quantification'!AB3:AB126) | AC5: =CORREL('TOP3 quantification'!L3:L126,'TOP3 quantification'!AC3:AC126) | AD5: =CORREL('TOP3 quantification'!L3:L126,'TOP3 quantification'!AD3:AD126) | AE5: =CORREL('TOP3 quantification'!L3:L126,'TOP3 quantification'!AE3:AE126) | AF5: =CORREL('TOP3 quantification'!L3:L126,'TOP3 quantification'!AF3:AF126) | AG5: =CORREL('TOP3 quantification'!L3:L126,'TOP3 quantification'!AG3:AG126) | AH5: =CORREL('TOP3 quantification'!L3:L126,'TOP3 quantification'!AH3:AH126) | AI5: =CORREL('TOP3 quantification'!L3:L126,'TOP3 quantification'!AI3:AI126) | AJ5: =CORREL('TOP3 quantification'!L3:L126,'TOP3 quantification'!AJ3:AJ126)
I6: 02 Kontrolle 15 1 | J6: =CORREL('TOP3 quantification'!M3:M126,'TOP3 quantification'!J3:J126) | K6: =CORREL('TOP3 quantification'!M3:M126,'TOP3 quantification'!K3:K126) | L6: =CORREL('TOP3 quantification'!M3:M126,'TOP3 quantification'!L3:L126) | M6: =CORREL('TOP3 quantification'!M3:M126,'TOP3 quantification'!M3:M126) | N6: =CORREL('TOP3 quantification'!M3:M126,'TOP3 quantification'!N3:N126) | O6: =CORREL('TOP3 quantification'!M3:M126,'TOP3 quantification'!O3:O126) | P6: =CORREL('TOP3 quantification'!M3:M126,'TOP3 quantification'!P3:P126) | Q6: =CORREL('TOP3 quantification'!M3:M126,'TOP3 quantification'!Q3:Q126) | R6: =CORREL('TOP3 quantification'!M3:M126,'TOP3 quantification'!R3:R126) | S6: =CORREL('TOP3 quantification'!M3:M126,'TOP3 quantification'!S3:S126) | T6: =CORREL('TOP3 quantification'!M3:M126,'TOP3 quantification'!T3:T126) | U6: =CORREL('TOP3 quantification'!M3:M126,'TOP3 quantification'!U3:U126) | V6: =CORREL('TOP3 quantification'!M3:M126,'TOP3 quantification'!V3:V126) | W6: =CORREL('TOP3 quantification'!M3:M126,'TOP3 quantification'!W3:W126) | X6: =CORREL('TOP3 quantification'!M3:M126,'TOP3 quantification'!X3:X126) | Y6: =CORREL('TOP3 quantification'!M3:M126,'TOP3 quantification'!Y3:Y126) | Z6: =CORREL('TOP3 quantification'!M3:M126,'TOP3 quantification'!Z3:Z126) | AA6: =CORREL('TOP3 quantification'!M3:M126,'TOP3 quantification'!AA3:AA126) | AB6: =CORREL('TOP3 quantification'!M3:M126,'TOP3 quantification'!AB3:AB126) | AC6: =CORREL('TOP3 quantification'!M3:M126,'TOP3 quantification'!AC3:AC126) | AD6: =CORREL('TOP3 quantification'!M3:M126,'TOP3 quantification'!AD3:AD126) | AE6: =CORREL('TOP3 quantification'!M3:M126,'TOP3 quantification'!AE3:AE126) | AF6: =CORREL('TOP3 quantification'!M3:M126,'TOP3 quantification'!AF3:AF126) | AG6: =CORREL('TOP3 quantification'!M3:M126,'TOP3 quantification'!AG3:AG126) | AH6: =CORREL('TOP3 quantification'!M3:M126,'TOP3 quantification'!AH3:AH126) | AI6: =CORREL('TOP3 quantification'!M3:M126,'TOP3 quantification'!AI3:AI126) | AJ6: =CORREL('TOP3 quantification'!M3:M126,'TOP3 quantification'!AJ3:AJ126)
I7: 02 Kontrolle 15 2 | J7: =CORREL('TOP3 quantification'!N3:N126,'TOP3 quantification'!J3:J126) | K7: =CORREL('TOP3 quantification'!N3:N126,'TOP3 quantification'!K3:K126) | L7: =CORREL('TOP3 quantification'!N3:N126,'TOP3 quantification'!L3:L126) | M7: =CORREL('TOP3 quantification'!N3:N126,'TOP3 quantification'!M3:M126) | N7: =CORREL('TOP3 quantification'!N3:N126,'TOP3 quantification'!N3:N126) | O7: =CORREL('TOP3 quantification'!N3:N126,'TOP3 quantification'!O3:O126) | P7: =CORREL('TOP3 quantification'!N3:N126,'TOP3 quantification'!P3:P126) | Q7: =CORREL('TOP3 quantification'!N3:N126,'TOP3 quantification'!Q3:Q126) | R7: =CORREL('TOP3 quantification'!N3:N126,'TOP3 quantification'!R3:R126) | S7: =CORREL('TOP3 quantification'!N3:N126,'TOP3 quantification'!S3:S126) | T7: =CORREL('TOP3 quantification'!N3:N126,'TOP3 quantification'!T3:T126) | U7: =CORREL('TOP3 quantification'!N3:N126,'TOP3 quantification'!U3:U126) | V7: =CORREL('TOP3 quantification'!N3:N126,'TOP3 quantification'!V3:V126) | W7: =CORREL('TOP3 quantification'!N3:N126,'TOP3 quantification'!W3:W126) | X7: =CORREL('TOP3 quantification'!N3:N126,'TOP3 quantification'!X3:X126) | Y7: =CORREL('TOP3 quantification'!N3:N126,'TOP3 quantification'!Y3:Y126) | Z7: =CORREL('TOP3 quantification'!N3:N126,'TOP3 quantification'!Z3:Z126) | AA7: =CORREL('TOP3 quantification'!N3:N126,'TOP3 quantification'!AA3:AA126) | AB7: =CORREL('TOP3 quantification'!N3:N126,'TOP3 quantification'!AB3:AB126) | AC7: =CORREL('TOP3 quantification'!N3:N126,'TOP3 quantification'!AC3:AC126) | AD7: =CORREL('TOP3 quantification'!N3:N126,'TOP3 quantification'!AD3:AD126) | AE7: =CORREL('TOP3 quantification'!N3:N126,'TOP3 quantification'!AE3:AE126) | AF7: =CORREL('TOP3 quantification'!N3:N126,'TOP3 quantification'!AF3:AF126) | AG7: =CORREL('TOP3 quantification'!N3:N126,'TOP3 quantification'!AG3:AG126) | AH7: =CORREL('TOP3 quantification'!N3:N126,'TOP3 quantification'!AH3:AH126) | AI7: =CORREL('TOP3 quantification'!N3:N126,'TOP3 quantification'!AI3:AI126) | AJ7: =CORREL('TOP3 quantification'!N3:N126,'TOP3 quantification'!AJ3:AJ126)
I8: 02 Kontrolle 15 3 | J8: =CORREL('TOP3 quantification'!O3:O126,'TOP3 quantification'!J3:J126) | K8: =CORREL('TOP3 quantification'!O3:O126,'TOP3 quantification'!K3:K126) | L8: =CORREL('TOP3 quantification'!O3:O126,'TOP3 quantification'!L3:L126) | M8: =CORREL('TOP3 quantification'!O3:O126,'TOP3 quantification'!M3:M126) | N8: =CORREL('TOP3 quantification'!O3:O126,'TOP3 quantification'!N3:N126) | O8: =CORREL('TOP3 quantification'!O3:O126,'TOP3 quantification'!O3:O126) | P8: =CORREL('TOP3 quantification'!O3:O126,'TOP3 quantification'!P3:P126) | Q8: =CORREL('TOP3 quantification'!O3:O126,'TOP3 quantification'!Q3:Q126) | R8: =CORREL('TOP3 quantification'!O3:O126,'TOP3 quantification'!R3:R126) | S8: =CORREL('TOP3 quantification'!O3:O126,'TOP3 quantification'!S3:S126) | T8: =CORREL('TOP3 quantification'!O3:O126,'TOP3 quantification'!T3:T126) | U8: =CORREL('TOP3 quantification'!O3:O126,'TOP3 quantification'!U3:U126) | V8: =CORREL('TOP3 quantification'!O3:O126,'TOP3 quantification'!V3:V126) | W8: =CORREL('TOP3 quantification'!O3:O126,'TOP3 quantification'!W3:W126) | X8: =CORREL('TOP3 quantification'!O3:O126,'TOP3 quantification'!X3:X126) | Y8: =CORREL('TOP3 quantification'!O3:O126,'TOP3 quantification'!Y3:Y126) | Z8: =CORREL('TOP3 quantification'!O3:O126,'TOP3 quantification'!Z3:Z126) | AA8: =CORREL('TOP3 quantification'!O3:O126,'TOP3 quantification'!AA3:AA126) | AB8: =CORREL('TOP3 quantification'!O3:O126,'TOP3 quantification'!AB3:AB126) | AC8: =CORREL('TOP3 quantification'!O3:O126,'TOP3 quantification'!AC3:AC126) | AD8: =CORREL('TOP3 quantification'!O3:O126,'TOP3 quantification'!AD3:AD126) | AE8: =CORREL('TOP3 quantification'!O3:O126,'TOP3 quantification'!AE3:AE126) | AF8: =CORREL('TOP3 quantification'!O3:O126,'TOP3 quantification'!AF3:AF126) | AG8: =CORREL('TOP3 quantification'!O3:O126,'TOP3 quantification'!AG3:AG126) | AH8: =CORREL('TOP3 quantification'!O3:O126,'TOP3 quantification'!AH3:AH126) | AI8: =CORREL('TOP3 quantification'!O3:O126,'TOP3 quantification'!AI3:AI126) | AJ8: =CORREL('TOP3 quantification'!O3:O126,'TOP3 quantification'!AJ3:AJ126)
I9: 03 Kontrolle 27 1 | J9: =CORREL('TOP3 quantification'!P3:P126,'TOP3 quantification'!J3:J126) | K9: =CORREL('TOP3 quantification'!P3:P126,'TOP3 quantification'!K3:K126) | L9: =CORREL('TOP3 quantification'!P3:P126,'TOP3 quantification'!L3:L126) | M9: =CORREL('TOP3 quantification'!P3:P126,'TOP3 quantification'!M3:M126) | N9: =CORREL('TOP3 quantification'!P3:P126,'TOP3 quantification'!N3:N126) | O9: =CORREL('TOP3 quantification'!P3:P126,'TOP3 quantification'!O3:O126) | P9: =CORREL('TOP3 quantification'!P3:P126,'TOP3 quantification'!P3:P126) | Q9: =CORREL('TOP3 quantification'!P3:P126,'TOP3 quantification'!Q3:Q126) | R9: =CORREL('TOP3 quantification'!P3:P126,'TOP3 quantification'!R3:R126) | S9: =CORREL('TOP3 quantification'!P3:P126,'TOP3 quantification'!S3:S126) | T9: =CORREL('TOP3 quantification'!P3:P126,'TOP3 quantification'!T3:T126) | U9: =CORREL('TOP3 quantification'!P3:P126,'TOP3 quantification'!U3:U126) | V9: =CORREL('TOP3 quantification'!P3:P126,'TOP3 quantification'!V3:V126) | W9: =CORREL('TOP3 quantification'!P3:P126,'TOP3 quantification'!W3:W126) | X9: =CORREL('TOP3 quantification'!P3:P126,'TOP3 quantification'!X3:X126) | Y9: =CORREL('TOP3 quantification'!P3:P126,'TOP3 quantification'!Y3:Y126) | Z9: =CORREL('TOP3 quantification'!P3:P126,'TOP3 quantification'!Z3:Z126) | AA9: =CORREL('TOP3 quantification'!P3:P126,'TOP3 quantification'!AA3:AA126) | AB9: =CORREL('TOP3 quantification'!P3:P126,'TOP3 quantification'!AB3:AB126) | AC9: =CORREL('TOP3 quantification'!P3:P126,'TOP3 quantification'!AC3:AC126) | AD9: =CORREL('TOP3 quantification'!P3:P126,'TOP3 quantification'!AD3:AD126) | AE9: =CORREL('TOP3 quantification'!P3:P126,'TOP3 quantification'!AE3:AE126) | AF9: =CORREL('TOP3 quantification'!P3:P126,'TOP3 quantification'!AF3:AF126) | AG9: =CORREL('TOP3 quantification'!P3:P126,'TOP3 quantification'!AG3:AG126) | AH9: =CORREL('TOP3 quantification'!P3:P126,'TOP3 quantification'!AH3:AH126) | AI9: =CORREL('TOP3 quantification'!P3:P126,'TOP3 quantification'!AI3:AI126) | AJ9: =CORREL('TOP3 quantification'!P3:P126,'TOP3 quantification'!AJ3:AJ126)
I10: 03 Kontrolle 27 2 | J10: =CORREL('TOP3 quantification'!Q3:Q126,'TOP3 quantification'!J3:J126) | K10: =CORREL('TOP3 quantification'!Q3:Q126,'TOP3 quantification'!K3:K126) | L10: =CORREL('TOP3 quantification'!Q3:Q126,'TOP3 quantification'!L3:L126) | M10: =CORREL('TOP3 quantification'!Q3:Q126,'TOP3 quantification'!M3:M126) | N10: =CORREL('TOP3 quantification'!Q3:Q126,'TOP3 quantification'!N3:N126) | O10: =CORREL('TOP3 quantification'!Q3:Q126,'TOP3 quantification'!O3:O126) | P10: =CORREL('TOP3 quantification'!Q3:Q126,'TOP3 quantification'!P3:P126) | Q10: =CORREL('TOP3 quantification'!Q3:Q126,'TOP3 quantification'!Q3:Q126) | R10: =CORREL('TOP3 quantification'!Q3:Q126,'TOP3 quantification'!R3:R126) | S10: =CORREL('TOP3 quantification'!Q3:Q126,'TOP3 quantification'!S3:S126) | T10: =CORREL('TOP3 quantification'!Q3:Q126,'TOP3 quantification'!T3:T126) | U10: =CORREL('TOP3 quantification'!Q3:Q126,'TOP3 quantification'!U3:U126) | V10: =CORREL('TOP3 quantification'!Q3:Q126,'TOP3 quantification'!V3:V126) | W10: =CORREL('TOP3 quantification'!Q3:Q126,'TOP3 quantification'!W3:W126) | X10: =CORREL('TOP3 quantification'!Q3:Q126,'TOP3 quantification'!X3:X126) | Y10: =CORREL('TOP3 quantification'!Q3:Q126,'TOP3 quantification'!Y3:Y126) | Z10: =CORREL('TOP3 quantification'!Q3:Q126,'TOP3 quantification'!Z3:Z126) | AA10: =CORREL('TOP3 quantification'!Q3:Q126,'TOP3 quantification'!AA3:AA126) | AB10: =CORREL('TOP3 quantification'!Q3:Q126,'TOP3 quantification'!AB3:AB126) | AC10: =CORREL('TOP3 quantification'!Q3:Q126,'TOP3 quantification'!AC3:AC126) | AD10: =CORREL('TOP3 quantification'!Q3:Q126,'TOP3 quantification'!AD3:AD126) | AE10: =CORREL('TOP3 quantification'!Q3:Q126,'TOP3 quantification'!AE3:AE126) | AF10: =CORREL('TOP3 quantification'!Q3:Q126,'TOP3 quantification'!AF3:AF126) | AG10: =CORREL('TOP3 quantification'!Q3:Q126,'TOP3 quantification'!AG3:AG126) | AH10: =CORREL('TOP3 quantification'!Q3:Q126,'TOP3 quantification'!AH3:AH126) | AI10: =CORREL('TOP3 quantification'!Q3:Q126,'TOP3 quantification'!AI3:AI126) | AJ10: =CORREL('TOP3 quantification'!Q3:Q126,'TOP3 quantification'!AJ3:AJ126)
I11: 03 Kontrolle 27 3 | J11: =CORREL('TOP3 quantification'!R3:R126,'TOP3 quantification'!J3:J126) | K11: =CORREL('TOP3 quantification'!R3:R126,'TOP3 quantification'!K3:K126) | L11: =CORREL('TOP3 quantification'!R3:R126,'TOP3 quantification'!L3:L126) | M11: =CORREL('TOP3 quantification'!R3:R126,'TOP3 quantification'!M3:M126) | N11: =CORREL('TOP3 quantification'!R3:R126,'TOP3 quantification'!N3:N126) | O11: =CORREL('TOP3 quantification'!R3:R126,'TOP3 quantification'!O3:O126) | P11: =CORREL('TOP3 quantification'!R3:R126,'TOP3 quantification'!P3:P126) | Q11: =CORREL('TOP3 quantification'!R3:R126,'TOP3 quantification'!Q3:Q126) | R11: =CORREL('TOP3 quantification'!R3:R126,'TOP3 quantification'!R3:R126) | S11: =CORREL('TOP3 quantification'!R3:R126,'TOP3 quantification'!S3:S126) | T11: =CORREL('TOP3 quantification'!R3:R126,'TOP3 quantification'!T3:T126) | U11: =CORREL('TOP3 quantification'!R3:R126,'TOP3 quantification'!U3:U126) | V11: =CORREL('TOP3 quantification'!R3:R126,'TOP3 quantification'!V3:V126) | W11: =CORREL('TOP3 quantification'!R3:R126,'TOP3 quantification'!W3:W126) | X11: =CORREL('TOP3 quantification'!R3:R126,'TOP3 quantification'!X3:X126) | Y11: =CORREL('TOP3 quantification'!R3:R126,'TOP3 quantification'!Y3:Y126) | Z11: =CORREL('TOP3 quantification'!R3:R126,'TOP3 quantification'!Z3:Z126) | AA11: =CORREL('TOP3 quantification'!R3:R126,'TOP3 quantification'!AA3:AA126) | AB11: =CORREL('TOP3 quantification'!R3:R126,'TOP3 quantification'!AB3:AB126) | AC11: =CORREL('TOP3 quantification'!R3:R126,'TOP3 quantification'!AC3:AC126) | AD11: =CORREL('TOP3 quantification'!R3:R126,'TOP3 quantification'!AD3:AD126) | AE11: =CORREL('TOP3 quantification'!R3:R126,'TOP3 quantification'!AE3:AE126) | AF11: =CORREL('TOP3 quantification'!R3:R126,'TOP3 quantification'!AF3:AF126) | AG11: =CORREL('TOP3 quantification'!R3:R126,'TOP3 quantification'!AG3:AG126) | AH11: =CORREL('TOP3 quantification'!R3:R126,'TOP3 quantification'!AH3:AH126) | AI11: =CORREL('TOP3 quantification'!R3:R126,'TOP3 quantification'!AI3:AI126) | AJ11: =CORREL('TOP3 quantification'!R3:R126,'TOP3 quantification'!AJ3:AJ126)
I12: 04 Polyp 7 1 | J12: =CORREL('TOP3 quantification'!S3:S126,'TOP3 quantification'!J3:J126) | K12: =CORREL('TOP3 quantification'!S3:S126,'TOP3 quantification'!K3:K126) | L12: =CORREL('TOP3 quantification'!S3:S126,'TOP3 quantification'!L3:L126) | M12: =CORREL('TOP3 quantification'!S3:S126,'TOP3 quantification'!M3:M126) | N12: =CORREL('TOP3 quantification'!S3:S126,'TOP3 quantification'!N3:N126) | O12: =CORREL('TOP3 quantification'!S3:S126,'TOP3 quantification'!O3:O126) | P12: =CORREL('TOP3 quantification'!S3:S126,'TOP3 quantification'!P3:P126) | Q12: =CORREL('TOP3 quantification'!S3:S126,'TOP3 quantification'!Q3:Q126) | R12: =CORREL('TOP3 quantification'!S3:S126,'TOP3 quantification'!R3:R126) | S12: =CORREL('TOP3 quantification'!S3:S126,'TOP3 quantification'!S3:S126) | T12: =CORREL('TOP3 quantification'!S3:S126,'TOP3 quantification'!T3:T126) | U12: =CORREL('TOP3 quantification'!S3:S126,'TOP3 quantification'!U3:U126) | V12: =CORREL('TOP3 quantification'!S3:S126,'TOP3 quantification'!V3:V126) | W12: =CORREL('TOP3 quantification'!S3:S126,'TOP3 quantification'!W3:W126) | X12: =CORREL('TOP3 quantification'!S3:S126,'TOP3 quantification'!X3:X126) | Y12: =CORREL('TOP3 quantification'!S3:S126,'TOP3 quantification'!Y3:Y126) | Z12: =CORREL('TOP3 quantification'!S3:S126,'TOP3 quantification'!Z3:Z126) | AA12: =CORREL('TOP3 quantification'!S3:S126,'TOP3 quantification'!AA3:AA126) | AB12: =CORREL('TOP3 quantification'!S3:S126,'TOP3 quantification'!AB3:AB126) | AC12: =CORREL('TOP3 quantification'!S3:S126,'TOP3 quantification'!AC3:AC126) | AD12: =CORREL('TOP3 quantification'!S3:S126,'TOP3 quantification'!AD3:AD126) | AE12: =CORREL('TOP3 quantification'!S3:S126,'TOP3 quantification'!AE3:AE126) | AF12: =CORREL('TOP3 quantification'!S3:S126,'TOP3 quantification'!AF3:AF126) | AG12: =CORREL('TOP3 quantification'!S3:S126,'TOP3 quantification'!AG3:AG126) | AH12: =CORREL('TOP3 quantification'!S3:S126,'TOP3 quantification'!AH3:AH126) | AI12: =CORREL('TOP3 quantification'!S3:S126,'TOP3 quantification'!AI3:AI126) | AJ12: =CORREL('TOP3 quantification'!S3:S126,'TOP3 quantification'!AJ3:AJ126)
I13: 04 Polyp 7 2 | J13: =CORREL('TOP3 quantification'!T3:T126,'TOP3 quantification'!J3:J126) | K13: =CORREL('TOP3 quantification'!T3:T126,'TOP3 quantification'!K3:K126) | L13: =CORREL('TOP3 quantification'!T3:T126,'TOP3 quantification'!L3:L126) | M13: =CORREL('TOP3 quantification'!T3:T126,'TOP3 quantification'!M3:M126) | N13: =CORREL('TOP3 quantification'!T3:T126,'TOP3 quantification'!N3:N126) | O13: =CORREL('TOP3 quantification'!T3:T126,'TOP3 quantification'!O3:O126) | P13: =CORREL('TOP3 quantification'!T3:T126,'TOP3 quantification'!P3:P126) | Q13: =CORREL('TOP3 quantification'!T3:T126,'TOP3 quantification'!Q3:Q126) | R13: =CORREL('TOP3 quantification'!T3:T126,'TOP3 quantification'!R3:R126) | S13: =CORREL('TOP3 quantification'!T3:T126,'TOP3 quantification'!S3:S126) | T13: =CORREL('TOP3 quantification'!T3:T126,'TOP3 quantification'!T3:T126) | U13: =CORREL('TOP3 quantification'!T3:T126,'TOP3 quantification'!U3:U126) | V13: =CORREL('TOP3 quantification'!T3:T126,'TOP3 quantification'!V3:V126) | W13: =CORREL('TOP3 quantification'!T3:T126,'TOP3 quantification'!W3:W126) | X13: =CORREL('TOP3 quantification'!T3:T126,'TOP3 quantification'!X3:X126) | Y13: =CORREL('TOP3 quantification'!T3:T126,'TOP3 quantification'!Y3:Y126) | Z13: =CORREL('TOP3 quantification'!T3:T126,'TOP3 quantification'!Z3:Z126) | AA13: =CORREL('TOP3 quantification'!T3:T126,'TOP3 quantification'!AA3:AA126) | AB13: =CORREL('TOP3 quantification'!T3:T126,'TOP3 quantification'!AB3:AB126) | AC13: =CORREL('TOP3 quantification'!T3:T126,'TOP3 quantification'!AC3:AC126) | AD13: =CORREL('TOP3 quantification'!T3:T126,'TOP3 quantification'!AD3:AD126) | AE13: =CORREL('TOP3 quantification'!T3:T126,'TOP3 quantification'!AE3:AE126) | AF13: =CORREL('TOP3 quantification'!T3:T126,'TOP3 quantification'!AF3:AF126) | AG13: =CORREL('TOP3 quantification'!T3:T126,'TOP3 quantification'!AG3:AG126) | AH13: =CORREL('TOP3 quantification'!T3:T126,'TOP3 quantification'!AH3:AH126) | AI13: =CORREL('TOP3 quantification'!T3:T126,'TOP3 quantification'!AI3:AI126) | AJ13: =CORREL('TOP3 quantification'!T3:T126,'TOP3 quantification'!AJ3:AJ126)
I14: 04 Polyp 7 3 | J14: =CORREL('TOP3 quantification'!U3:U126,'TOP3 quantification'!J3:J126) | K14: =CORREL('TOP3 quantification'!U3:U126,'TOP3 quantification'!K3:K126) | L14: =CORREL('TOP3 quantification'!U3:U126,'TOP3 quantification'!L3:L126) | M14: =CORREL('TOP3 quantification'!U3:U126,'TOP3 quantification'!M3:M126) | N14: =CORREL('TOP3 quantification'!U3:U126,'TOP3 quantification'!N3:N126) | O14: =CORREL('TOP3 quantification'!U3:U126,'TOP3 quantification'!O3:O126) | P14: =CORREL('TOP3 quantification'!U3:U126,'TOP3 quantification'!P3:P126) | Q14: =CORREL('TOP3 quantification'!U3:U126,'TOP3 quantification'!Q3:Q126) | R14: =CORREL('TOP3 quantification'!U3:U126,'TOP3 quantification'!R3:R126) | S14: =CORREL('TOP3 quantification'!U3:U126,'TOP3 quantification'!S3:S126) | T14: =CORREL('TOP3 quantification'!U3:U126,'TOP3 quantification'!T3:T126) | U14: =CORREL('TOP3 quantification'!U3:U126,'TOP3 quantification'!U3:U126) | V14: =CORREL('TOP3 quantification'!U3:U126,'TOP3 quantification'!V3:V126) | W14: =CORREL('TOP3 quantification'!U3:U126,'TOP3 quantification'!W3:W126) | X14: =CORREL('TOP3 quantification'!U3:U126,'TOP3 quantification'!X3:X126) | Y14: =CORREL('TOP3 quantification'!U3:U126,'TOP3 quantification'!Y3:Y126) | Z14: =CORREL('TOP3 quantification'!U3:U126,'TOP3 quantification'!Z3:Z126) | AA14: =CORREL('TOP3 quantification'!U3:U126,'TOP3 quantification'!AA3:AA126) | AB14: =CORREL('TOP3 quantification'!U3:U126,'TOP3 quantification'!AB3:AB126) | AC14: =CORREL('TOP3 quantification'!U3:U126,'TOP3 quantification'!AC3:AC126) | AD14: =CORREL('TOP3 quantification'!U3:U126,'TOP3 quantification'!AD3:AD126) | AE14: =CORREL('TOP3 quantification'!U3:U126,'TOP3 quantification'!AE3:AE126) | AF14: =CORREL('TOP3 quantification'!U3:U126,'TOP3 quantification'!AF3:AF126) | AG14: =CORREL('TOP3 quantification'!U3:U126,'TOP3 quantification'!AG3:AG126) | AH14: =CORREL('TOP3 quantification'!U3:U126,'TOP3 quantification'!AH3:AH126) | AI14: =CORREL('TOP3 quantification'!U3:U126,'TOP3 quantification'!AI3:AI126) | AJ14: =CORREL('TOP3 quantification'!U3:U126,'TOP3 quantification'!AJ3:AJ126)
I15: 05 Polyp 8 1 | J15: =CORREL('TOP3 quantification'!V3:V126,'TOP3 quantification'!J3:J126) | K15: =CORREL('TOP3 quantification'!V3:V126,'TOP3 quantification'!K3:K126) | L15: =CORREL('TOP3 quantification'!V3:V126,'TOP3 quantification'!L3:L126) | M15: =CORREL('TOP3 quantification'!V3:V126,'TOP3 quantification'!M3:M126) | N15: =CORREL('TOP3 quantification'!V3:V126,'TOP3 quantification'!N3:N126) | O15: =CORREL('TOP3 quantification'!V3:V126,'TOP3 quantification'!O3:O126) | P15: =CORREL('TOP3 quantification'!V3:V126,'TOP3 quantification'!P3:P126) | Q15: =CORREL('TOP3 quantification'!V3:V126,'TOP3 quantification'!Q3:Q126) | R15: =CORREL('TOP3 quantification'!V3:V126,'TOP3 quantification'!R3:R126) | S15: =CORREL('TOP3 quantification'!V3:V126,'TOP3 quantification'!S3:S126) | T15: =CORREL('TOP3 quantification'!V3:V126,'TOP3 quantification'!T3:T126) | U15: =CORREL('TOP3 quantification'!V3:V126,'TOP3 quantification'!U3:U126) | V15: =CORREL('TOP3 quantification'!V3:V126,'TOP3 quantification'!V3:V126) | W15: =CORREL('TOP3 quantification'!V3:V126,'TOP3 quantification'!W3:W126) | X15: =CORREL('TOP3 quantification'!V3:V126,'TOP3 quantification'!X3:X126) | Y15: =CORREL('TOP3 quantification'!V3:V126,'TOP3 quantification'!Y3:Y126) | Z15: =CORREL('TOP3 quantification'!V3:V126,'TOP3 quantification'!Z3:Z126) | AA15: =CORREL('TOP3 quantification'!V3:V126,'TOP3 quantification'!AA3:AA126) | AB15: =CORREL('TOP3 quantification'!V3:V126,'TOP3 quantification'!AB3:AB126) | AC15: =CORREL('TOP3 quantification'!V3:V126,'TOP3 quantification'!AC3:AC126) | AD15: =CORREL('TOP3 quantification'!V3:V126,'TOP3 quantification'!AD3:AD126) | AE15: =CORREL('TOP3 quantification'!V3:V126,'TOP3 quantification'!AE3:AE126) | AF15: =CORREL('TOP3 quantification'!V3:V126,'TOP3 quantification'!AF3:AF126) | AG15: =CORREL('TOP3 quantification'!V3:V126,'TOP3 quantification'!AG3:AG126) | AH15: =CORREL('TOP3 quantification'!V3:V126,'TOP3 quantification'!AH3:AH126) | AI15: =CORREL('TOP3 quantification'!V3:V126,'TOP3 quantification'!AI3:AI126) | AJ15: =CORREL('TOP3 quantification'!V3:V126,'TOP3 quantification'!AJ3:AJ126)
I16: 05 Polyp 8 2 | J16: =CORREL('TOP3 quantification'!W3:W126,'TOP3 quantification'!J3:J126) | K16: =CORREL('TOP3 quantification'!W3:W126,'TOP3 quantification'!K3:K126) | L16: =CORREL('TOP3 quantification'!W3:W126,'TOP3 quantification'!L3:L126) | M16: =CORREL('TOP3 quantification'!W3:W126,'TOP3 quantification'!M3:M126) | N16: =CORREL('TOP3 quantification'!W3:W126,'TOP3 quantification'!N3:N126) | O16: =CORREL('TOP3 quantification'!W3:W126,'TOP3 quantification'!O3:O126) | P16: =CORREL('TOP3 quantification'!W3:W126,'TOP3 quantification'!P3:P126) | Q16: =CORREL('TOP3 quantification'!W3:W126,'TOP3 quantification'!Q3:Q126) | R16: =CORREL('TOP3 quantification'!W3:W126,'TOP3 quantification'!R3:R126) | S16: =CORREL('TOP3 quantification'!W3:W126,'TOP3 quantification'!S3:S126) | T16: =CORREL('TOP3 quantification'!W3:W126,'TOP3 quantification'!T3:T126) | U16: =CORREL('TOP3 quantification'!W3:W126,'TOP3 quantification'!U3:U126) | V16: =CORREL('TOP3 quantification'!W3:W126,'TOP3 quantification'!V3:V126) | W16: =CORREL('TOP3 quantification'!W3:W126,'TOP3 quantification'!W3:W126) | X16: =CORREL('TOP3 quantification'!W3:W126,'TOP3 quantification'!X3:X126) | Y16: =CORREL('TOP3 quantification'!W3:W126,'TOP3 quantification'!Y3:Y126) | Z16: =CORREL('TOP3 quantification'!W3:W126,'TOP3 quantification'!Z3:Z126) | AA16: =CORREL('TOP3 quantification'!W3:W126,'TOP3 quantification'!AA3:AA126) | AB16: =CORREL('TOP3 quantification'!W3:W126,'TOP3 quantification'!AB3:AB126) | AC16: =CORREL('TOP3 quantification'!W3:W126,'TOP3 quantification'!AC3:AC126) | AD16: =CORREL('TOP3 quantification'!W3:W126,'TOP3 quantification'!AD3:AD126) | AE16: =CORREL('TOP3 quantification'!W3:W126,'TOP3 quantification'!AE3:AE126) | AF16: =CORREL('TOP3 quantification'!W3:W126,'TOP3 quantification'!AF3:AF126) | AG16: =CORREL('TOP3 quantification'!W3:W126,'TOP3 quantification'!AG3:AG126) | AH16: =CORREL('TOP3 quantification'!W3:W126,'TOP3 quantification'!AH3:AH126) | AI16: =CORREL('TOP3 quantification'!W3:W126,'TOP3 quantification'!AI3:AI126) | AJ16: =CORREL('TOP3 quantification'!W3:W126,'TOP3 quantification'!AJ3:AJ126)
I17: 05 Polyp 8 3 | J17: =CORREL('TOP3 quantification'!X3:X126,'TOP3 quantification'!J3:J126) | K17: =CORREL('TOP3 quantification'!X3:X126,'TOP3 quantification'!K3:K126) | L17: =CORREL('TOP3 quantification'!X3:X126,'TOP3 quantification'!L3:L126) | M17: =CORREL('TOP3 quantification'!X3:X126,'TOP3 quantification'!M3:M126) | N17: =CORREL('TOP3 quantification'!X3:X126,'TOP3 quantification'!N3:N126) | O17: =CORREL('TOP3 quantification'!X3:X126,'TOP3 quantification'!O3:O126) | P17: =CORREL('TOP3 quantification'!X3:X126,'TOP3 quantification'!P3:P126) | Q17: =CORREL('TOP3 quantification'!X3:X126,'TOP3 quantification'!Q3:Q126) | R17: =CORREL('TOP3 quantification'!X3:X126,'TOP3 quantification'!R3:R126) | S17: =CORREL('TOP3 quantification'!X3:X126,'TOP3 quantification'!S3:S126) | T17: =CORREL('TOP3 quantification'!X3:X126,'TOP3 quantification'!T3:T126) | U17: =CORREL('TOP3 quantification'!X3:X126,'TOP3 quantification'!U3:U126) | V17: =CORREL('TOP3 quantification'!X3:X126,'TOP3 quantification'!V3:V126) | W17: =CORREL('TOP3 quantification'!X3:X126,'TOP3 quantification'!W3:W126) | X17: =CORREL('TOP3 quantification'!X3:X126,'TOP3 quantification'!X3:X126) | Y17: =CORREL('TOP3 quantification'!X3:X126,'TOP3 quantification'!Y3:Y126) | Z17: =CORREL('TOP3 quantification'!X3:X126,'TOP3 quantification'!Z3:Z126) | AA17: =CORREL('TOP3 quantification'!X3:X126,'TOP3 quantification'!AA3:AA126) | AB17: =CORREL('TOP3 quantification'!X3:X126,'TOP3 quantification'!AB3:AB126) | AC17: =CORREL('TOP3 quantification'!X3:X126,'TOP3 quantification'!AC3:AC126) | AD17: =CORREL('TOP3 quantification'!X3:X126,'TOP3 quantification'!AD3:AD126) | AE17: =CORREL('TOP3 quantification'!X3:X126,'TOP3 quantification'!AE3:AE126) | AF17: =CORREL('TOP3 quantification'!X3:X126,'TOP3 quantification'!AF3:AF126) | AG17: =CORREL('TOP3 quantification'!X3:X126,'TOP3 quantification'!AG3:AG126) | AH17: =CORREL('TOP3 quantification'!X3:X126,'TOP3 quantification'!AH3:AH126) | AI17: =CORREL('TOP3 quantification'!X3:X126,'TOP3 quantification'!AI3:AI126) | AJ17: =CORREL('TOP3 quantification'!X3:X126,'TOP3 quantification'!AJ3:AJ126)
I18: 06 Polyp 25 1 | J18: =CORREL('TOP3 quantification'!Y3:Y126,'TOP3 quantification'!J3:J126) | K18: =CORREL('TOP3 quantification'!Y3:Y126,'TOP3 quantification'!K3:K126) | L18: =CORREL('TOP3 quantification'!Y3:Y126,'TOP3 quantification'!L3:L126) | M18: =CORREL('TOP3 quantification'!Y3:Y126,'TOP3 quantification'!M3:M126) | N18: =CORREL('TOP3 quantification'!Y3:Y126,'TOP3 quantification'!N3:N126) | O18: =CORREL('TOP3 quantification'!Y3:Y126,'TOP3 quantification'!O3:O126) | P18: =CORREL('TOP3 quantification'!Y3:Y126,'TOP3 quantification'!P3:P126) | Q18: =CORREL('TOP3 quantification'!Y3:Y126,'TOP3 quantification'!Q3:Q126) | R18: =CORREL('TOP3 quantification'!Y3:Y126,'TOP3 quantification'!R3:R126) | S18: =CORREL('TOP3 quantification'!Y3:Y126,'TOP3 quantification'!S3:S126) | T18: =CORREL('TOP3 quantification'!Y3:Y126,'TOP3 quantification'!T3:T126) | U18: =CORREL('TOP3 quantification'!Y3:Y126,'TOP3 quantification'!U3:U126) | V18: =CORREL('TOP3 quantification'!Y3:Y126,'TOP3 quantification'!V3:V126) | W18: =CORREL('TOP3 quantification'!Y3:Y126,'TOP3 quantification'!W3:W126) | X18: =CORREL('TOP3 quantification'!Y3:Y126,'TOP3 quantification'!X3:X126) | Y18: =CORREL('TOP3 quantification'!Y3:Y126,'TOP3 quantification'!Y3:Y126) | Z18: =CORREL('TOP3 quantification'!Y3:Y126,'TOP3 quantification'!Z3:Z126) | AA18: =CORREL('TOP3 quantification'!Y3:Y126,'TOP3 quantification'!AA3:AA126) | AB18: =CORREL('TOP3 quantification'!Y3:Y126,'TOP3 quantification'!AB3:AB126) | AC18: =CORREL('TOP3 quantification'!Y3:Y126,'TOP3 quantification'!AC3:AC126) | AD18: =CORREL('TOP3 quantification'!Y3:Y126,'TOP3 quantification'!AD3:AD126) | AE18: =CORREL('TOP3 quantification'!Y3:Y126,'TOP3 quantification'!AE3:AE126) | AF18: =CORREL('TOP3 quantification'!Y3:Y126,'TOP3 quantification'!AF3:AF126) | AG18: =CORREL('TOP3 quantification'!Y3:Y126,'TOP3 quantification'!AG3:AG126) | AH18: =CORREL('TOP3 quantification'!Y3:Y126,'TOP3 quantification'!AH3:AH126) | AI18: =CORREL('TOP3 quantification'!Y3:Y126,'TOP3 quantification'!AI3:AI126) | AJ18: =CORREL('TOP3 quantification'!Y3:Y126,'TOP3 quantification'!AJ3:AJ126)
I19: 06 Polyp 25 2 | J19: =CORREL('TOP3 quantification'!Z3:Z126,'TOP3 quantification'!J3:J126) | K19: =CORREL('TOP3 quantification'!Z3:Z126,'TOP3 quantification'!K3:K126) | L19: =CORREL('TOP3 quantification'!Z3:Z126,'TOP3 quantification'!L3:L126) | M19: =CORREL('TOP3 quantification'!Z3:Z126,'TOP3 quantification'!M3:M126) | N19: =CORREL('TOP3 quantification'!Z3:Z126,'TOP3 quantification'!N3:N126) | O19: =CORREL('TOP3 quantification'!Z3:Z126,'TOP3 quantification'!O3:O126) | P19: =CORREL('TOP3 quantification'!Z3:Z126,'TOP3 quantification'!P3:P126) | Q19: =CORREL('TOP3 quantification'!Z3:Z126,'TOP3 quantification'!Q3:Q126) | R19: =CORREL('TOP3 quantification'!Z3:Z126,'TOP3 quantification'!R3:R126) | S19: =CORREL('TOP3 quantification'!Z3:Z126,'TOP3 quantification'!S3:S126) | T19: =CORREL('TOP3 quantification'!Z3:Z126,'TOP3 quantification'!T3:T126) | U19: =CORREL('TOP3 quantification'!Z3:Z126,'TOP3 quantification'!U3:U126) | V19: =CORREL('TOP3 quantification'!Z3:Z126,'TOP3 quantification'!V3:V126) | W19: =CORREL('TOP3 quantification'!Z3:Z126,'TOP3 quantification'!W3:W126) | X19: =CORREL('TOP3 quantification'!Z3:Z126,'TOP3 quantification'!X3:X126) | Y19: =CORREL('TOP3 quantification'!Z3:Z126,'TOP3 quantification'!Y3:Y126) | Z19: =CORREL('TOP3 quantification'!Z3:Z126,'TOP3 quantification'!Z3:Z126) | AA19: =CORREL('TOP3 quantification'!Z3:Z126,'TOP3 quantification'!AA3:AA126) | AB19: =CORREL('TOP3 quantification'!Z3:Z126,'TOP3 quantification'!AB3:AB126) | AC19: =CORREL('TOP3 quantification'!Z3:Z126,'TOP3 quantification'!AC3:AC126) | AD19: =CORREL('TOP3 quantification'!Z3:Z126,'TOP3 quantification'!AD3:AD126) | AE19: =CORREL('TOP3 quantification'!Z3:Z126,'TOP3 quantification'!AE3:AE126) | AF19: =CORREL('TOP3 quantification'!Z3:Z126,'TOP3 quantification'!AF3:AF126) | AG19: =CORREL('TOP3 quantification'!Z3:Z126,'TOP3 quantification'!AG3:AG126) | AH19: =CORREL('TOP3 quantification'!Z3:Z126,'TOP3 quantification'!AH3:AH126) | AI19: =CORREL('TOP3 quantification'!Z3:Z126,'TOP3 quantification'!AI3:AI126) | AJ19: =CORREL('TOP3 quantification'!Z3:Z126,'TOP3 quantification'!AJ3:AJ126)
I20: 06 Polyp 25 3 | J20: =CORREL('TOP3 quantification'!AA3:AA126,'TOP3 quantification'!J3:J126) | K20: =CORREL('TOP3 quantification'!AA3:AA126,'TOP3 quantification'!K3:K126) | L20: =CORREL('TOP3 quantification'!AA3:AA126,'TOP3 quantification'!L3:L126) | M20: =CORREL('TOP3 quantification'!AA3:AA126,'TOP3 quantification'!M3:M126) | N20: =CORREL('TOP3 quantification'!AA3:AA126,'TOP3 quantification'!N3:N126) | O20: =CORREL('TOP3 quantification'!AA3:AA126,'TOP3 quantification'!O3:O126) | P20: =CORREL('TOP3 quantification'!AA3:AA126,'TOP3 quantification'!P3:P126) | Q20: =CORREL('TOP3 quantification'!AA3:AA126,'TOP3 quantification'!Q3:Q126) | R20: =CORREL('TOP3 quantification'!AA3:AA126,'TOP3 quantification'!R3:R126) | S20: =CORREL('TOP3 quantification'!AA3:AA126,'TOP3 quantification'!S3:S126) | T20: =CORREL('TOP3 quantification'!AA3:AA126,'TOP3 quantification'!T3:T126) | U20: =CORREL('TOP3 quantification'!AA3:AA126,'TOP3 quantification'!U3:U126) | V20: =CORREL('TOP3 quantification'!AA3:AA126,'TOP3 quantification'!V3:V126) | W20: =CORREL('TOP3 quantification'!AA3:AA126,'TOP3 quantification'!W3:W126) | X20: =CORREL('TOP3 quantification'!AA3:AA126,'TOP3 quantification'!X3:X126) | Y20: =CORREL('TOP3 quantification'!AA3:AA126,'TOP3 quantification'!Y3:Y126) | Z20: =CORREL('TOP3 quantification'!AA3:AA126,'TOP3 quantification'!Z3:Z126) | AA20: =CORREL('TOP3 quantification'!AA3:AA126,'TOP3 quantification'!AA3:AA126) | AB20: =CORREL('TOP3 quantification'!AA3:AA126,'TOP3 quantification'!AB3:AB126) | AC20: =CORREL('TOP3 quantification'!AA3:AA126,'TOP3 quantification'!AC3:AC126) | AD20: =CORREL('TOP3 quantification'!AA3:AA126,'TOP3 quantification'!AD3:AD126) | AE20: =CORREL('TOP3 quantification'!AA3:AA126,'TOP3 quantification'!AE3:AE126) | AF20: =CORREL('TOP3 quantification'!AA3:AA126,'TOP3 quantification'!AF3:AF126) | AG20: =CORREL('TOP3 quantification'!AA3:AA126,'TOP3 quantification'!AG3:AG126) | AH20: =CORREL('TOP3 quantification'!AA3:AA126,'TOP3 quantification'!AH3:AH126) | AI20: =CORREL('TOP3 quantification'!AA3:AA126,'TOP3 quantification'!AI3:AI126) | AJ20: =CORREL('TOP3 quantification'!AA3:AA126,'TOP3 quantification'!AJ3:AJ126)
I21: 07 Karz 33 1 | J21: =CORREL('TOP3 quantification'!AB3:AB126,'TOP3 quantification'!J3:J126) | K21: =CORREL('TOP3 quantification'!AB3:AB126,'TOP3 quantification'!K3:K126) | L21: =CORREL('TOP3 quantification'!AB3:AB126,'TOP3 quantification'!L3:L126) | M21: =CORREL('TOP3 quantification'!AB3:AB126,'TOP3 quantification'!M3:M126) | N21: =CORREL('TOP3 quantification'!AB3:AB126,'TOP3 quantification'!N3:N126) | O21: =CORREL('TOP3 quantification'!AB3:AB126,'TOP3 quantification'!O3:O126) | P21: =CORREL('TOP3 quantification'!AB3:AB126,'TOP3 quantification'!P3:P126) | Q21: =CORREL('TOP3 quantification'!AB3:AB126,'TOP3 quantification'!Q3:Q126) | R21: =CORREL('TOP3 quantification'!AB3:AB126,'TOP3 quantification'!R3:R126) | S21: =CORREL('TOP3 quantification'!AB3:AB126,'TOP3 quantification'!S3:S126) | T21: =CORREL('TOP3 quantification'!AB3:AB126,'TOP3 quantification'!T3:T126) | U21: =CORREL('TOP3 quantification'!AB3:AB126,'TOP3 quantification'!U3:U126) | V21: =CORREL('TOP3 quantification'!AB3:AB126,'TOP3 quantification'!V3:V126) | W21: =CORREL('TOP3 quantification'!AB3:AB126,'TOP3 quantification'!W3:W126) | X21: =CORREL('TOP3 quantification'!AB3:AB126,'TOP3 quantification'!X3:X126) | Y21: =CORREL('TOP3 quantification'!AB3:AB126,'TOP3 quantification'!Y3:Y126) | Z21: =CORREL('TOP3 quantification'!AB3:AB126,'TOP3 quantification'!Z3:Z126) | AA21: =CORREL('TOP3 quantification'!AB3:AB126,'TOP3 quantification'!AA3:AA126) | AB21: =CORREL('TOP3 quantification'!AB3:AB126,'TOP3 quantification'!AB3:AB126) | AC21: =CORREL('TOP3 quantification'!AB3:AB126,'TOP3 quantification'!AC3:AC126) | AD21: =CORREL('TOP3 quantification'!AB3:AB126,'TOP3 quantification'!AD3:AD126) | AE21: =CORREL('TOP3 quantification'!AB3:AB126,'TOP3 quantification'!AE3:AE126) | AF21: =CORREL('TOP3 quantification'!AB3:AB126,'TOP3 quantification'!AF3:AF126) | AG21: =CORREL('TOP3 quantification'!AB3:AB126,'TOP3 quantification'!AG3:AG126) | AH21: =CORREL('TOP3 quantification'!AB3:AB126,'TOP3 quantification'!AH3:AH126) | AI21: =CORREL('TOP3 quantification'!AB3:AB126,'TOP3 quantification'!AI3:AI126) | AJ21: =CORREL('TOP3 quantification'!AB3:AB126,'TOP3 quantification'!AJ3:AJ126)
I22: 07 Karz 33 2 | J22: =CORREL('TOP3 quantification'!AC3:AC126,'TOP3 quantification'!J3:J126) | K22: =CORREL('TOP3 quantification'!AC3:AC126,'TOP3 quantification'!K3:K126) | L22: =CORREL('TOP3 quantification'!AC3:AC126,'TOP3 quantification'!L3:L126) | M22: =CORREL('TOP3 quantification'!AC3:AC126,'TOP3 quantification'!M3:M126) | N22: =CORREL('TOP3 quantification'!AC3:AC126,'TOP3 quantification'!N3:N126) | O22: =CORREL('TOP3 quantification'!AC3:AC126,'TOP3 quantification'!O3:O126) | P22: =CORREL('TOP3 quantification'!AC3:AC126,'TOP3 quantification'!P3:P126) | Q22: =CORREL('TOP3 quantification'!AC3:AC126,'TOP3 quantification'!Q3:Q126) | R22: =CORREL('TOP3 quantification'!AC3:AC126,'TOP3 quantification'!R3:R126) | S22: =CORREL('TOP3 quantification'!AC3:AC126,'TOP3 quantification'!S3:S126) | T22: =CORREL('TOP3 quantification'!AC3:AC126,'TOP3 quantification'!T3:T126) | U22: =CORREL('TOP3 quantification'!AC3:AC126,'TOP3 quantification'!U3:U126) | V22: =CORREL('TOP3 quantification'!AC3:AC126,'TOP3 quantification'!V3:V126) | W22: =CORREL('TOP3 quantification'!AC3:AC126,'TOP3 quantification'!W3:W126) | X22: =CORREL('TOP3 quantification'!AC3:AC126,'TOP3 quantification'!X3:X126) | Y22: =CORREL('TOP3 quantification'!AC3:AC126,'TOP3 quantification'!Y3:Y126) | Z22: =CORREL('TOP3 quantification'!AC3:AC126,'TOP3 quantification'!Z3:Z126) | AA22: =CORREL('TOP3 quantification'!AC3:AC126,'TOP3 quantification'!AA3:AA126) | AB22: =CORREL('TOP3 quantification'!AC3:AC126,'TOP3 quantification'!AB3:AB126) | AC22: =CORREL('TOP3 quantification'!AC3:AC126,'TOP3 quantification'!AC3:AC126) | AD22: =CORREL('TOP3 quantification'!AC3:AC126,'TOP3 quantification'!AD3:AD126) | AE22: =CORREL('TOP3 quantification'!AC3:AC126,'TOP3 quantification'!AE3:AE126) | AF22: =CORREL('TOP3 quantification'!AC3:AC126,'TOP3 quantification'!AF3:AF126) | AG22: =CORREL('TOP3 quantification'!AC3:AC126,'TOP3 quantification'!AG3:AG126) | AH22: =CORREL('TOP3 quantification'!AC3:AC126,'TOP3 quantification'!AH3:AH126) | AI22: =CORREL('TOP3 quantification'!AC3:AC126,'TOP3 quantification'!AI3:AI126) | AJ22: =CORREL('TOP3 quantification'!AC3:AC126,'TOP3 quantification'!AJ3:AJ126)
I23: 07 Karz 33 3 | J23: =CORREL('TOP3 quantification'!AD3:AD126,'TOP3 quantification'!J3:J126) | K23: =CORREL('TOP3 quantification'!AD3:AD126,'TOP3 quantification'!K3:K126) | L23: =CORREL('TOP3 quantification'!AD3:AD126,'TOP3 quantification'!L3:L126) | M23: =CORREL('TOP3 quantification'!AD3:AD126,'TOP3 quantification'!M3:M126) | N23: =CORREL('TOP3 quantification'!AD3:AD126,'TOP3 quantification'!N3:N126) | O23: =CORREL('TOP3 quantification'!AD3:AD126,'TOP3 quantification'!O3:O126) | P23: =CORREL('TOP3 quantification'!AD3:AD126,'TOP3 quantification'!P3:P126) | Q23: =CORREL('TOP3 quantification'!AD3:AD126,'TOP3 quantification'!Q3:Q126) | R23: =CORREL('TOP3 quantification'!AD3:AD126,'TOP3 quantification'!R3:R126) | S23: =CORREL('TOP3 quantification'!AD3:AD126,'TOP3 quantification'!S3:S126) | T23: =CORREL('TOP3 quantification'!AD3:AD126,'TOP3 quantification'!T3:T126) | U23: =CORREL('TOP3 quantification'!AD3:AD126,'TOP3 quantification'!U3:U126) | V23: =CORREL('TOP3 quantification'!AD3:AD126,'TOP3 quantification'!V3:V126) | W23: =CORREL('TOP3 quantification'!AD3:AD126,'TOP3 quantification'!W3:W126) | X23: =CORREL('TOP3 quantification'!AD3:AD126,'TOP3 quantification'!X3:X126) | Y23: =CORREL('TOP3 quantification'!AD3:AD126,'TOP3 quantification'!Y3:Y126) | Z23: =CORREL('TOP3 quantification'!AD3:AD126,'TOP3 quantification'!Z3:Z126) | AA23: =CORREL('TOP3 quantification'!AD3:AD126,'TOP3 quantification'!AA3:AA126) | AB23: =CORREL('TOP3 quantification'!AD3:AD126,'TOP3 quantification'!AB3:AB126) | AC23: =CORREL('TOP3 quantification'!AD3:AD126,'TOP3 quantification'!AC3:AC126) | AD23: =CORREL('TOP3 quantification'!AD3:AD126,'TOP3 quantification'!AD3:AD126) | AE23: =CORREL('TOP3 quantification'!AD3:AD126,'TOP3 quantification'!AE3:AE126) | AF23: =CORREL('TOP3 quantification'!AD3:AD126,'TOP3 quantification'!AF3:AF126) | AG23: =CORREL('TOP3 quantification'!AD3:AD126,'TOP3 quantification'!AG3:AG126) | AH23: =CORREL('TOP3 quantification'!AD3:AD126,'TOP3 quantification'!AH3:AH126) | AI23: =CORREL('TOP3 quantification'!AD3:AD126,'TOP3 quantification'!AI3:AI126) | AJ23: =CORREL('TOP3 quantification'!AD3:AD126,'TOP3 quantification'!AJ3:AJ126)
I24: 08 Karz 39 1 | J24: =CORREL('TOP3 quantification'!AE3:AE126,'TOP3 quantification'!J3:J126) | K24: =CORREL('TOP3 quantification'!AE3:AE126,'TOP3 quantification'!K3:K126) | L24: =CORREL('TOP3 quantification'!AE3:AE126,'TOP3 quantification'!L3:L126) | M24: =CORREL('TOP3 quantification'!AE3:AE126,'TOP3 quantification'!M3:M126) | N24: =CORREL('TOP3 quantification'!AE3:AE126,'TOP3 quantification'!N3:N126) | O24: =CORREL('TOP3 quantification'!AE3:AE126,'TOP3 quantification'!O3:O126) | P24: =CORREL('TOP3 quantification'!AE3:AE126,'TOP3 quantification'!P3:P126) | Q24: =CORREL('TOP3 quantification'!AE3:AE126,'TOP3 quantification'!Q3:Q126) | R24: =CORREL('TOP3 quantification'!AE3:AE126,'TOP3 quantification'!R3:R126) | S24: =CORREL('TOP3 quantification'!AE3:AE126,'TOP3 quantification'!S3:S126) | T24: =CORREL('TOP3 quantification'!AE3:AE126,'TOP3 quantification'!T3:T126) | U24: =CORREL('TOP3 quantification'!AE3:AE126,'TOP3 quantification'!U3:U126) | V24: =CORREL('TOP3 quantification'!AE3:AE126,'TOP3 quantification'!V3:V126) | W24: =CORREL('TOP3 quantification'!AE3:AE126,'TOP3 quantification'!W3:W126) | X24: =CORREL('TOP3 quantification'!AE3:AE126,'TOP3 quantification'!X3:X126) | Y24: =CORREL('TOP3 quantification'!AE3:AE126,'TOP3 quantification'!Y3:Y126) | Z24: =CORREL('TOP3 quantification'!AE3:AE126,'TOP3 quantification'!Z3:Z126) | AA24: =CORREL('TOP3 quantification'!AE3:AE126,'TOP3 quantification'!AA3:AA126) | AB24: =CORREL('TOP3 quantification'!AE3:AE126,'TOP3 quantification'!AB3:AB126) | AC24: =CORREL('TOP3 quantification'!AE3:AE126,'TOP3 quantification'!AC3:AC126) | AD24: =CORREL('TOP3 quantification'!AE3:AE126,'TOP3 quantification'!AD3:AD126) | AE24: =CORREL('TOP3 quantification'!AE3:AE126,'TOP3 quantification'!AE3:AE126) | AF24: =CORREL('TOP3 quantification'!AE3:AE126,'TOP3 quantification'!AF3:AF126) | AG24: =CORREL('TOP3 quantification'!AE3:AE126,'TOP3 quantification'!AG3:AG126) | AH24: =CORREL('TOP3 quantification'!AE3:AE126,'TOP3 quantification'!AH3:AH126) | AI24: =CORREL('TOP3 quantification'!AE3:AE126,'TOP3 quantification'!AI3:AI126) | AJ24: =CORREL('TOP3 quantification'!AE3:AE126,'TOP3 quantification'!AJ3:AJ126)
I25: 08 Karz 39 2 | J25: =CORREL('TOP3 quantification'!AF3:AF126,'TOP3 quantification'!J3:J126) | K25: =CORREL('TOP3 quantification'!AF3:AF126,'TOP3 quantification'!K3:K126) | L25: =CORREL('TOP3 quantification'!AF3:AF126,'TOP3 quantification'!L3:L126) | M25: =CORREL('TOP3 quantification'!AF3:AF126,'TOP3 quantification'!M3:M126) | N25: =CORREL('TOP3 quantification'!AF3:AF126,'TOP3 quantification'!N3:N126) | O25: =CORREL('TOP3 quantification'!AF3:AF126,'TOP3 quantification'!O3:O126) | P25: =CORREL('TOP3 quantification'!AF3:AF126,'TOP3 quantification'!P3:P126) | Q25: =CORREL('TOP3 quantification'!AF3:AF126,'TOP3 quantification'!Q3:Q126) | R25: =CORREL('TOP3 quantification'!AF3:AF126,'TOP3 quantification'!R3:R126) | S25: =CORREL('TOP3 quantification'!AF3:AF126,'TOP3 quantification'!S3:S126) | T25: =CORREL('TOP3 quantification'!AF3:AF126,'TOP3 quantification'!T3:T126) | U25: =CORREL('TOP3 quantification'!AF3:AF126,'TOP3 quantification'!U3:U126) | V25: =CORREL('TOP3 quantification'!AF3:AF126,'TOP3 quantification'!V3:V126) | W25: =CORREL('TOP3 quantification'!AF3:AF126,'TOP3 quantification'!W3:W126) | X25: =CORREL('TOP3 quantification'!AF3:AF126,'TOP3 quantification'!X3:X126) | Y25: =CORREL('TOP3 quantification'!AF3:AF126,'TOP3 quantification'!Y3:Y126) | Z25: =CORREL('TOP3 quantification'!AF3:AF126,'TOP3 quantification'!Z3:Z126) | AA25: =CORREL('TOP3 quantification'!AF3:AF126,'TOP3 quantification'!AA3:AA126) | AB25: =CORREL('TOP3 quantification'!AF3:AF126,'TOP3 quantification'!AB3:AB126) | AC25: =CORREL('TOP3 quantification'!AF3:AF126,'TOP3 quantification'!AC3:AC126) | AD25: =CORREL('TOP3 quantification'!AF3:AF126,'TOP3 quantification'!AD3:AD126) | AE25: =CORREL('TOP3 quantification'!AF3:AF126,'TOP3 quantification'!AE3:AE126) | AF25: =CORREL('TOP3 quantification'!AF3:AF126,'TOP3 quantification'!AF3:AF126) | AG25: =CORREL('TOP3 quantification'!AF3:AF126,'TOP3 quantification'!AG3:AG126) | AH25: =CORREL('TOP3 quantification'!AF3:AF126,'TOP3 quantification'!AH3:AH126) | AI25: =CORREL('TOP3 quantification'!AF3:AF126,'TOP3 quantification'!AI3:AI126) | AJ25: =CORREL('TOP3 quantification'!AF3:AF126,'TOP3 quantification'!AJ3:AJ126)
I26: 08 Karz 39 3 | J26: =CORREL('TOP3 quantification'!AG3:AG126,'TOP3 quantification'!J3:J126) | K26: =CORREL('TOP3 quantification'!AG3:AG126,'TOP3 quantification'!K3:K126) | L26: =CORREL('TOP3 quantification'!AG3:AG126,'TOP3 quantification'!L3:L126) | M26: =CORREL('TOP3 quantification'!AG3:AG126,'TOP3 quantification'!M3:M126) | N26: =CORREL('TOP3 quantification'!AG3:AG126,'TOP3 quantification'!N3:N126) | O26: =CORREL('TOP3 quantification'!AG3:AG126,'TOP3 quantification'!O3:O126) | P26: =CORREL('TOP3 quantification'!AG3:AG126,'TOP3 quantification'!P3:P126) | Q26: =CORREL('TOP3 quantification'!AG3:AG126,'TOP3 quantification'!Q3:Q126) | R26: =CORREL('TOP3 quantification'!AG3:AG126,'TOP3 quantification'!R3:R126) | S26: =CORREL('TOP3 quantification'!AG3:AG126,'TOP3 quantification'!S3:S126) | T26: =CORREL('TOP3 quantification'!AG3:AG126,'TOP3 quantification'!T3:T126) | U26: =CORREL('TOP3 quantification'!AG3:AG126,'TOP3 quantification'!U3:U126) | V26: =CORREL('TOP3 quantification'!AG3:AG126,'TOP3 quantification'!V3:V126) | W26: =CORREL('TOP3 quantification'!AG3:AG126,'TOP3 quantification'!W3:W126) | X26: =CORREL('TOP3 quantification'!AG3:AG126,'TOP3 quantification'!X3:X126) | Y26: =CORREL('TOP3 quantification'!AG3:AG126,'TOP3 quantification'!Y3:Y126) | Z26: =CORREL('TOP3 quantification'!AG3:AG126,'TOP3 quantification'!Z3:Z126) | AA26: =CORREL('TOP3 quantification'!AG3:AG126,'TOP3 quantification'!AA3:AA126) | AB26: =CORREL('TOP3 quantification'!AG3:AG126,'TOP3 quantification'!AB3:AB126) | AC26: =CORREL('TOP3 quantification'!AG3:AG126,'TOP3 quantification'!AC3:AC126) | AD26: =CORREL('TOP3 quantification'!AG3:AG126,'TOP3 quantification'!AD3:AD126) | AE26: =CORREL('TOP3 quantification'!AG3:AG126,'TOP3 quantification'!AE3:AE126) | AF26: =CORREL('TOP3 quantification'!AG3:AG126,'TOP3 quantification'!AF3:AF126) | AG26: =CORREL('TOP3 quantification'!AG3:AG126,'TOP3 quantification'!AG3:AG126) | AH26: =CORREL('TOP3 quantification'!AG3:AG126,'TOP3 quantification'!AH3:AH126) | AI26: =CORREL('TOP3 quantification'!AG3:AG126,'TOP3 quantification'!AI3:AI126) | AJ26: =CORREL('TOP3 quantification'!AG3:AG126,'TOP3 quantification'!AJ3:AJ126)
I27: 09 Karz 40 1 | J27: =CORREL('TOP3 quantification'!AH3:AH126,'TOP3 quantification'!J3:J126) | K27: =CORREL('TOP3 quantification'!AH3:AH126,'TOP3 quantification'!K3:K126) | L27: =CORREL('TOP3 quantification'!AH3:AH126,'TOP3 quantification'!L3:L126) | M27: =CORREL('TOP3 quantification'!AH3:AH126,'TOP3 quantification'!M3:M126) | N27: =CORREL('TOP3 quantification'!AH3:AH126,'TOP3 quantification'!N3:N126) | O27: =CORREL('TOP3 quantification'!AH3:AH126,'TOP3 quantification'!O3:O126) | P27: =CORREL('TOP3 quantification'!AH3:AH126,'TOP3 quantification'!P3:P126) | Q27: =CORREL('TOP3 quantification'!AH3:AH126,'TOP3 quantification'!Q3:Q126) | R27: =CORREL('TOP3 quantification'!AH3:AH126,'TOP3 quantification'!R3:R126) | S27: =CORREL('TOP3 quantification'!AH3:AH126,'TOP3 quantification'!S3:S126) | T27: =CORREL('TOP3 quantification'!AH3:AH126,'TOP3 quantification'!T3:T126) | U27: =CORREL('TOP3 quantification'!AH3:AH126,'TOP3 quantification'!U3:U126) | V27: =CORREL('TOP3 quantification'!AH3:AH126,'TOP3 quantification'!V3:V126) | W27: =CORREL('TOP3 quantification'!AH3:AH126,'TOP3 quantification'!W3:W126) | X27: =CORREL('TOP3 quantification'!AH3:AH126,'TOP3 quantification'!X3:X126) | Y27: =CORREL('TOP3 quantification'!AH3:AH126,'TOP3 quantification'!Y3:Y126) | Z27: =CORREL('TOP3 quantification'!AH3:AH126,'TOP3 quantification'!Z3:Z126) | AA27: =CORREL('TOP3 quantification'!AH3:AH126,'TOP3 quantification'!AA3:AA126) | AB27: =CORREL('TOP3 quantification'!AH3:AH126,'TOP3 quantification'!AB3:AB126) | AC27: =CORREL('TOP3 quantification'!AH3:AH126,'TOP3 quantification'!AC3:AC126) | AD27: =CORREL('TOP3 quantification'!AH3:AH126,'TOP3 quantification'!AD3:AD126) | AE27: =CORREL('TOP3 quantification'!AH3:AH126,'TOP3 quantification'!AE3:AE126) | AF27: =CORREL('TOP3 quantification'!AH3:AH126,'TOP3 quantification'!AF3:AF126) | AG27: =CORREL('TOP3 quantification'!AH3:AH126,'TOP3 quantification'!AG3:AG126) | AH27: =CORREL('TOP3 quantification'!AH3:AH126,'TOP3 quantification'!AH3:AH126) | AI27: =CORREL('TOP3 quantification'!AH3:AH126,'TOP3 quantification'!AI3:AI126) | AJ27: =CORREL('TOP3 quantification'!AH3:AH126,'TOP3 quantification'!AJ3:AJ126)
I28: 09 Karz 40 2 | J28: =CORREL('TOP3 quantification'!AI3:AI126,'TOP3 quantification'!J3:J126) | K28: =CORREL('TOP3 quantification'!AI3:AI126,'TOP3 quantification'!K3:K126) | L28: =CORREL('TOP3 quantification'!AI3:AI126,'TOP3 quantification'!L3:L126) | M28: =CORREL('TOP3 quantification'!AI3:AI126,'TOP3 quantification'!M3:M126) | N28: =CORREL('TOP3 quantification'!AI3:AI126,'TOP3 quantification'!N3:N126) | O28: =CORREL('TOP3 quantification'!AI3:AI126,'TOP3 quantification'!O3:O126) | P28: =CORREL('TOP3 quantification'!AI3:AI126,'TOP3 quantification'!P3:P126) | Q28: =CORREL('TOP3 quantification'!AI3:AI126,'TOP3 quantification'!Q3:Q126) | R28: =CORREL('TOP3 quantification'!AI3:AI126,'TOP3 quantification'!R3:R126) | S28: =CORREL('TOP3 quantification'!AI3:AI126,'TOP3 quantification'!S3:S126) | T28: =CORREL('TOP3 quantification'!AI3:AI126,'TOP3 quantification'!T3:T126) | U28: =CORREL('TOP3 quantification'!AI3:AI126,'TOP3 quantification'!U3:U126) | V28: =CORREL('TOP3 quantification'!AI3:AI126,'TOP3 quantification'!V3:V126) | W28: =CORREL('TOP3 quantification'!AI3:AI126,'TOP3 quantification'!W3:W126) | X28: =CORREL('TOP3 quantification'!AI3:AI126,'TOP3 quantification'!X3:X126) | Y28: =CORREL('TOP3 quantification'!AI3:AI126,'TOP3 quantification'!Y3:Y126) | Z28: =CORREL('TOP3 quantification'!AI3:AI126,'TOP3 quantification'!Z3:Z126) | AA28: =CORREL('TOP3 quantification'!AI3:AI126,'TOP3 quantification'!AA3:AA126) | AB28: =CORREL('TOP3 quantification'!AI3:AI126,'TOP3 quantification'!AB3:AB126) | AC28: =CORREL('TOP3 quantification'!AI3:AI126,'TOP3 quantification'!AC3:AC126) | AD28: =CORREL('TOP3 quantification'!AI3:AI126,'TOP3 quantification'!AD3:AD126) | AE28: =CORREL('TOP3 quantification'!AI3:AI126,'TOP3 quantification'!AE3:AE126) | AF28: =CORREL('TOP3 quantification'!AI3:AI126,'TOP3 quantification'!AF3:AF126) | AG28: =CORREL('TOP3 quantification'!AI3:AI126,'TOP3 quantification'!AG3:AG126) | AH28: =CORREL('TOP3 quantification'!AI3:AI126,'TOP3 quantification'!AH3:AH126) | AI28: =CORREL('TOP3 quantification'!AI3:AI126,'TOP3 quantification'!AI3:AI126) | AJ28: =CORREL('TOP3 quantification'!AI3:AI126,'TOP3 quantification'!AJ3:AJ126)
I29: 09 Karz 40 3 | J29: =CORREL('TOP3 quantification'!AJ3:AJ126,'TOP3 quantification'!J3:J126) | K29: =CORREL('TOP3 quantification'!AJ3:AJ126,'TOP3 quantification'!K3:K126) | L29: =CORREL('TOP3 quantification'!AJ3:AJ126,'TOP3 quantification'!L3:L126) | M29: =CORREL('TOP3 quantification'!AJ3:AJ126,'TOP3 quantification'!M3:M126) | N29: =CORREL('TOP3 quantification'!AJ3:AJ126,'TOP3 quantification'!N3:N126) | O29: =CORREL('TOP3 quantification'!AJ3:AJ126,'TOP3 quantification'!O3:O126) | P29: =CORREL('TOP3 quantification'!AJ3:AJ126,'TOP3 quantification'!P3:P126) | Q29: =CORREL('TOP3 quantification'!AJ3:AJ126,'TOP3 quantification'!Q3:Q126) | R29: =CORREL('TOP3 quantification'!AJ3:AJ126,'TOP3 quantification'!R3:R126) | S29: =CORREL('TOP3 quantification'!AJ3:AJ126,'TOP3 quantification'!S3:S126) | T29: =CORREL('TOP3 quantification'!AJ3:AJ126,'TOP3 quantification'!T3:T126) | U29: =CORREL('TOP3 quantification'!AJ3:AJ126,'TOP3 quantification'!U3:U126) | V29: =CORREL('TOP3 quantification'!AJ3:AJ126,'TOP3 quantification'!V3:V126) | W29: =CORREL('TOP3 quantification'!AJ3:AJ126,'TOP3 quantification'!W3:W126) | X29: =CORREL('TOP3 quantification'!AJ3:AJ126,'TOP3 quantification'!X3:X126) | Y29: =CORREL('TOP3 quantification'!AJ3:AJ126,'TOP3 quantification'!Y3:Y126) | Z29: =CORREL('TOP3 quantification'!AJ3:AJ126,'TOP3 quantification'!Z3:Z126) | AA29: =CORREL('TOP3 quantification'!AJ3:AJ126,'TOP3 quantification'!AA3:AA126) | AB29: =CORREL('TOP3 quantification'!AJ3:AJ126,'TOP3 quantification'!AB3:AB126) | AC29: =CORREL('TOP3 quantification'!AJ3:AJ126,'TOP3 quantification'!AC3:AC126) | AD29: =CORREL('TOP3 quantification'!AJ3:AJ126,'TOP3 quantification'!AD3:AD126) | AE29: =CORREL('TOP3 quantification'!AJ3:AJ126,'TOP3 quantification'!AE3:AE126) | AF29: =CORREL('TOP3 quantification'!AJ3:AJ126,'TOP3 quantification'!AF3:AF126) | AG29: =CORREL('TOP3 quantification'!AJ3:AJ126,'TOP3 quantification'!AG3:AG126) | AH29: =CORREL('TOP3 quantification'!AJ3:AJ126,'TOP3 quantification'!AH3:AH126) | AI29: =CORREL('TOP3 quantification'!AJ3:AJ126,'TOP3 quantification'!AI3:AI126) | AJ29: =CORREL('TOP3 quantification'!AJ3:AJ126,'TOP3 quantification'!AJ3:AJ126)

Sheet sum of inten for peptide types
A1: peptide type | B1: 01 Kontrolle 14 1 | C1: 01 Kontrolle 14 2 | D1: 01 Kontrolle 14 3 | E1: 02 Kontrolle 15 1 | F1: 02 Kontrolle 15 2 | G1: 02 Kontrolle 15 3 | H1: 03 Kontrolle 27 1 | I1: 03 Kontrolle 27 2 | J1: 03 Kontrolle 27 3 | K1: 04 Polyp 7 1 | L1: 04 Polyp 7 2 | M1: 04 Polyp 7 3 | N1: 05 Polyp 8 1 | O1: 05 Polyp 8 2 | P1: 05 Polyp 8 3 | Q1: 06 Polyp 25 1 | R1: 06 Polyp 25 2 | S1: 06 Polyp 25 3 | T1: 07 Karz 33 1 | U1: 07 Karz 33 2 | V1: 07 Karz 33 3 | W1: 08 Karz 39 1 | X1: 08 Karz 39 2 | Y1: 08 Karz 39 3 | Z1: 09 Karz 40 1 | AA1: 09 Karz 40 2 | AB1: 09 Karz 40 3
A2: PEP_FRAG_1 | C2: 138842457 | D2: 85095359 | E2: 72600306 | F2: 119146209 | G2: 73190208 | H2: 77736785 | I2: 160014969 | J2: 147723421 | K2: 123674087 | L2: 16738149 | M2: 16082902 | N2: 13061189 | O2: 114716181 | P2: 93794471 | Q2: 75154532 | R2: 131890940 | S2: 109105691 | T2: 92502623 | U2: 69354077 | V2: 53704790 | W2: 54114765 | X2: 69836492 | Y2: 57149083 | Z2: 93198305 | AA2: 67870937 | AB2: 42220568 | AC2: 68976670
A3: VAR_MOD | C3: 5468963 | D3: 8921970 | E3: 5845387 | F3: 5855978 | G3: 6808893 | H3: 3178066 | I3: 12192595 | J3: 12614750 | K3: 4915449 | L3: 3639923 | M3: 2703305 | N3: 573648 | O3: 11906267 | P3: 9793562 | Q3: 1910582 | R3: 13876166 | S3: 12796284 | T3: 4711679 | U3: 5676827 | V3: 3765241 | W3: 1659438 | X3: 8659196 | Y3: 5943055 | Z3: 6728419 | AA3: 5852847 | AB3: 3108143 | AC3: 6122596
A4: IN_SOURCE | C4: 6688405 | D4: 5332237 | E4: 5103591 | F4: 6660064 | G4: 4831850 | H4: 5567591 | I4: 8592185 | J4: 11699450 | K4: 8849932 | L4: 1550622 | M4: 1479741 | N4: 971583 | O4: 5811012 | P4: 5390877 | Q4: 5083817 | R4: 11362249 | S4: 9402372 | T4: 6570702 | U4: 5007437 | V4: 3664662 | W4: 3649386 | X4: 4197748 | Y4: 4159104 | Z4: 4875235 | AA4: 4580961 | AB4: 3909539 | AC4: 4194055
A5: PEP_FRAG_2 | C5: 3076107 | D5: 2234271 | E5: 1571766 | F5: 3194395 | G5: 824686 | H5: 1581745 | I5: 19140415 | J5: 14499677 | K5: 8912144 | L5: 164453 | M5: 103230 | N5: 309906 | O5: 688519 | P5: 1607927 | Q5: 601005 | R5: 5195944 | S5: 3340932 | T5: 5605006 | U5: 2090263 | V5: 551825 | W5: 724765 | X5: 214732 | Y5: 1767110 | Z5: 1507806 | AA5: 1550728 | AB5: 4506441 | AC5: 3610567
A6: MISSING_CLEAVAGE | C6: 1869380 | D6: 465489 | E6: 442210 | F6: 1838903 | G6: 218564 | H6: 655442 | I6: 7905109 | J6: 4140858 | K6: 2817218 | L6: 8244826 | M6: 5329208 | N6: 3807683 | O6: 2752879 | P6: 2226659 | Q6: 1154586 | R6: 1383259 | S6: 852582 | T6: 601359 | U6: 364352 | V6: 186358 | W6: 380643 | X6: 975203 | Y6: 604747 | Z6: 1037171 | AA6: 727652 | AB6: 316571 | AC6: 769278
A7: NEUTRAL_LOSS-H20 | C7: 108471 | D7: 222678 | E7: 227491 | F7: 121028 | G7: 193221 | H7: 187770 | I7: 166606 | J7: 443021 | K7: 110344 | L7: 9466 | M7: 10458 | N7: 3981 | O7: 74067 | P7: 89040 | Q7: 393473 | R7: 70952 | S7: 137666 | T7: 331645 | U7: 101212 | V7: 38721 | W7: 247554 | X7: 62290 | Y7: 61558 | Z7: 127069 | AA7: 85175 | AB7: 249299 | AC7: 55975
A8: NEUTRAL_LOSS-NH3 | C8: 23231 | D8: 54447 | E8: 31077 | F8: 32910 | G8: 9649 | H8: 33786 | I8: 131932 | J8: 26378 | K8: 45860 | L8: 14131 | M8: 17614 | N8: 6513 | O8: 10040 | P8: 22568 | Q8: 34112 | R8: 26667 | S8: 11212 | T8: 49062 | U8: 51700 | V8: 5574 | W8: 937 | X8: 20486 | Y8: 20234 | Z8: 13880 | AA8: 22416 | AB8: 3712 | AC8: 12378

Sheet project details
A1: project data
A2: title | B2: 2009 Wlodarski Serum
A3: description | B3: 090731
A4: root folder | B4: D:\data\plgs302b5\projects\2009 Wlodarski Serum\root
A5: db schema | B5: Proj__15011628219190_7321197486858465_100_3
A7: workflow data
A8: workflow_index | B8: replicate_name | C8: title | D8: sample_description | E8: input_file | F8: acquired_name | G8: abs_quan_response_factor | H8: sum_acquired_ngrams | I8: identified_proteins | J8: quantified_proteins | K8: all identified peptides | L8: PEP_FRAG_1 peptides | M8: PEP_FRAG_2 peptides
A9: 1 | B9: 01 Kontrolle 14 1 | C9: 20170704 UP Human Contaminants Reverse 371 2MC | D9: Alex Kontrolle 14 | F9: 090731_02 | G9: 1000 | H9: 3825.09 | I9: 134 | J9: 118 | K9: 2167 | L9: 1107 | M9: 86
A10: 2 | B10: 01 Kontrolle 14 2 | C10: 20170704 UP Human Contaminants Reverse 371 2MC | D10: Alex Kontrolle 14 | F10: 090731_11 | G10: 1000 | H10: 2958.42 | I10: 81 | J10: 71 | K10: 1475 | L10: 667 | M10: 73
A11: 3 | B11: 01 Kontrolle 14 3 | C11: 20170704 UP Human Contaminants Reverse 371 2MC | D11: Alex Kontrolle 14 | F11: 090731_20 | G11: 1000 | H11: 2373.79 | I11: 90 | J11: 76 | K11: 1471 | L11: 678 | M11: 76
A12: 4 | B12: 02 Kontrolle 15 1 | C12: 20170704 UP Human Contaminants Reverse 371 2MC | D12: Alex Kontrolle 15 | F12: 090731_03 | G12: 1000 | H12: 3599.35 | I12: 90 | J12: 88 | K12: 1919 | L12: 942 | M12: 83
A13: 5 | B13: 02 Kontrolle 15 2 | C13: 20170704 UP Human Contaminants Reverse 371 2MC | D13: Alex Kontrolle 15 | F13: 090731_12 | G13: 1000 | H13: 2578.02 | I13: 48 | J13: 48 | K13: 1204 | L13: 539 | M13: 45
A14: 6 | B14: 02 Kontrolle 15 3 | C14: 20170704 UP Human Contaminants Reverse 371 2MC | D14: Alex Kontrolle 15 | F14: 090731_21 | G14: 1000 | H14: 2369.62 | I14: 70 | J14: 69 | K14: 1506 | L14: 756 | M14: 59
A15: 7 | B15: 03 Kontrolle 27 1 | C15: 20170704 UP Human Contaminants Reverse 371 2MC | D15: Alex Kontrolle 27 | F15: 090731_04 | G15: 1000 | H15: 5399.48 | I15: 70 | J15: 68 | K15: 1665 | L15: 715 | M15: 88
A16: 8 | B16: 03 Kontrolle 27 2 | C16: 20170704 UP Human Contaminants Reverse 371 2MC | D16: Alex Kontrolle 27 | F16: 090731_13 | G16: 1000 | H16: 5300.45 | I16: 57 | J16: 57 | K16: 1450 | L16: 588 | M16: 81
A17: 9 | B17: 03 Kontrolle 27 3 | C17: 20170704 UP Human Contaminants Reverse 371 2MC | D17: Alex Kontrolle 27 | F17: 090731_22 | G17: 1000 | H17: 3937.73 | I17: 59 | J17: 59 | K17: 1469 | L17: 664 | M17: 90
A18: 10 | B18: 04 Polyp 7 1 | C18: 20170704 UP Human Contaminants Reverse 371 2MC | D18: Alex Poly P 7 | F18: 090731_05 | G18: 1000 | H18: 1192.38 | I18: 50 | J18: 50 | K18: 982 | L18: 388 | M18: 42
A19: 11 | B19: 04 Polyp 7 2 | C19: 20170704 UP Human Contaminants Reverse 371 2MC | D19: Alex Poly P 7 | F19: 090731_14 | G19: 1000 | H19: 1240.05 | I19: 55 | J19: 54 | K19: 869 | L19: 370 | M19: 37
A20: 12 | B20: 04 Polyp 7 3 | C20: 20170704 UP Human Contaminants Reverse 371 2MC | D20: Alex Poly P 7 | F20: 090731_23 | G20: 1000 | H20: 958.74 | I20: 46 | J20: 44 | K20: 699 | L20: 344 | M20: 36
... A35: 27 | B35: 09 Karz 40 3 | C35: 20170704 UP Human Contaminants Reverse 371 2MC | D35: Alex Karz 40 | F35: 090731_28 | G35: 1000 | H35: 2252.01 | I35: 79 | J35: 71 | K35: 1290 | L35: 660 | M35: 62

Sheet RT Alignment
A1: Reference Retention Time | B1: 01 Kontrolle 14 1 | C1: 01 Kontrolle 14 2 | D1: 01 Kontrolle 14 3 | E1: 02 Kontrolle 15 1 | F1: 02 Kontrolle 15 2 | G1: 02 Kontrolle 15 3 | H1: 03 Kontrolle 27 1 | I1: 03 Kontrolle 27 2 | J1: 03 Kontrolle 27 3 | K1: 04 Polyp 7 1 | L1: 04 Polyp 7 2 | M1: 04 Polyp 7 3 | N1: 05 Polyp 8 1 | O1: 05 Polyp 8 2 | P1: 05 Polyp 8 3 | Q1: 06 Polyp 25 1 | R1: 06 Polyp 25 2 | S1: 06 Polyp 25 3 | T1: 07 Karz 33 1 | U1: 07 Karz 33 2 | V1: 07 Karz 33 3 | W1: 08 Karz 39 1 | X1: 08 Karz 39 2 | Y1: 08 Karz 39 3 | Z1: 09 Karz 40 1 | AA1: 09 Karz 40 2 | AB1: 09 Karz 40 3
A2: 0 | B2: 0.024954796 | C2: 0.024893224 | D2: 0.024924068 | E2: 0.024829917 | F2: 0.025037092 | G2: 0.024988989 | H2: 0.025085918 | I2: 0.025015611 | J2: 0.025 | K2: 0.024773081 | L2: 0.02476584 | M2: 0.024741741 | N2: 0.024934716 | O2: 0.024915919 | P2: 0.024891486 | Q2: 0.024982888 | R2: 0.0249595 | S2: 0.024904668 | T2: 0.024940381 | U2: 0.024983106 | V2: 0.024828688 | W2: 0.024861945 | X2: 0.024889192 | Y2: 0.024889945 | Z2: 0.024972109 | AA2: 0.02490822 | AB2: 0.02498766
A3: 0.1 | B3: -0.00018081489 | C3: -0.00042710211 | D3: -0.00030372611 | E3: -0.00068033067 | F3: 0.00014836533 | G3: -4.4046222e-05 | H3: 0.00034367433 | I3: 6.2446222e-05 | J3: 0 | K3: -0.00090767444 | L3: -0.000936638 | M3: -0.0010330398 | N3: -0.00026113267 | O3: -0.00033632578 | P3: -0.00043405733 | Q3: -6.8449444e-05 | R3: -0.00016199956 | S3: -0.00038133089 | T3: -0.00023847456 | U3: -6.7574444e-05 | V3: -0.00068525089 | W3: -0.00055221722 | X3: -0.00044323156 | Y3: -0.00044021933 | Z3: -0.00011156578 | AA3: -0.00036711622 | AB3: -4.9361222e-05
A4: 0.2 | B4: -0.00036162636 | C4: -0.00085420455 | D4: -0.00060745455 | E4: -0.0013606618 | F4: 0.00029673091 | G4: -8.8093636e-05 | H4: 0.00068734727 | I4: 0.00012489182 | J4: -2.7755576e-17 | K4: -0.0018153527 | L4: -0.0018732791 | M4: -0.0020660755 | N4: -0.00052226727 | O4: -0.00067265 | P4: -0.00086811727 | Q4: -0.00013690091 | R4: -0.00032399909 | S4: -0.00076266 | T4: -0.00047695091 | U4: -0.00013515 | V4: -0.0013705027 | W4: -0.0011044345 | X4: -0.00088646 | Y4: -0.00088044364 | Z4: -0.00022312727 | AA4: -0.00073423636 | AB4: -9.8720909e-05
A5: 0.3 | B5: -0.00054243778 | C5: -0.00128131 | D5: -0.00091118222 | E5: -0.0020409967 | F5: 0.00044509444 | G5: -0.00013213556 | H5: 0.0010310167 | I5: 0.00018734 | J5: 5.5511151e-17 | K5: -0.0027230278 | L5: -0.0028099122 | M5: -0.0030991144 | N5: -0.00078340333 | O5: -0.0010089744 | P5: -0.0013021756 | Q5: -0.00020535444 | R5: -0.000486 | S5: -0.0011439944 | T5: -0.00071543 | U5: -0.00020272222 | V5: -0.0020557522 | W5: -0.0016566511 | X5: -0.0013296911 | Y5: -0.0013206656 | Z5: -0.00033469778 | AA5: -0.0011013467 | AB5: -0.00014808
A6: 0.4 | B6: -0.00072325455 | C6: -0.0017084118 | D6: -0.0012149045 | E6: -0.0027213255 | F6: 0.00059346091 | G6: -0.00017618909 | H6: 0.0013746918 | I6: 0.00024978818 | J6: 0 | K6: -0.0036307045 | L6: -0.0037465536 | M6: -0.0041321455 | N6: -0.0010445391 | O6: -0.0013453 | P6: -0.00173623 | Q6: -0.00027380455 | R6: -0.00064799818 | S6: -0.00152532 | T6: -0.00095389636 | U6: -0.00027030273 | V6: -0.0027410027 | W6: -0.0022088709 | X6: -0.0017729209 | Y6: -0.0017608864 | Z6: -0.00044625455 | AA6: -0.0014684655 | AB6: -0.00019743818
A7: 0.5 | B7: -0.00090405333 | C7: -0.0021355178 | D7: -0.0015186322 | E7: -0.0034016467 | F7: 0.00074182889 | G7: -0.00022023 | H7: 0.0017183589 | I7: 0.00031222222 | J7: 0 | K7: -0.0045383811 | L7: -0.0046831911 | M7: -0.0051652 | N7: -0.00130566 | O7: -0.0016816256 | P7: -0.0021702989 | Q7: -0.00034225222 | R7: -0.00081 | S7: -0.0019066567 | T7: -0.0011923967 | U7: -0.00033787444 | V7: -0.0034262578 | W7: -0.0027610878 | X7: -0.00221615 | Y7: -0.0022011078 | Z7: -0.00055782222 | AA7: -0.0018355756 | AB7: -0.00024680111
A8: 0.6 | B8: -0.0010848818 | C8: -0.0025626191 | D8: -0.0018223664 | E8: -0.0040819773 | F8: 0.00089019 | G8: -0.00026428727 | H8: 0.0020620355 | I8: 0.00037468455 | J8: 1.110223e-16 | K8: -0.0054460555 | L8: -0.0056198245 | M8: -0.0061982282 | N8: -0.0015668045 | O8: -0.0020179564 | P8: -0.0026043455 | Q8: -0.00041070727 | R8: -0.000972 | S8: -0.0022879764 | T8: -0.0014308482 | U8: -0.00040545273 | V8: -0.0041115164 | W8: -0.0033133036 | X8: -0.0026593791 | Y8: -0.0026413327 | Z8: -0.00066939545 | AA8: -0.0022026964 | AB8: -0.00029615364
A9: 0.7 | B9: -0.00126569 | C9: -0.00298972 | D9: -0.00212608 | E9: -0.0047623122 | F9: 0.0010385533 | G9: -0.00030831889 | H9: 0.0024057022 | I9: 0.00043712889 | J9: 1.110223e-16 | K9: -0.0063537367 | L9: -0.0065564622 | M9: -0.0072312467 | N9: -0.0018279389 | O9: -0.0023542756 | P9: -0.0030384 | Q9: -0.00047915889 | R9: -0.0011339967 | S9: -0.0026693178 | T9: -0.0016693233 | U9: -0.00047302667 | V9: -0.0047967667 | W9: -0.00386552 | X9: -0.0031026133 | Y9: -0.00308154 | Z9: -0.00078095 | AA9: -0.0025698111 | AB9: -0.00034552
A10: 0.8 | B10: -0.0014465091 | C10: -0.0034168273 | D10: -0.0024298127 | E10: -0.0054426464 | F10: 0.00118692 | G10: -0.00035237909 | H10: 0.0027493718 | I10: 0.00049956636 | J10: 0 | K10: -0.0072614155 | L10: -0.0074931036 | M10: -0.0082642973 | N10: -0.0020890709 | O10: -0.0026906064 | P10: -0.0034724691 | Q10: -0.00054761182 | R10: -0.001296 | S10: -0.0030506345 | T10: -0.00190781 | U10: -0.00054060091 | V10: -0.0054820182 | W10: -0.0044177409 | X10: -0.0035458391 | Y10: -0.0035217836 | Z10: -0.00089251 | AA10: -0.0029369264 | AB10: -0.00039487818
A11: 0.9 | B11: -0.0016273122 | C11: -0.0038439233 | D11: -0.0027335378 | E11: -0.0061229722 | F11: 0.0013352878 | G11: -0.00039641444 | H11: 0.0030930422 | I11: 0.00056202556 | J11: -1.110223e-16 | K11: -0.0081690889 | L11: -0.0084297478 | M11: -0.0092973278 | N11: -0.0023502044 | O11: -0.0030269333 | P11: -0.0039065111 | Q11: -0.00061606 | R11: -0.0014579967 | S11: -0.0034319744 | T11: -0.0021462667 | U11: -0.00060817333 | V11: -0.0061672667 | W11: -0.0049699611 | X11: -0.0039890733 | Y11: -0.0039619911 | Z11: -0.0010040644 | AA11: -0.00330405 | AB11: -0.00044423667
A12: 1 | B12: -0.0018081282 | C12: -0.0042710309 | D12: -0.0030372545 | E12: -0.0068032945 | F12: 0.0014836382 | G12: -0.00044047273 | H12: 0.0034367145 | I12: 0.00062445091 | J12: 0 | K12: -0.0090767836 | L12: -0.0093663927 | M12: -0.010330399 | N12: -0.0026113091 | O12: -0.0033632545 | P12: -0.0043406364 | Q12: -0.00068449455 | R12: -0.00162 | S12: -0.0038132991 | T12: -0.0023847755 | U12: -0.00067575818 | V12: -0.00685252 | W12: -0.0055221927 | X12: -0.0044323091 | Y12: -0.0044022218 | Z12: -0.0011156318 | AA12: -0.00367116 | AB12: -0.00049361182
A13: 1.1 | B13: -0.0019889333 | C13: -0.0046981333 | D13: -0.0033409667 | E13: -0.0074836333 | F13: 0.0016320333 | G13: -0.00048451111 | H13: 0.0037804111 | I13: 0.00068691111 | J13: 2.220446e-16 | K13: -0.0099844333 | L13: -0.010303022 | M13: -0.011363456 | N13: -0.0028724444 | O13: -0.0036995889 | P13: -0.0047746889 | Q13: -0.00075294444 | R13: -0.0017819778 | S13: -0.0041946444 | T13: -0.0026232111 | U13: -0.00074332222 | V13: -0.0075377889 | W13: -0.0060743778 | X13: -0.0048755333 | Y13: -0.0048424556 | Z13: -0.0012271889 | AA13: -0.0040382667 | AB13: -0.000543
... A1321: 131.9 | B1321: 0.5424 | C1321: -0.27841286 | D1321: -0.19358 | E1321: 0.26987571 | F1321: 0.31693429 | G1321: -0.17000143 | H1321: 0.71584429 | I1321: 0.24986286 | J1321: -0.01 | K1321: 0.023477143 | L1321: 0.55833286 | M1321: -1.8318514 | N1321: -0.16170429 | O1321: -0.0020028571 | P1321: -0.0055142857 | Q1321: 0.30862714 | R1321: -0.23222429 | S1321: -0.0033 | T1321: 0.62450286 | U1321: 0.25269143 | V1321: 0.92412429 | W1321: 0.54050857 | X1321: 0.13994429 | Y1321: 0.21147714 | Z1321: -0.37406429 | AA1321: 0.70535286 | AB1321: -0.79370714

Sheet config
B2: ISOQuant Configuration | C2: time | D2: parameter | E2: value
C4: 2017-08-09 15:03:19 | D4: process.emrt.minIntensity | E4: 500
C5: 2017-08-09 15:03:19 | D5: process.emrt.minMass | E5: 500
C6: 2017-08-09 15:03:21 | D6: process.emrt.rt.alignment.match.maxDeltaMass.ppm | E6: 10
C7: 2017-08-09 15:03:21 | D7: process.emrt.rt.alignment.match.maxDeltaDriftTime | E7: 2
C8: 2017-08-09 15:03:21 | D8: process.emrt.rt.alignment.normalizeReferenceTime | E8: false
C9: 2017-08-09 15:03:21 | D9: process.emrt.rt.alignment.maxProcesses | E9: 8
C10: 2017-08-09 15:03:21 | D10: process.emrt.rt.alignment.referenceRun.selectionMethod | E10: AUTO
C11: 2017-08-09 15:03:21 | D11: process.emrt.rt.alignment.maxProcessForkingDepth | E11: 2
C12: 2017-08-09 15:03:21 | D12: process.emrt.rt.alignment.method | E12: PARALLEL_FAST_RECURSIVE
C13: 2017-08-09 15:03:21 | D13: process.emrt.rt.alignment.method.iterative.minPeaks | E13: 5000
C14: 2017-08-09 15:03:21 | D14: process.emrt.rt.alignment.method.iterative.abstractionMethod | E14: MASS_IN_RT_WINDOWS
C15: 2017-08-09 15:03:21 | D15: process.emrt.rt.alignment.method.iterative.pathRefinementRadius | E15: 500
C16: 2017-08-09 15:03:21 | D16: process.emrt.rt.alignment.method.iterative.growthFactor | E16: 2
C17: 2017-08-09 15:03:21 | D17: process.emrt.rt.alignment.method.iterative.growthFactorLimit | E17: 2.5
C18: 2017-08-09 15:04:48 | D18: process.emrt.clustering.preclustering.orderSequence | E18: MTMTMT
C19: 2017-08-09 15:04:48 | D19: process.emrt.clustering.preclustering.maxDistance.mass.ppm | E19: 1.01E-5
C20: 2017-08-09 15:04:48 | D20: process.emrt.clustering.preclustering.maxDistance.time.min | E20: 0.202
C21: 2017-08-09 15:04:48 | D21: process.emrt.clustering.preclustering.maxDistance.drift | E21: 2.02
C22: 2017-08-09 15:07:23 | D22: process.emrt.clustering.distance.unit.mass.ppm | E22: 1.0E-5
C23: 2017-08-09 15:07:23 | D23: process.emrt.clustering.distance.unit.time.min | E23: 0.2
C24: 2017-08-09 15:07:23 | D24: process.emrt.clustering.distance.unit.drift.bin | E24: 2
C25: 2017-08-09 15:07:23 | D25: process.emrt.clustering.dbscan.minNeighborCount | E25: 2
C26: 2017-08-09 15:09:23 | D26: process.normalization.lowess.bandwidth | E26: 0.5
C27: 2017-08-09 15:09:23 | D27: process.normalization.orderSequence | E27: XPIR
C28: 2017-08-09 15:09:23 | D28: process.normalization.minIntensity | E28: 3000
C29: 2017-08-09 15:15:43 | D29: process.identification.peptide.minReplicationRate | E29: 2
C30: 2017-08-09 15:15:43 | D30: process.identification.peptide.minScore | E30: 5
C31: 2017-08-09 15:15:43 | D31: process.identification.peptide.minOverallMaxScore | E31: 5
C32: 2017-08-09 15:15:43 | D32: process.identification.peptide.minSequenceLength | E32: 6
C33: 2017-08-09 15:15:43 | D33: process.identification.peptide.acceptType.PEP_FRAG_1 | E33: true
C34: 2017-08-09 15:15:43 | D34: process.identification.peptide.acceptType.IN_SOURCE | E34: true
C35: 2017-08-09 15:15:43 | D35: process.identification.peptide.acceptType.MISSING_CLEAVAGE | E35: true
C36: 2017-08-09 15:15:43 | D36: process.identification.peptide.acceptType.NEUTRAL_LOSS_H20 | E36: false
C37: 2017-08-09 15:15:43 | D37: process.identification.peptide.acceptType.NEUTRAL_LOSS_NH3 | E37: false
C38: 2017-08-09 15:15:43 | D38: process.identification.peptide.acceptType.PEP_FRAG_2 | E38: true
C39: 2017-08-09 15:15:43 | D39: process.identification.peptide.acceptType.DDA | E39: false
C40: 2017-08-09 15:15:43 | D40: process.identification.peptide.acceptType.VAR_MOD | E40: true
C41: 2017-08-09 15:15:43 | D41: process.identification.peptide.acceptType.PTM | E41: true
C42: 2017-08-09 15:15:43 | D42: process.annotation.peptide.maxSequencesPerEMRTCluster | E42: 1
C43: 2017-08-09 15:15:43 | D43: process.annotation.protein.resolveHomology | E43: true
C44: 2017-08-09 15:15:43 | D44: process.annotation.peptide.maxFDR | E44: 0.01
C45: 2017-08-09 15:15:43 | D45: process.annotation.useSharedPeptides | E45: all
C46: 2017-08-09 15:15:55 | D46: process.quantification.peptide.minMaxScorePerCluster | E46: 5
C47: 2017-08-09 15:15:55 | D47: process.quantification.peptide.acceptType.IN_SOURCE | E47: false
C48: 2017-08-09 15:15:55 | D48: process.quantification.peptide.acceptType.MISSING_CLEAVAGE | E48: false
C49: 2017-08-09 15:15:55 | D49: process.quantification.peptide.acceptType.NEUTRAL_LOSS_H20 | E49: false
C50: 2017-08-09 15:15:55 | D50: process.quantification.peptide.acceptType.NEUTRAL_LOSS_NH3 | E50: false
C51: 2017-08-09 15:15:55 | D51: process.quantification.peptide.acceptType.PEP_FRAG_1 | E51: true
C52: 2017-08-09 15:15:55 | D52: process.quantification.peptide.acceptType.PEP_FRAG_2 | E52: false
C53: 2017-08-09 15:15:55 | D53: process.quantification.peptide.acceptType.VAR_MOD | E53: false
C54: 2017-08-09 15:15:55 | D54: process.quantification.peptide.acceptType.PTM | E54: false
C55: 2017-08-09 15:15:55 | D55: process.quantification.peptide.acceptType.DDA | E55: false
C56: 2017-08-09 15:15:55 | D56: process.quantification.topx.degree | E56: 3
C57: 2017-08-09 15:15:55 | D57: process.quantification.topx.allowDifferentPeptides | E57: true
C58: 2017-08-09 15:15:55 | D58: process.quantification.minPeptidesPerProtein | E58: 2
C59: 2017-08-09 15:15:55 | D59: process.quantification.absolute.standard.entry | E59: ENO1_YEAST
C60: 2017-08-09 15:15:55 | D60: process.quantification.absolute.standard.fmol | E60: 50
C61: 2017-08-09 15:16:05 | D61: process.quantification.topx.allowDifferentPeptides | E61: true
C62: 2017-08-09 15:16:05 | D62: process.quantification.absolute.standard.entry | E62: ENO1_YEAST
C63: 2017-08-09 15:16:05 | D63: process.quantification.absolute.standard.fmol | E63: 50
C64: 2017-08-09 15:16:09 | D64: process.quantification.maxProteinFDR | E64: 0.01

Sheet absqng
J1: Alex Kontrolle 14 | K1: Alex Kontrolle 14 | L1: Alex Kontrolle 14 | M1: Alex Kontrolle 15 | N1: Alex Kontrolle 15 | O1: Alex Kontrolle 15 | P1: Alex Kontrolle 27 | Q1: Alex Kontrolle 27 | R1: Alex Kontrolle 27 | S1: Alex Poly P 7 | T1: Alex Poly P 7 | U1: Alex Poly P 7 | V1: Alex Poly P 8 | W1: Alex Poly P 8 | X1: Alex Poly P 8 | Y1: Alex Poly P 25 | Z1: Alex Poly P 25 | AA1: Alex Poly P 25 | AB1: Alex Karz 33 | AC1: Alex Karz 33 | AD1: Alex Karz 33 | AE1: Alex Karz 39 | AF1: Alex Karz 39 | AG1: Alex Karz 39 | AH1: Alex Karz 40 | AI1: Alex Karz 40 | AJ1: Alex Karz 40 | AK1: Alex Kontrolle 14 | AL1: Alex Kontrolle 15 | AM1: Alex Kontrolle 27 | AN1: Alex Poly P 7 | AO1: Alex Poly P 8 | AP1: Alex Poly P 25 | AQ1: Alex Karz 33 | AR1: Alex Karz 39 | AS1: Alex Karz 40
A2: description | B2: IEP | C2: mw | D2: max score | E2: accession | F2: reported peptides | G2: sequence coverage | H2: FDR level | I2: entry | J2: 01 Kontrolle 14 1 | K2: 01 Kontrolle 14 2 | L2: 01 Kontrolle 14 3 | M2: 02 Kontrolle 15 1 | N2: 02 Kontrolle 15 2 | O2: 02 Kontrolle 15 3 | P2: 03 Kontrolle 27 1 | Q2: 03 Kontrolle 27 2 | R2: 03 Kontrolle 27 3 | S2: 04 Polyp 7 1 | T2: 04 Polyp 7 2 | U2: 04 Polyp 7 3 | V2: 05 Polyp 8 1 | W2: 05 Polyp 8 2 | X2: 05 Polyp 8 3 | Y2: 06 Polyp 25 1 | Z2: 06 Polyp 25 2 | AA2: 06 Polyp 25 3 | AB2: 07 Karz 33 1 | AC2: 07 Karz 33 2 | AD2: 07 Karz 33 3 | AE2: 08 Karz 39 1 | AF2: 08 Karz 39 2 | AG2: 08 Karz 39 3 | AH2: 09 Karz 40 1 | AI2: 09 Karz 40 2 | AJ2: 09 Karz 40 3 | AK2: AVERAGE 01 Kontrolle 14 | AL2: AVERAGE 02 Kontrolle 15 | AM2: AVERAGE 03 Kontrolle 27 | AN2: AVERAGE 04 Polyp 7 | AO2: AVERAGE 05 Polyp 8 | AP2: AVERAGE 06 Polyp 25 | AQ2: AVERAGE 07 Karz 33 | AR2: AVERAGE 08 Karz 39 | AS2: AVERAGE 09 Karz 40
A3: Transthyretin OS=Homo sapiens GN=TTR PE=1 SV=1 | B3: 5.4 | C3: 16001.098 | D3: 72153.63 | E3: P02766 | F3: 8 | G3: 73.47 | H3: 0 | I3: TTHY_HUMAN | AK3: =IFERROR(SUM(J3:L3)/COUNTIF(J3:L3,">0"),) | AL3: =IFERROR(SUM(M3:O3)/COUNTIF(M3:O3,">0"),) | AM3: =IFERROR(SUM(P3:R3)/COUNTIF(P3:R3,">0"),) | AN3: =IFERROR(SUM(S3:U3)/COUNTIF(S3:U3,">0"),) | AO3: =IFERROR(SUM(V3:X3)/COUNTIF(V3:X3,">0"),) | AP3: =IFERROR(SUM(Y3:AA3)/COUNTIF(Y3:AA3,">0"),) | AQ3: =IFERROR(SUM(AB3:AD3)/COUNTIF(AB3:AD3,">0"),) | AR3: =IFERROR(SUM(AE3:AG3)/COUNTIF(AE3:AG3,">0"),) | AS3: =IFERROR(SUM(AH3:AJ3)/COUNTIF(AH3:AJ3,">0"),)
A4: Zinc-alpha-2-glycoprotein OS=Homo sapiens GN=AZGP1 PE=1 SV=2 | B4: 5.64 | C4: 34486.872 | D4: 49082.86 | E4: P25311 | F4: 21 | G4: 79.53 | H4: 0 | I4: ZA2G_HUMAN | AK4: =IFERROR(SUM(J4:L4)/COUNTIF(J4:L4,">0"),) | AL4: =IFERROR(SUM(M4:O4)/COUNTIF(M4:O4,">0"),) | AM4: =IFERROR(SUM(P4:R4)/COUNTIF(P4:R4,">0"),) | AN4: =IFERROR(SUM(S4:U4)/COUNTIF(S4:U4,">0"),) | AO4: =IFERROR(SUM(V4:X4)/COUNTIF(V4:X4,">0"),) | AP4: =IFERROR(SUM(Y4:AA4)/COUNTIF(Y4:AA4,">0"),) | AQ4: =IFERROR(SUM(AB4:AD4)/COUNTIF(AB4:AD4,">0"),) | AR4: =IFERROR(SUM(AE4:AG4)/COUNTIF(AE4:AG4,">0"),) | AS4: =IFERROR(SUM(AH4:AJ4)/COUNTIF(AH4:AJ4,">0"),)
A5: Leucine-rich alpha-2-glycoprotein OS=Homo sapiens GN=LRG1 PE=1 SV=2 | B5: 6.5 | C5: 38406.063 | D5: 37983.68 | E5: P02750 | F5: 18 | G5: 65.99 | H5: 0 | I5: A2GL_HUMAN | AK5: =IFERROR(SUM(J5:L5)/COUNTIF(J5:L5,">0"),) | AL5: =IFERROR(SUM(M5:O5)/COUNTIF(M5:O5,">0"),) | AM5: =IFERROR(SUM(P5:R5)/COUNTIF(P5:R5,">0"),) | AN5: =IFERROR(SUM(S5:U5)/COUNTIF(S5:U5,">0"),) | AO5: =IFERROR(SUM(V5:X5)/COUNTIF(V5:X5,">0"),) | AP5: =IFERROR(SUM(Y5:AA5)/COUNTIF(Y5:AA5,">0"),) | AQ5: =IFERROR(SUM(AB5:AD5)/COUNTIF(AB5:AD5,">0"),) | AR5: =IFERROR(SUM(AE5:AG5)/COUNTIF(AE5:AG5,">0"),) | AS5: =IFERROR(SUM(AH5:AJ5)/COUNTIF(AH5:AJ5,">0"),)
A6: Apolipoprotein A-IV OS=Homo sapiens GN=APOA4 PE=1 SV=3 | B6: 5.11 | C6: 45399.118 | D6: 37898.54 | E6: P06727 | F6: 33 | G6: 88.38 | H6: 0 | I6: APOA4_HUMAN | AK6: =IFERROR(SUM(J6:L6)/COUNTIF(J6:L6,">0"),) | AL6: =IFERROR(SUM(M6:O6)/COUNTIF(M6:O6,">0"),) | AM6: =IFERROR(SUM(P6:R6)/COUNTIF(P6:R6,">0"),) | AN6: =IFERROR(SUM(S6:U6)/COUNTIF(S6:U6,">0"),) | AO6: =IFERROR(SUM(V6:X6)/COUNTIF(V6:X6,">0"),) | AP6: =IFERROR(SUM(Y6:AA6)/COUNTIF(Y6:AA6,">0"),) | AQ6: =IFERROR(SUM(AB6:AD6)/COUNTIF(AB6:AD6,">0"),) | AR6: =IFERROR(SUM(AE6:AG6)/COUNTIF(AE6:AG6,">0"),) | AS6: =IFERROR(SUM(AH6:AJ6)/COUNTIF(AH6:AJ6,">0"),)
A7: Ceruloplasmin OS=Homo sapiens GN=CP PE=1 SV=1 | B7: 5.34 | C7: 123060.8 | D7: 35552.6 | E7: P00450 | F7: 54 | G7: 71.46 | H7: 0 | I7: CERU_HUMAN | AK7: =IFERROR(SUM(J7:L7)/COUNTIF(J7:L7,">0"),) | AL7: =IFERROR(SUM(M7:O7)/COUNTIF(M7:O7,">0"),) | AM7: =IFERROR(SUM(P7:R7)/COUNTIF(P7:R7,">0"),) | AN7: =IFERROR(SUM(S7:U7)/COUNTIF(S7:U7,">0"),) | AO7: =IFERROR(SUM(V7:X7)/COUNTIF(V7:X7,">0"),) | AP7: =IFERROR(SUM(Y7:AA7)/COUNTIF(Y7:AA7,">0"),) | AQ7: =IFERROR(SUM(AB7:AD7)/COUNTIF(AB7:AD7,">0"),) | AR7: =IFERROR(SUM(AE7:AG7)/COUNTIF(AE7:AG7,">0"),) | AS7: =IFERROR(SUM(AH7:AJ7)/COUNTIF(AH7:AJ7,">0"),)
A8: Alpha-2-macroglobulin OS=Homo sapiens GN=A2M PE=1 SV=3 | B8: 6 | C8: 164716.9 | D8: 32274.65 | E8: P01023 | F8: 73 | G8: 72.73 | H8: 0 | I8: A2MG_HUMAN | AK8: =IFERROR(SUM(J8:L8)/COUNTIF(J8:L8,">0"),) | AL8: =IFERROR(SUM(M8:O8)/COUNTIF(M8:O8,">0"),) | AM8: =IFERROR(SUM(P8:R8)/COUNTIF(P8:R8,">0"),) | AN8: =IFERROR(SUM(S8:U8)/COUNTIF(S8:U8,">0"),) | AO8: =IFERROR(SUM(V8:X8)/COUNTIF(V8:X8,">0"),) | AP8: =IFERROR(SUM(Y8:AA8)/COUNTIF(Y8:AA8,">0"),) | AQ8: =IFERROR(SUM(AB8:AD8)/COUNTIF(AB8:AD8,">0"),) | AR8: =IFERROR(SUM(AE8:AG8)/COUNTIF(AE8:AG8,">0"),) | AS8: =IFERROR(SUM(AH8:AJ8)/COUNTIF(AH8:AJ8,">0"),)
A9: Angiotensinogen OS=Homo sapiens GN=AGT PE=1 SV=1 | B9: 5.85 | C9: 53439.43 | D9: 30150.59 | E9: P01019 | F9: 17 | G9: 59.18 | H9: 0 | I9: ANGT_HUMAN | AK9: =IFERROR(SUM(J9:L9)/COUNTIF(J9:L9,">0"),) | AL9: =IFERROR(SUM(M9:O9)/COUNTIF(M9:O9,">0"),) | AM9: =IFERROR(SUM(P9:R9)/COUNTIF(P9:R9,">0"),) | AN9: =IFERROR(SUM(S9:U9)/COUNTIF(S9:U9,">0"),) | AO9: =IFERROR(SUM(V9:X9)/COUNTIF(V9:X9,">0"),) | AP9: =IFERROR(SUM(Y9:AA9)/COUNTIF(Y9:AA9,">0"),) | AQ9: =IFERROR(SUM(AB9:AD9)/COUNTIF(AB9:AD9,">0"),) | AR9: =IFERROR(SUM(AE9:AG9)/COUNTIF(AE9:AG9,">0"),) | AS9: =IFERROR(SUM(AH9:AJ9)/COUNTIF(AH9:AJ9,">0"),)
A10: Serum amyloid P-component OS=Homo sapiens GN=APCS PE=1 SV=2 | B10: 6.1 | C10: 25501.207 | D10: 29716.23 | E10: P02743 | F10: 11 | G10: 52.47 | H10: 0 | I10: SAMP_HUMAN | AK10: =IFERROR(SUM(J10:L10)/COUNTIF(J10:L10,">0"),) | AL10: =IFERROR(SUM(M10:O10)/COUNTIF(M10:O10,">0"),) | AM10: =IFERROR(SUM(P10:R10)/COUNTIF(P10:R10,">0"),) | AN10: =IFERROR(SUM(S10:U10)/COUNTIF(S10:U10,">0"),) | AO10: =IFERROR(SUM(V10:X10)/COUNTIF(V10:X10,">0"),) | AP10: =IFERROR(SUM(Y10:AA10)/COUNTIF(Y10:AA10,">0"),) | AQ10: =IFERROR(SUM(AB10:AD10)/COUNTIF(AB10:AD10,">0"),) | AR10: =IFERROR(SUM(AE10:AG10)/COUNTIF(AE10:AG10,">0"),) | AS10: =IFERROR(SUM(AH10:AJ10)/COUNTIF(AH10:AJ10,">0"),)
A11: Pigment epithelium-derived factor OS=Homo sapiens GN=SERPINF1 PE=1 SV=4 | B11: 5.94 | C11: 46483.345 | D11: 27961.16 | E11: P36955 | F11: 19 | G11: 61.48 | H11: 0 | I11: PEDF_HUMAN | AK11: =IFERROR(SUM(J11:L11)/COUNTIF(J11:L11,">0"),) | AL11: =IFERROR(SUM(M11:O11)/COUNTIF(M11:O11,">0"),) | AM11: =IFERROR(SUM(P11:R11)/COUNTIF(P11:R11,">0"),) | AN11: =IFERROR(SUM(S11:U11)/COUNTIF(S11:U11,">0"),) | AO11: =IFERROR(SUM(V11:X11)/COUNTIF(V11:X11,">0"),) | AP11: =IFERROR(SUM(Y11:AA11)/COUNTIF(Y11:AA11,">0"),) | AQ11: =IFERROR(SUM(AB11:AD11)/COUNTIF(AB11:AD11,">0"),) | AR11: =IFERROR(SUM(AE11:AG11)/COUNTIF(AE11:AG11,">0"),) | AS11: =IFERROR(SUM(AH11:AJ11)/COUNTIF(AH11:AJ11,">0"),)
A12: Alpha-1-antichymotrypsin OS=Homo sapiens GN=SERPINA3 PE=1 SV=2 | B12: 5.18 | C12: 47822.052 | D12: 25728.85 | E12: P01011 | F12: 17 | G12: 48.94 | H12: 0 | I12: AACT_HUMAN | AK12: =IFERROR(SUM(J12:L12)/COUNTIF(J12:L12,">0"),) | AL12: =IFERROR(SUM(M12:O12)/COUNTIF(M12:O12,">0"),) | AM12: =IFERROR(SUM(P12:R12)/COUNTIF(P12:R12,">0"),) | AN12: =IFERROR(SUM(S12:U12)/COUNTIF(S12:U12,">0"),) | AO12: =IFERROR(SUM(V12:X12)/COUNTIF(V12:X12,">0"),) | AP12: =IFERROR(SUM(Y12:AA12)/COUNTIF(Y12:AA12,">0"),) | AQ12: =IFERROR(SUM(AB12:AD12)/COUNTIF(AB12:AD12,">0"),) | AR12: =IFERROR(SUM(AE12:AG12)/COUNTIF(AE12:AG12,">0"),) | AS12: =IFERROR(SUM(AH12:AJ12)/COUNTIF(AH12:AJ12,">0"),)
A13: N-acetylmuramoyl-L-alanine amidase OS=Homo sapiens GN=PGLYRP2 PE=1 SV=1 | B13: 7.27 | C13: 62787.372 | D13: 25346.68 | E13: Q96PD5 | F13: 19 | G13: 61.46 | H13: 0 | I13: PGRP2_HUMAN | AK13: =IFERROR(SUM(J13:L13)/COUNTIF(J13:L13,">0"),) | AL13: =IFERROR(SUM(M13:O13)/COUNTIF(M13:O13,">0"),) | AM13: =IFERROR(SUM(P13:R13)/COUNTIF(P13:R13,">0"),) | AN13: =IFERROR(SUM(S13:U13)/COUNTIF(S13:U13,">0"),) | AO13: =IFERROR(SUM(V13:X13)/COUNTIF(V13:X13,">0"),) | AP13: =IFERROR(SUM(Y13:AA13)/COUNTIF(Y13:AA13,">0"),) | AQ13: =IFERROR(SUM(AB13:AD13)/COUNTIF(AB13:AD13,">0"),) | AR13: =IFERROR(SUM(AE13:AG13)/COUNTIF(AE13:AG13,">0"),) | AS13: =IFERROR(SUM(AH13:AJ13)/COUNTIF(AH13:AJ13,">0"),)
A14: Lumican OS=Homo sapiens GN=LUM PE=1 SV=2 | B14: 6.16 | C14: 38771.222 | D14: 23262.68 | E14: P51884 | F14: 14 | G14: 56.8 | H14: 0 | I14: LUM_HUMAN | AK14: =IFERROR(SUM(J14:L14)/COUNTIF(J14:L14,">0"),) | AL14: =IFERROR(SUM(M14:O14)/COUNTIF(M14:O14,">0"),) | AM14: =IFERROR(SUM(P14:R14)/COUNTIF(P14:R14,">0"),) | AN14: =IFERROR(SUM(S14:U14)/COUNTIF(S14:U14,">0"),) | AO14: =IFERROR(SUM(V14:X14)/COUNTIF(V14:X14,">0"),) | AP14: =IFERROR(SUM(Y14:AA14)/COUNTIF(Y14:AA14,">0"),) | AQ14: =IFERROR(SUM(AB14:AD14)/COUNTIF(AB14:AD14,">0"),) | AR14: =IFERROR(SUM(AE14:AG14)/COUNTIF(AE14:AG14,">0"),) | AS14: =IFERROR(SUM(AH14:AJ14)/COUNTIF(AH14:AJ14,">0"),)
... A126: Di-N-acetylchitobiase OS=Homo sapiens GN=CTBS PE=1 SV=1 | B126: 6.18 | C126: 44444.233 | D126: 499.6324 | E126: Q01459 | F126: 3 | G126: 8.05 | H126: 0 | I126: DIAC_HUMAN | AK126: =IFERROR(SUM(J126:L126)/COUNTIF(J126:L126,">0"),) | AL126: =IFERROR(SUM(M126:O126)/COUNTIF(M126:O126,">0"),) | AM126: =IFERROR(SUM(P126:R126)/COUNTIF(P126:R126,">0"),) | AN126: =IFERROR(SUM(S126:U126)/COUNTIF(S126:U126,">0"),) | AO126: =IFERROR(SUM(V126:X126)/COUNTIF(V126:X126,">0"),) | AP126: =IFERROR(SUM(Y126:AA126)/COUNTIF(Y126:AA126,">0"),) | AQ126: =IFERROR(SUM(AB126:AD126)/COUNTIF(AB126:AD126,">0"),) | AR126: =IFERROR(SUM(AE126:AG126)/COUNTIF(AE126:AG126,">0"),) | AS126: =IFERROR(SUM(AH126:AJ126)/COUNTIF(AH126:AJ126,">0"),)

Sheet ppm
J1: Alex Kontrolle 14 | K1: Alex Kontrolle 14 | L1: Alex Kontrolle 14 | M1: Alex Kontrolle 15 | N1: Alex Kontrolle 15 | O1: Alex Kontrolle 15 | P1: Alex Kontrolle 27 | Q1: Alex Kontrolle 27 | R1: Alex Kontrolle 27 | S1: Alex Poly P 7 | T1: Alex Poly P 7 | U1: Alex Poly P 7 | V1: Alex Poly P 8 | W1: Alex Poly P 8 | X1: Alex Poly P 8 | Y1: Alex Poly P 25 | Z1: Alex Poly P 25 | AA1: Alex Poly P 25 | AB1: Alex Karz 33 | AC1: Alex Karz 33 | AD1: Alex Karz 33 | AE1: Alex Karz 39 | AF1: Alex Karz 39 | AG1: Alex Karz 39 | AH1: Alex Karz 40 | AI1: Alex Karz 40 | AJ1: Alex Karz 40 | AK1: Alex Kontrolle 14 | AL1: Alex Kontrolle 15 | AM1: Alex Kontrolle 27 | AN1: Alex Poly P 7 | AO1: Alex Poly P 8 | AP1: Alex Poly P 25 | AQ1: Alex Karz 33 | AR1: Alex Karz 39 | AS1: Alex Karz 40
A2: description | B2: IEP | C2: mw | D2: max score | E2: accession | F2: reported peptides | G2: sequence coverage | H2: FDR level | I2: entry | J2: 01 Kontrolle 14 1 | K2: 01 Kontrolle 14 2 | L2: 01 Kontrolle 14 3 | M2: 02 Kontrolle 15 1 | N2: 02 Kontrolle 15 2 | O2: 02 Kontrolle 15 3 | P2: 03 Kontrolle 27 1 | Q2: 03 Kontrolle 27 2 | R2: 03 Kontrolle 27 3 | S2: 04 Polyp 7 1 | T2: 04 Polyp 7 2 | U2: 04 Polyp 7 3 | V2: 05 Polyp 8 1 | W2: 05 Polyp 8 2 | X2: 05 Polyp 8 3 | Y2: 06 Polyp 25 1 | Z2: 06 Polyp 25 2 | AA2: 06 Polyp 25 3 | AB2: 07 Karz 33 1 | AC2: 07 Karz 33 2 | AD2: 07 Karz 33 3 | AE2: 08 Karz 39 1 | AF2: 08 Karz 39 2 | AG2: 08 Karz 39 3 | AH2: 09 Karz 40 1 | AI2: 09 Karz 40 2 | AJ2: 09 Karz 40 3 | AK2: AVERAGE 01 Kontrolle 14 | AL2: AVERAGE 02 Kontrolle 15 | AM2: AVERAGE 03 Kontrolle 27 | AN2: AVERAGE 04 Polyp 7 | AO2: AVERAGE 05 Polyp 8 | AP2: AVERAGE 06 Polyp 25 | AQ2: AVERAGE 07 Karz 33 | AR2: AVERAGE 08 Karz 39 | AS2: AVERAGE 09 Karz 40
A3: Transthyretin OS=Homo sapiens GN=TTR PE=1 SV=1 | B3: 5.4 | C3: 16001.098 | D3: 72153.63 | E3: P02766 | F3: 8 | G3: 73.47 | H3: 0 | I3: TTHY_HUMAN | J3: 10701.78 | K3: 4930.9373 | L3: 4393.2228 | M3: 2510.3109 | N3: 4187.1913 | O3: 3793.0243 | P3: 18.547344 | Q3: 183.47244 | R3: 116.6863 | S3: 1795.6753 | T3: 6878.2427 | U3: 1335.2191 | V3: 25034.346 | W3: 3757.9136 | X3: 4743.0497 | Y3: 414.32846 | Z3: 260.02036 | AA3: 980.03653 | AB3: 228.85137 | AC3: 75.225991 | AE3: 90.407233 | AF3: 418.79537 | AG3: 548.48441 | AI3: 417.91848 | AJ3: 82.472303 | AK3: =IFERROR(SUM(J3:L3)/COUNTIF(J3:L3,">0"),) | AL3: =IFERROR(SUM(M3:O3)/COUNTIF(M3:O3,">0"),) | AM3: =IFERROR(SUM(P3:R3)/COUNTIF(P3:R3,">0"),) | AN3: =IFERROR(SUM(S3:U3)/COUNTIF(S3:U3,">0"),) | AO3: =IFERROR(SUM(V3:X3)/COUNTIF(V3:X3,">0"),) | AP3: =IFERROR(SUM(Y3:AA3)/COUNTIF(Y3:AA3,">0"),) | AQ3: =IFERROR(SUM(AB3:AD3)/COUNTIF(AB3:AD3,">0"),) | AR3: =IFERROR(SUM(AE3:AG3)/COUNTIF(AE3:AG3,">0"),) | AS3: =IFERROR(SUM(AH3:AJ3)/COUNTIF(AH3:AJ3,">0"),)
A4: Zinc-alpha-2-glycoprotein OS=Homo sapiens GN=AZGP1 PE=1 SV=2 | B4: 5.64 | C4: 34486.872 | D4: 49082.86 | E4: P25311 | F4: 21 | G4: 79.53 | H4: 0 | I4: ZA2G_HUMAN | J4: 35664.149 | K4: 29237.556 | L4: 36886.333 | M4: 30433.645 | N4: 28025.286 | O4: 33428.528 | P4: 27173.787 | Q4: 24044.83 | R4: 25153.156 | S4: 15290.94 | T4: 17177.47 | U4: 23374.367 | V4: 26197.973 | W4: 27786.208 | X4: 26476.214 | Y4: 22791.227 | Z4: 21752.789 | AA4: 31852.57 | AB4: 56425.99 | AC4: 77012.476 | AD4: 67758.053 | AE4: 29465.356 | AF4: 24482.582 | AG4: 28617.995 | AH4: 28497.881 | AI4: 27269.908 | AJ4: 27836.18 | AK4: =IFERROR(SUM(J4:L4)/COUNTIF(J4:L4,">0"),) | AL4: =IFERROR(SUM(M4:O4)/COUNTIF(M4:O4,">0"),) | AM4: =IFERROR(SUM(P4:R4)/COUNTIF(P4:R4,">0"),) | AN4: =IFERROR(SUM(S4:U4)/COUNTIF(S4:U4,">0"),) | AO4: =IFERROR(SUM(V4:X4)/COUNTIF(V4:X4,">0"),) | AP4: =IFERROR(SUM(Y4:AA4)/COUNTIF(Y4:AA4,">0"),) | AQ4: =IFERROR(SUM(AB4:AD4)/COUNTIF(AB4:AD4,">0"),) | AR4: =IFERROR(SUM(AE4:AG4)/COUNTIF(AE4:AG4,">0"),) | AS4: =IFERROR(SUM(AH4:AJ4)/COUNTIF(AH4:AJ4,">0"),)
A5: Leucine-rich alpha-2-glycoprotein OS=Homo sapiens GN=LRG1 PE=1 SV=2 | B5: 6.5 | C5: 38406.063 | D5: 37983.68 | E5: P02750 | F5: 18 | G5: 65.99 | H5: 0 | I5: A2GL_HUMAN | J5: 18969.862 | K5: 23558.712 | L5: 14911.515 | M5: 20445.112 | N5: 15738.983 | O5: 14830.666 | P5: 37161.839 | Q5: 33021.178 | R5: 25202.396 | S5: 4016.4056 | T5: 5507.5009 | U5: 5792.188 | V5: 10031.995 | W5: 10812.126 | X5: 8474.879 | Y5: 24288.577 | Z5: 15139.026 | AA5: 18026.224 | AB5: 71011.043 | AC5: 52699.823 | AD5: 43704.554 | AE5: 26030.209 | AF5: 22563.915 | AG5: 18762.121 | AH5: 131994.57 | AI5: 100179.3 | AJ5: 69187.287 | AK5: =IFERROR(SUM(J5:L5)/COUNTIF(J5:L5,">0"),) | AL5: =IFERROR(SUM(M5:O5)/COUNTIF(M5:O5,">0"),) | AM5: =IFERROR(SUM(P5:R5)/COUNTIF(P5:R5,">0"),) | AN5: =IFERROR(SUM(S5:U5)/COUNTIF(S5:U5,">0"),) | AO5: =IFERROR(SUM(V5:X5)/COUNTIF(V5:X5,">0"),) | AP5: =IFERROR(SUM(Y5:AA5)/COUNTIF(Y5:AA5,">0"),) | AQ5: =IFERROR(SUM(AB5:AD5)/COUNTIF(AB5:AD5,">0"),) | AR5: =IFERROR(SUM(AE5:AG5)/COUNTIF(AE5:AG5,">0"),) | AS5: =IFERROR(SUM(AH5:AJ5)/COUNTIF(AH5:AJ5,">0"),)
A6: Apolipoprotein A-IV OS=Homo sapiens GN=APOA4 PE=1 SV=3 | B6: 5.11 | C6: 45399.118 | D6: 37898.54 | E6: P06727 | F6: 33 | G6: 88.38 | H6: 0 | I6: APOA4_HUMAN | J6: 32696.794 | K6: 28248.902 | L6: 26567.74 | M6: 17361.648 | N6: 20916.503 | O6: 18720.367 | P6: 7476.8753 | Q6: 8100.5978 | R6: 8898.7999 | S6: 4012.2193 | T6: 2308.3985 | U6: 5501.9646 | V6: 28874.761 | W6: 38143.068 | X6: 33412.843 | Y6: 12572.49 | Z6: 10051.719 | AA6: 12350.727 | AB6: 6534.9547 | AC6: 7818.813 | AD6: 11790.939 | AE6: 16333.458 | AF6: 17786.4 | AG6: 16314.705 | AH6: 16061.133 | AI6: 16949.353 | AJ6: 15797.737 | AK6: =IFERROR(SUM(J6:L6)/COUNTIF(J6:L6,">0"),) | AL6: =IFERROR(SUM(M6:O6)/COUNTIF(M6:O6,">0"),) | AM6: =IFERROR(SUM(P6:R6)/COUNTIF(P6:R6,">0"),) | AN6: =IFERROR(SUM(S6:U6)/COUNTIF(S6:U6,">0"),) | AO6: =IFERROR(SUM(V6:X6)/COUNTIF(V6:X6,">0"),) | AP6: =IFERROR(SUM(Y6:AA6)/COUNTIF(Y6:AA6,">0"),) | AQ6: =IFERROR(SUM(AB6:AD6)/COUNTIF(AB6:AD6,">0"),) | AR6: =IFERROR(SUM(AE6:AG6)/COUNTIF(AE6:AG6,">0"),) | AS6: =IFERROR(SUM(AH6:AJ6)/COUNTIF(AH6:AJ6,">0"),)
A7: Ceruloplasmin OS=Homo sapiens GN=CP PE=1 SV=1 | B7: 5.34 | C7: 123060.8 | D7: 35552.6 | E7: P00450 | F7: 54 | G7: 71.46 | H7: 0 | I7: CERU_HUMAN | J7: 205161.36 | K7: 203525.4 | L7: 232785.33 | M7: 243811.1 | N7: 204746.59 | O7: 273947.1 | P7: 260290.89 | Q7: 340036.16 | R7: 342007.32 | S7: 217172.1 | T7: 258464.55 | U7: 315914.32 | V7: 178503.76 | W7: 202780.09 | X7: 218410.58 | Y7: 111608.36 | Z7: 156379.02 | AA7: 146669.14 | AB7: 151542.91 | AC7: 122374.5 | AD7: 237032.39 | AE7: 312287.13 | AF7: 244627.86 | AG7: 313642.09 | AH7: 117710.98 | AI7: 103684.52 | AJ7: 130655.54 | AK7: =IFERROR(SUM(J7:L7)/COUNTIF(J7:L7,">0"),) | AL7: =IFERROR(SUM(M7:O7)/COUNTIF(M7:O7,">0"),) | AM7: =IFERROR(SUM(P7:R7)/COUNTIF(P7:R7,">0"),) | AN7: =IFERROR(SUM(S7:U7)/COUNTIF(S7:U7,">0"),) | AO7: =IFERROR(SUM(V7:X7)/COUNTIF(V7:X7,">0"),) | AP7: =IFERROR(SUM(Y7:AA7)/COUNTIF(Y7:AA7,">0"),) | AQ7: =IFERROR(SUM(AB7:AD7)/COUNTIF(AB7:AD7,">0"),) | AR7: =IFERROR(SUM(AE7:AG7)/COUNTIF(AE7:AG7,">0"),) | AS7: =IFERROR(SUM(AH7:AJ7)/COUNTIF(AH7:AJ7,">0"),)
